Workbook
Name Geo: 'Action Plan'!$B$3:$S$115
Name iohjiohp988i: 'Gantt Chart'!$A$2:$X$34
Name List_CBuilding: '[1]Basic Data'!$D$31
Name List_CBuilding: Definitions!$E$34
Name List_Component: '[1]Basic Data'!#REF!
Name List_Component: Definitions!#REF!
Name List_Empty: '[1]Basic Data'!$B$4
Name List_Empty: Definitions!$C$5
Name List_Financial: '[1]Basic Data'!$B$31:$B$34
Name List_Financial: Definitions!$C$34:$C$37
Name List_Legal: '[1]Basic Data'!$C$31
Name List_Legal: Definitions!$D$34
Name List_Monitoring: '[1]Basic Data'!$C$17:$C$19
Name List_Monitoring: Definitions!$D$21:$D$25
Name List_Prevention: '[1]Basic Data'!$A$17:$A$22
Name List_Prevention: Definitions!$B$21:$B$27
Name List_Recycling: '[1]Basic Data'!$B$17:$B$25
Name List_Recycling: Definitions!$C$21:$C$29
Name List_Technical: '[1]Basic Data'!$A$31:$A$33
Name List_Technical: Definitions!$B$34:$B$37
Name List_TypeWP: '[1]Basic Data'!#REF!
Name List_TypeWP: Definitions!#REF!
Name NDSKJHFLASOHA: 'Action Plan'!$3:$4
Name onoiüiojü: 'Gantt Chart'!$A$2:$X$34
Name sdadAF: 'Action Plan'!$B$3:$S$115
Name Status_of_implementation: Definitions!#REF!
Name vdxfADA: Definitions!$A$2:$F$59
Name WP_completion_rate_0: Definitions!#REF!
Name WP_completion_rate_100: Definitions!#REF!
Name WP_completion_rate_25_75: Definitions!#REF!
Name WP_completion_rate_postponed: Definitions!#REF!
Name WP_success: Definitions!#REF!

Sheet Definitions
G1: დანართი N2
A2: ქ. თბილისის მუნიციპალური ნარჩენების მართვის სამოქმედო გეგმა (2025-2030 წ.წ.)
A3: განმარტებები
A5: აბრევიატურები
B7: AP = Action Plan/სამოქმედო გეგმა
B8: CDW = Construction and Demolition Waste/სამშენებლო და ნგრევის ნარჩენები
B9: EPR = Extended Producer Responsibility/მწარმოებლის გაფართოებული ვალდებულება (მგვ)
B10: HHW = Household waste/საყოფაცხოვრებო ნარჩენები
B11: HW = Hazardous Waste/სახიფათო ნარჩენები
B12: NPWPP = National Plastic Waste Prevention Program for Georgia/პლასტმასის ნარჩენების პრევენციის ეროვნული პროგრამა, საქართველო
B13: WEEE = Waste of Electrical and Electronic Equipment/ელექტრო და ელექტრონული მოწყობილობების ნარჩენები
B14: WP = Work Package/სამუშაო პაკეტი (აქტივობათა ერთობლიობა)
A16: სამოქმედო გეგმა
B18: სტრატეგიული კომპონენტი
B19: 1 - პრევენცია | C19: 2 - რეციკლირება & დამუშავება | D19: 3 - მონიტორინგი
B20: ქვეკომპონენტი
B21: ზოგადი | C21: ზოგადი | D21: ზოგადი
B22: საკვების ნარჩენები | C22: საყოფაცხოვრებო და კომერციული ნარჩენები | D22: საყოფაცხოვრებო და კომერციული ნარჩენები
B23: ქაღალდის ნარჩენები | C23: მგვ ნაკადები | D23: მგვ ნაკადები
B24: შეფუთვის ნარჩენები | C24: მწვანე და ბაზრის ნარჩენები | D24: სამშენებლო და ნგრევის ნარჩენები
B25: ელექტრო და ელექტრონული მოწყობილობების ნარჩენები | C25: მოცულობითი ნარჩენი | D25: საყოფაცხოვრებო სექტორის მიერ წარმოქმნილი სახიფათო ნარჩენები
B26: პლასტმასის ნარჩენები | C26: სამშენებლო და ნგრევის ნარჩენები
B27: სხვა | C27: საყოფაცხოვრებო სექტორის მიერ წარმოქმნილი სახიფათო ნარჩენები
C28: ბიოდეგრადირებადი ნარჩენები
C29: სხვა
B31: სამუშაო პაკეტის ტიპი
B32: ტექნიკური | C32: ფინანსური | D32: საკანონმდებლო & ინსტიტუციური | E32: შესაძლებლობების გაძლიერება
B33: სამუშაო პაკეტის თემატური სფერო
B34: შეგროვება & ტრანსპორტირება | C34: ტარიფები | D34: - | E34: -
B35: დამუშავება | C35: ხარჯები
B36: განთავსება | C36: შემოსავლები
B37: ყველა კომპონენტი (შეგროვებიდან განთავსებამდე) | C37: დაფინანსება/სესხები
C38: შემოსავლები: მოსახლეობა/კომერციული სექტორი/რეციკლირებადი მასალები/მგვ-ს ნაკადები
B40: პრიორიტეტულობა | C40: ხანგრძლივობა | D40: მიმდინარე ხარჯები
B41: დაბალი | C41: < 1 წელი | D41: < 50.000 EUR
B42: საშუალო | C42: 1-3 წელი | D42: 50.000-150.000 EUR
B43: მაღალი | C43: > 3 წელი | D43: > 150.000 EUR
B45: განხორციელების დასრულების წელი | D45: განმახორციელებელი | E45: აბრევიატურები
B46: 2025 | D46: TCH / TSG | E46: თბილისის მერია/თბილსერვის ჯგუფი
B47: 2027 | D47: MEPA | E47: საქართველოს გარემოს დაცვისა და სოფლის მეურნეობის სამინისტრო
B48: 2030 | D48: TCH and MEPA | E48: თბილისის მერია და საქართველოს გარემოს დაცვისა და სოფლის მეურნეობის სამინისტრო
D49: MoF | E49: საქართველოს ფინანსთა სამინისტრო
D50: MoESD | E50: საქართველოს ეკონომიკისა და მდგრადი განვითარების სამინისტრო
D51: MoLHSD | E51: საქართველოს შრომის, ჯანმრთელობისა და სოციალური დაცვის სამინისტრო
D52: MRDI | E52: საქართველოს რეგიონული განვითარებისა და ინფრასტრუქტურის სამინისტრო
D53: Ecoservice | E53: ეკოსერვის ჯგუფი
D54: Producers/PROs | E54: მწარმოებლები/მგვ ორგანიზაციები
D55: Businesses/business associations | E55: ბიზნესი/ბიზნეს ასოციაციები
D56: CSOs/NGOs | E56: სამოქალაქო საზოგადოების/არასამთავრობო ორგანიზაციები
D57: Academia and research institutions | E57: აკადემიური და კვლევითი ინსტიტუტები
D58: Media | E58: მედია

Sheet Action Plan
A2: თბილისის მუნიციპალური ნარჩენების მართვის სამოქმედო გეგმა (2025-2030 წ.წ.) | Q2: დანართი N2
A3: სამოქმედო გეგმა (AP)
A4: WP № | B4: სტრატეგიული კომპონენტი | C4: ქვეკომპონენტი | D4: სამუშაო პაკეტის მიზანი | E4: სამუშაო პაკეტის თემატური სფერო | F4: WP № | G4: სამუშაო პაკეტი (WP)/მოსალოდნელი შედეგი | H4: სამუშაო პაკეტის მიზნობრივი მაჩვენებელი | I4: პრიორიტეტულობა | J4: ხანგრძლივობა | K4: განხორციელების დასრულების წელი | L4: განმახორციელებელი | M4: აქტივობის № | O4: სამუშაო პაკეტის ფარგლებში დაგეგმილი აქტივობები | P4: დაფინანსების პოტენციური წყარო და ტიპი | Q4: ხარჯების შეფასება | R4: ხარჯის სიდიდე | S4: ხარჯებთან დაკავშირებული ინფორმაცია | T4: სამუშაო პაკეტის კოორდინატორი | U4: მონაწილე მხარე/დეპარტამენტი
A5: 1 | B5: 1 - პრევენცია | C5: ზოგადი | D5: ნარჩენების მართვის შესახებ შესაძლებლობების გაძლიერება და ცნობიერების ამაღლება (9) | E5: საზოგადოების ცნობიერების ამაღლების გაუმჯობესება ნარჩენების მართვის საკითხებზე (9.2) | F5: 1 | G5: ნარჩენების პრიორიტეტულ ნაკადებზე (საკვების, ქაღალდის, შეფუთვის და ელექტრო და ელექტრონული მოწყობილობების ნარჩენები) ორიენტირებული საზოგადოების ცნობიერების ამაღლების კამპანიების და ნარჩენების პრევენციის სხვა საინფორმაციო ღონისძიებების დაგეგმვა და განხორციელება | H5: სულ მცირე 2 ცნობიერების ამაღლების კამპანიის ჩატარება | I5: მაღალი | J5: მაღალი | K5: 2030 | L5: თბილისის მერია/თბილსერვის ჯგუფი/მგვ ორგანიზაციები | M5: =F5 -> 1 | N5: a | O5: დაინტერესებულ მხარეთა ჯგუფების გამოვლენა | P5: სახელმწიფო დაფინანსება: მუნიციპალური ბიუჯეტი, საქართველოს ეკონომიკისა და მდგრადი განვითარების სამინისტრო საგრანტო დაფინანსება: EBRD, UN (მაგ., UNDP, FAO, EU), ა.შ. კერძო და არასამთავრობო სექტორები: სტუმარ-მასპინძლობის ბიზნესი, ბანკები, გამომცემლობები, ბიზნეს ასოციაციები, ავტობუსთა გაერთიანება, კორპორაციული სოციალური პასუხისმგებლობის (CSR) კლუბი | Q5: =250*20 -> 5000 | R5: საშუალო | S5: ადგილობრივი კონსულტანტი - 20 კაც/დღე*250 ევრო დღიური ანაზღაურება | T5: განმახორციელებელი განსაზღვრავს სამუშაო პაკეტის კოორდინატორს | U5: თბილისის მერია / თბილსერვის ჯგუფი - საერთაშორისო და საზოგადოებასთან ურთიერთობების დეპარტამენტები / საქართველოს ეკონომიკისა და მდგრადი განვითარების სამინისტრო / საქართველოს გარემოს დაცვისა და სოფლის მეურნეობის სამინისტრო/მგვ ორგანიზაციები
B6: 1 - პრევენცია | C6: ზოგადი | D6: შესაძლებლობების გაძლიერება | E6: - | I6: მაღალი | J6: მაღალი | N6: b | O6: დაინტერესებულ მხარეთა ინფორმირებულობის საჭიროებების შეფასება ინდივიდუალური ჯგუფების მიხედვით | Q6: =250*2*30 -> 15000 | R6: საშუალო | S6: ადგილობრივი კონსულტანტები ან საკონსულტაციო კომპანია (კვლევის ჩასატარებლად) - 30 კაც/დღე*2 კონსულტანტი*250 ევრო დღიური ანაზღაურება
B7: 1 - პრევენცია | C7: ზოგადი | D7: შესაძლებლობების გაძლიერება | E7: - | I7: მაღალი | J7: მაღალი | N7: c | O7: ცნობიერების ამაღლების პროგრამის შემუშავება ძირითადი დაინტერესებული ჯგუფებისათვის | Q7: =250*20 -> 5000 | R7: საშუალო | S7: ადგილობრივი კონსულტანტი - 20 კაც/დღე*250 ევრო დღიური ანაზღაურება
B8: 1 - პრევენცია | C8: ზოგადი | D8: შესაძლებლობების გაძლიერება | E8: - | I8: მაღალი | J8: მაღალი | N8: d | O8: საზოგადოების ინფორმირების/მედია კამპანიის დაგეგმვა | Q8: =250*20 -> 5000 | R8: საშუალო | S8: ადგილობრივი კონსულტანტი - 20 კაც/დღე*250 ევრო დღიური ანაზღაურება
B9: 1 - პრევენცია | C9: ზოგადი | D9: შესაძლებლობების გაძლიერება | E9: - | I9: მაღალი | J9: მაღალი | N9: e | O9: დაინტერესებული მხარეების ცნობიერების ამაღლების პროგრამის განხორციელება მიზნობრივი ჯგუფების მიხედვით (მაგ, სემინარები, შეხვედრები, ბიზნეს ფორუმები და მარათონები, დონორთა კონფერენციები, ა.შ.) | Q9: =1000*5+500*10+10000+10000+10000 -> 40000 | R9: საშუალო | S9: 5 სემინარი სხვადასხვა მიზნობრივი ჯგუფისთვის*1,000 ევრო სემინარის ღირებულება; 10 საკონსულტაციო შეხვედრა მიზნობრივ ჯგუფებთან*500 ევრო თითო შეხვედრის ღირებულება; 1 ბიზნეს მარათონი და დაჯილდოების ცერემონია*10,000 ევრო ღონისძიების ღირებულება; 1 ბიზნეს ფორუმი*10,000 ევრო ღონისძიების ღირებულება; 1 დონორთა კონფერენცია*10,000 ევრო ღონისძიების ღირებულება
B10: 1 - პრევენცია | C10: ზოგადი | D10: შესაძლებლობების გაძლიერება | E10: - | I10: მაღალი | J10: მაღალი | N10: f | O10: ერთწლიანი საინფორმაციო/მედია კამპანიის ჩატარება ნარჩენების პრიორირეტული ნაკადების პრევენციის მიმართულებით | Q10: =20000+300*3*2*26+3300*4 -> 80000 | R10: საშუალო | S10: სარეკლამო კომპანია/აუდიო-ვიზუალური პროდუქციის სტუდია/სატელევიზიო კომპანია საზოგადოებრივი რეკლამის და მოკლე კომერციული ვიდეო რგოლების მოსამზადებლად*20,000 ევრო; რეკლამების გაშვება 6 თვით (დღეში, 3-ჯერ, კვირაში ორჯერ, 26 კვირის მანძილზე)*300 ევრო ნახევარწუთიანი დრო; 4 სატელევიზიო მრგვალი მაგიდის გადაცემა*3,300 ევრო თითო გადაცემა
B11: 1 - პრევენცია | C11: ზოგადი | D11: შესაძლებლობების გაძლიერება | E11: - | I11: მაღალი | J11: მაღალი | O11: ქვეჯამი | Q11: =SUM(Q5:Q10) -> 150000 | R11: საშუალო
A12: 2 | B12: 1 - პრევენცია | C12: ზოგადი | D12: ნარჩენების მართვის შესახებ შესაძლებლობების გაძლიერება და ცნობიერების ამაღლება (9) | E12: ნარჩენების მართვაში ჩართული საჯარო უწყებების შესაძლებლობების გაუმჯობესება (9.1) | F12: 2 | G12: საუკეთესო საერთაშორისო გამოცდილების გაზიარების მიზნით ნარჩენების ტექნიკურ ფორუმებსა და ევროპულ პლატფორმებში მონაწილეობა | H12: სულ მცირე ორი სასწავლო ტურის ჩატარება | I12: დაბალი | J12: მაღალი | K12: 2030 | L12: თბილისის მერია/თბილსერვის ჯგუფი | M12: =F12 -> 2 | N12: a | O12: ნარჩენების მართვის შესახებ ინფორმაციის, გამოცდილებისა და საუკეთესო ევროპული პრაქტიკის გაზიარება (მაგ., სასწავლო ვიზიტი, საერთაშორისო კონფერენციები) | P12: სახელმწიფო დაფინანსება: მუნიციპალური ბიუჯეტი; დონორები: EU, EBRD, UNDP, Sida, ა.შ. | Q12: 20000 | R12: დაბალი | S12: თბილისის მერიის/თბილსერვის ჯგუფის მაქს. 10 თანამშრომლის მონაწილეობით 2 სასწავლო ვიზიტის ორგანიზება, 10,000 ევრო თითოეული ტურისთვის | T12: განმახორციელებელი განსაზღვრავს სამუშაო პაკეტის კოორდინატორს | U12: თბილისის მერია / თბილსერვის ჯგუფი - საერთაშორისო ურთიერთობების დეპარტამენტები
B13: 1 - პრევენცია | C13: ზოგადი | D13: საკანონმდებლო & ინსტიტუციური | E13: - | I13: დაბალი | J13: საშუალო | O13: ქვეჯამი | Q13: =SUM(Q12:Q12) -> 20000 | R13: დაბალი | V13: საშუალო
A14: 3 | B14: 1 - პრევენცია | C14: პლასტიკის ნარჩენები | D14: პლასტიკის ნარჩენების მართვა (11) | E14: პლასტიკის ნარჩენების მართვის სისტემის გაუმჯობესება (11.1) | F14: 3 | G14: პლასტიკის ნარჩენების ნაკადების შეფასება და შესაბამისი რეკომენდაციების შემუშავება | H14: შემუშავებული შეფასების ანგარიში | I14: მაღალი | J14: საშუალო | K14: 2027 | L14: თბილისის მერია/თბილსერვის ჯგუფი | M14: =F14 -> 3 | N14: a | O14: პლასტიკის ნარჩენების პრევენციის ეროვნული პროგრამიდან თბილისისთვის შესაბამისი ნაწილების შერჩევა და რაოდენობრივი მიზნობრივი მაჩვენებლების განსაზღვრა | P14: სახელმწიფო დაფინანსება: მუნიციპალური ბიუჯეტი საგრანტო დაფინანსება: UN (UNDP) | Q14: 15000 | R14: დაბალი | S14: კონსულტანტი | T14: განმახორციელებელი განსაზღვრავს სამუშაო პაკეტის კოორდინატორს | U14: თბილისის მერია - ადმინისტრაცია / თბილსერვის ჯგუფი - ნარჩენების და იურიდიული დეპარტამენტები
B15: 1 - პრევენცია | C15: პლასტმასის ნარჩენები | D15: საკანონმდებლო & ინსტიტუციური | E15: - | I15: მაღალი | J15: საშუალო | N15: b | O15: პლასტიკის ნარჩენების პრევენციის ეროვნული პროგრამიდან თბილისისთვის შერჩეული ნაწილების მიზნობრივი მაჩვენებლების მიღწევის ვარიანტების ანალიზი | R15: დაბალი | S15: კონსულტანტი | U15: განისაზღვრება სამუშაო პაკეტის კოორდინატორის მიერ
B16: 1 - პრევენცია | C16: პლასტმასის ნარჩენები | D16: საკანონმდებლო & ინსტიტუციური | E16: - | I16: მაღალი | J16: საშუალო | N16: c | O16: შერჩეული ვარიანტების ფაზებად განხორციელება | Q16: ? | R16: დაბალი | S16: განისაზღვრება a და b აქტივობების განხორციელების შემდეგ | U16: განისაზღვრება სამუშაო პაკეტის კოორდინატორის მიერ
B17: 1 - პრევენცია | C17: პლასტმასის ნარჩენები | D17: საკანონმდებლო & ინსტიტუციური | E17: - | I17: მაღალი | J17: საშუალო | O17: ქვეჯამი | Q17: =SUM(Q14:Q16) -> 15000 | R17: დაბალი
A18: 4 | B18: 2 - რეციკლირება & დამუშავება | C18: საყოფაცხოვრებო და კომერციული ნარჩენები | D18: არასახიფათო ნარჩენების ადამიანის ჯანმრთელობისა და გარემოსათვის უსაფრთხო განთავსების უზრუნველყოფა (4) | E18: ახალი რეგიონული არასახიფათო ნარჩენების განთავსების ობიექტების (ნაგავსაყრელების) და გადამტვირთი სადგურების მოწყობა ევროკავშირის მოთხოვნების შესაბამისად (4.1) | F18: 4 | G18: თბილისის დიდი ლილოს ნაგავსაყრელის ნაჟური წყლების (ლიჩეტის) დამუშავების სისტემის გაუმჯობესება | H18: თბილსის დიდი ლილოს ნაგავსაყრელზე არსებული ნაჟური წყლების (ლიჩეტის) დამუშავების სისტემის განახლება, ნაგავსაყრელზე არსებული ლიჩეტის გაწმენდა და მისი რაოდენობის შემცირება, გაწმენდილი წყლის წყალარინების სისტემაში ჩაშვება. | I18: მაღალი | J18: დაბალი | K18: 2026 | L18: თბილისის მერია/თბილსერვის ჯგუფი | M18: =F18 -> 4 | N18: a | O18: სატენდერო დოკუმენტაციის შემუშავება , ტენდერის ჩატარება და კონტრაქტორის გამოვლენა | P18: საგრანტო და სასესხო დაფინანსება: EBRD | Q18: 98500 | R18: მაღალი | S18: ტექნიკური დახმარება: საერთაშორისო კონსულტანტი | T18: განმახორციელებელი განსაზღვრავს სამუშაო პაკეტის კოორდინატორს | U18: განისაზღვრება სამუშაო პაკეტის კოორდინატორის მიერ
B19: 2 - რეციკლირება & დამუშავება | C19: საყოფაცხოვრებო და კომერციული ნარჩენები | D19: ფინანსური | E19: ტარიფები | I19: მაღალი | J19: საშუალო | N19: b | O19: თბილისის დიდი ლილოს ნაგავსაყრელის ნაჟური წყლების სისტემის მოწყობის სამუშაოების განხორციელება | Q19: 6466750 | R19: დაბალი | S19: კონტრაქტორი კომპანია | U19: განისაზღვრება სამუშაო პაკეტის კოორდინატორის მიერ
B20: 2 - რეციკლირება & დამუშავება | C20: საყოფაცხოვრებო და კომერციული ნარჩენები | D20: ფინანსური | E20: ტარიფები | I20: მაღალი | J20: საშუალო | O20: ქვეჯამი | Q20: =SUM(Q18:Q19) -> 6565250 | R20: დაბალი
A21: 5 | B21: 2 - რეციკლირება & დამუშავება | C21: საყოფაცხოვრებო და კომერციული ნარჩენები | D21: არასახიფათო ნარჩენების ადამიანის ჯანმრთელობისა და გარემოსათვის უსაფრთხო განთავსების უზრუნველყოფა (4) | E21: ახალი რეგიონული არასახიფათო ნარჩენების განთავსების ობიექტების (ნაგავსაყრელების) და გადამტვირთი სადგურების მოწყობა ევროკავშირის მოთხოვნების შესაბამისად (4.1) | F21: 5 | G21: ა.ბელიაშვილის ქუჩაზე მდებარე ნარჩენების გადამტვირთი სადგურის რეაბილიტაცია | H21: არსებული გადამტვირთი სადგურის და მიმდებარე ტერიტორიის გარემონტება, ნარჩენების გადატვირთვის პროცესის დაჩქარება, გადამტვირთი კონტეინერების დატვირთვის ოპტიმიზაცია, გადამტვირთი კონტეინერების ბუფერული მოცულობის უზრუნველყოფა. | I21: მაღალი | J21: დაბალი | K21: 2026 | L21: თბილისის მერია/თბილსერვის ჯგუფი | M21: =F21 -> 5 | N21: a | O21: სატენდერო დოკუმენტაციის შემუშავება , ტენდერის ჩატარება და კონტრაქტორის გამოვლენა | P21: საგრანტო და სასესხო დაფინანსება: EBRD | Q21: 98500 | R21: მაღალი | S21: საერთაშორისო კონსულტანტი | T21: განმახორციელებელი განსაზღვრავს სამუშაო პაკეტის კოორდინატორს | U21: თბილისის მერია / თბილსერვის ჯგუფი - საფინანსო და მოსაკრებლის დარიცხვა-ამოღებისა და კონტროლის სამსახურები
B22: 2 - რეციკლირება & დამუშავება | C22: საყოფაცხოვრებო და კომერციული ნარჩენები | D22: ფინანსური | E22: ტარიფები | I22: მაღალი | J22: საშუალო | N22: b | O22: გადამტვირთავი სადგურის რეაბილიტაციის სამუშაოების განხორციელება | Q22: 5680093 | R22: დაბალი | S22: კონტრაქტორი კომპანია | U22: თბილისის მერია / თბილსერვის ჯგუფი - საფინანსო და მოსაკრებლის დარიცხვა-ამოღებისა და კონტროლის სამსახურები
B23: 2 - რეციკლირება & დამუშავება | C23: საყოფაცხოვრებო და კომერციული ნარჩენები | D23: ფინანსური | E23: ტარიფები | I23: მაღალი | J23: საშუალო | O23: ქვეჯამი | Q23: =SUM(Q21:Q22) -> 5778593 | R23: დაბალი
A24: 6 | B24: 2 - რეციკლირება & დამუშავება | C24: მგვ ნაკადები | D24: ნარჩენების შეგროვების და ტრანსპორტირების ეფექტიანი სისტემის ჩამოყალიბება და დანერგვა (3) | E24: მუნიციპალური ნარჩენების შეგროვების სისტემის გაუმჯობესება (3.1) | F24: 6 | G24: მგვ ორგანიზაციებთან მოლაპარაკება EPR/მგვ-ს სქემიდან თბილსერვის ჯგუფის მიერ შეფუთვის ნარჩენების მართვის ხარჯების დასაფარად საჭირო დაფინანსების მიღების მიზნით (სეპარირებული შეგროვების, ტრანსპორტირების, და ასევე, დამუშავების ჩათვლით) | H24: 2030 წლისთვის, ხარჯების ამოღების უზრუნველყოფა მყარი მუნიციპალური ნარჩენების ეფექტური მართვისთვის | I24: მაღალი | J24: მაღალი | K24: 2030 | L24: თბილისის მერია/თბილსერვის ჯგუფი | M24: =F24 -> 6 | N24: a | O24: მგვ ორგანიზაციასა და საქართველოს გარემოს დაცვისა და სოფლის მეურნეობის სამინისტროსთან მოლაპარაკების დაწყება EPR/მგვ-ს სქემიდან თბილსერვის ჯგუფის მიერ შეფუთვის ნარჩენების მართვის ხარჯების დასაფარად საჭირო დაფინანსების მიღების მიზნით | P24: სახელმწიფო დაფინანსება: მუნიციპალური ბიუჯეტი | Q24: 0 | T24: განმახორციელებელი განსაზღვრავს სამუშაო პაკეტის კოორდინატორს | U24: თბილსერვის ჯგუფი / თბილისის მერია - იურიდიული სამსახურები / საქართველოს გარემოს დაცვისა და სოფლის მეურნეობის სამინისტრო / მგვ ორგანიზაციები
B25: 2 - რეციკლირება & დამუშავება | C25: მგვ ნაკადები | D25: ფინანსური | E25: შემოსავლები | I25: მაღალი | J25: მაღალი | N25: b | O25: მგვ ორგანიზაციასთან ხელშეკრულების გაფორმება | Q25: 0 | U25: განისაზღვრება სამუშაო პაკეტის კოორდინატორის მიერ
B26: 2 - რეციკლირება & დამუშავება | C26: მგვ ნაკადები | D26: ფინანსური | E26: შემოსავლები | I26: მაღალი | J26: მაღალი | O26: ქვეჯამი | Q26: =SUM(Q24:Q25) -> 0
A27: 7 | B27: 2 - რეციკლირება & დამუშავება | C27: საყოფაცხოვრებო და კომერციული ნარჩენები | D27: ნარჩენების მართვის ხარჯების სრული ამოღება "დამბინძურებელი იხდის" პრინციპის შესაბამისად (6) | E27: თითოეულ მუნიციპალიტეტში ნარჩენების მართვის ხარჯების ამოღების სისტემის გაუმჯობესება (6.1) | F27: 7 | G27: ნარჩენების სეპარაციითა და დამუშავებით მიღებული რეციკლირებადი მასალების გაყიდვის პირობების განსაზღვრა (ხარისხი და რაოდენობა) | H27: თითოეული რეციკლირებადი მასალისათვის კონტრაქტის არსებობა | I27: მაღალი | J27: მაღალი | K27: 2030 | L27: თბილისის მერია/თბილსერვის ჯგუფი | M27: =F27 -> 7 | N27: a | O27: ბაზრის ანალიზის ჩატარება, ნარჩენების სეპარაციითა და დამუშავებით მიღებული რეციკლირებადი მასალების გაყიდვის პირობების განსაზღვრის მიზნით (ხარისხი და რაოდენობა) | P27: სახელმწიფო დაფინანსება: მუნიციპალური ბიუჯეტი | Q27: 30000 | R27: დაბალი | S27: კონსულტანტი | T27: განმახორციელებელი განსაზღვრავს სამუშაო პაკეტის კოორდინატორს | U27: თბილსერვის ჯგუფი - იურიდიული სამსახური და ადმინისტრაცია
B28: 2 - რეციკლირება & დამუშავება | C28: საყოფაცხოვრებო და კომერციული ნარჩენები | D28: ფინანსური | E28: შემოსავლები | I28: მაღალი | J28: მაღალი | N28: b | O28: მიწოდების პირობების მოლაპარაკება/შეთანხმება რეციკლირების საწარმოებთან | R28: დაბალი | U28: განისაზღვრება სამუშაო პაკეტის კოორდინატორის მიერ
B29: 2 - რეციკლირება & დამუშავება | C29: საყოფაცხოვრებო და კომერციული ნარჩენები | D29: ფინანსური | E29: შემოსავლები | I29: მაღალი | J29: მაღალი | N29: c | O29: რეციკლირების საწარმოებთან გასაფორმებელი კონტრაქტების შემუშავება | R29: დაბალი | U29: განისაზღვრება სამუშაო პაკეტის კოორდინატორის მიერ
B30: 2 - რეციკლირება & დამუშავება | C30: საყოფაცხოვრებო და კომერციული ნარჩენები | D30: ფინანსური | E30: შემოსავლები | I30: მაღალი | J30: მაღალი | N30: d | O30: კონტრაქტების გაფორმება | Q30: 0 | R30: დაბალი | U30: განისაზღვრება სამუშაო პაკეტის კოორდინატორის მიერ
B31: 2 - რეციკლირება & დამუშავება | C31: საყოფაცხოვრებო და კომერციული ნარჩენები | D31: ფინანსური | E31: შემოსავლები | I31: მაღალი | J31: მაღალი | O31: ქვეჯამი | Q31: =SUM(Q27:Q30) -> 30000 | R31: დაბალი
A32: 8 | B32: 2 - რეციკლირება & დამუშავება | C32: საყოფაცხოვრებო და კომერციული ნარჩენები | D32: არასახიფათო ნარჩენების ადამიანის ჯანმრთელობისა და გარემოსათვის უსაფრთხო განთავსების უზრუნველყოფა (4) | E32: (ახალი რეგიონული არასახიფათო ნარჩენების განთავსების ობიექტების (ნაგავსაყრელები) და გადამტვირთავი სადგურების მოწყობა ევროკავშირის სტანდარტების შესაბამისად და არსებული ნაგავსაყრელების გაუმჯობესება/ოპერირება და ეტაპობრივი დახურვა (4.2) | F32: 8 | G32: თბილისის საყოფაცხოვრებო ნარჩენების პოლიგონზე გაზშემკრები სისტემის მოწყობა | H32: თბილისის დიდი ლილოს ნაგავსაყრელზე არსებული 1-ლი, მე-2 და მე-3 უჯრედების საბოლოო გადაფარვა და მათზე გაზშემკრების სისტემის მოწყობა. | I32: მაღალი | J32: მაღალი | K32: 2029 | L32: თბილისის მერია/თბილსერვის ჯგუფი | M32: =F32 -> 8 | N32: a | O32: საკონსულტაციო და საზედამხედველო კომპანიის შერჩევა | P32: საგრანტო და სასესხო დაფინანსება: EBRD | Q32: 0 | R32: მაღალი | T32: განმახორციელებელი განსაზღვრავს სამუშაო პაკეტის კოორდინატორს | U32: თბილსერვის ჯგუფი - საერთაშორისო ურთიოერთობების სამსახური; თბილისის მერია - გარემოს დაცვის საქალაქო სამსახური; EBRD.
B33: 2 - რეციკლირება & დამუშავება | C33: საყოფაცხოვრებო და კომერციული ნარჩენები | D33: ფინანსური | E33: დაფინანსება/ სესხები | I33: საშუალო | J33: საშუალო | N33: b | O33: შერჩეული კონსულტანტის მიერ საერთაშორისო სამშენებლო ტენდერისთვის ტექნიკური სპეციფიკაციებისა და სატენდერო დოკუმენტაციის შემუშავება, ტენდერის ჩატარება და სამშენებლო კომპანიის შერჩევა | Q33: 2000000 | R33: საშუალო | S33: საერთაშრისო საკონსულტაციო და საზედამხედველო კომპანია | U33: თბილსერვის ჯგუფი - საერთაშორისო ურთიოერთობების სამსახური; EBRD და კონსულტანტი.
B34: 2 - რეციკლირება & დამუშავება | C34: საყოფაცხოვრებო და კომერციული ნარჩენები | D34: ფინანსური | E34: დაფინანსება/ სესხები | I34: საშუალო | J34: საშუალო | N34: c | O34: საყოფაცხოვრებო ნაგავსაყრელზე არსებული 1-ლი, მე-2 და მე-3 უჯრედების საბოლოო გადაფარვა და გაზშემკრები სისტემის მოწყობა | Q34: =20000000-1800000 -> 18200000 | R34: საშუალო | S34: კონტრაქტორი | U34: თბილსერვის ჯგუფი - საერთაშორისო ურთიოერთობების სამსახური; თბილისის მერია - გარემოს დაცვის საქალაქო სამსახური; EBRD და კონტრაქტორი.
B35: 2 - რეციკლირება & დამუშავება | C35: საყოფაცხოვრებო და კომერციული ნარჩენები | D35: ფინანსური | E35: დაფინანსება/ სესხები | I35: საშუალო | J35: საშუალო | O35: ქვეჯამი | Q35: =SUM(Q32:Q34) -> 20200000 | R35: საშუალო
A36: 9 | B36: 2 - რეციკლირება & დამუშავება | C36: საყოფაცხოვრებო და კომერციული ნარჩენები | D36: ნარჩენების მართვის დაგეგმვის სისტემის ჩამოყალიბება ეროვნულ და ადგილობრივ დონეებზე (2) | E36: კერძო და საჯარო სექტორის თანამშრომლობის ხელშეწყობა (2.2) | F36: 9 | G36: მყარი მუნიციპალური ნარჩენების პრევენციაში, რეციკლირებასა და დამუშავებაში კერძო სექტორის ჩართვის ვარიანტების/მექანიზმების გამოვლენა, თბილისის ნარჩენების პრევენციისა და რეციკლირების სტრატეგიაში რეკომენდებული სცენარების შესაბამისად (შეგროვება, ტრანსპორტირება, დამუშავება და განთავსება) | H36: კონტრაქტები კერძო კომპანიებთან | I36: მაღალი | J36: საშუალო | K36: 2027 | L36: თბილისის მერია/თბილსერვის ჯგუფი | M36: =F36 -> 9 | N36: a | O36: კერძო სექტორის ჩართულობის სხვადასხვა მოდელისთვის ვარიანტების ანალიზი (მაგ., საჯარო-კერძო პარტნიორობა (PPP) და ა.შ.) | P36: სახელმწიფო დაფინანსება: მუნიციპალური ბიუჯეტი საგრანტო დაფინანსება: EBRD, UN (UNDP), ა.შ. | Q36: 50000 | R36: საშუალო | S36: კონსულტანტი | T36: განმახორციელებელი განსაზღვრავს სამუშაო პაკეტის კოორდინატორს | U36: თბილისის მერია / თბილსერვის ჯგუფი - იურიდიული სამსახურები და ადმინისტრაცია
B37: 2 - რეციკლირება & დამუშავება | C37: საყოფაცხოვრებო და კომერციული ნარჩენები | D37: საკანონმდებლო & ინსტიტუციური | E37: - | I37: მაღალი | J37: საშუალო | N37: b | O37: შერჩეული ვარიანტების ფაზებად განხორციელება | Q37: ? | R37: დაბალი | S37: ხარჯები დამოკიდებულია ვარიანტების ანალიზზე | U37: განისაზღვრება სამუშაო პაკეტის კოორდინატორის მიერ
B38: 2 - რეციკლირება & დამუშავება | C38: საყოფაცხოვრებო და კომერციული ნარჩენები | D38: საკანონმდებლო & ინსტიტუციური | E38: - | I38: მაღალი | J38: საშუალო | N38: c | O38: მყარი მუნიციპალური ნარჩენების პრევენციაში, რეციკლირებასა და დამუშავებაში კერძო სექტორის ჩართულობისთვის ტენდერების ჩატარება, თბილისის ნარჩენების პრევენციისა და რეციკლირების სტრატეგიაში რეკომენდებული სცენარების შესაბამისად (შეგროვება, ტრანსპორტირება, დამუშავება და განთავსება) | Q38: ? | R38: დაბალი | S38: ხარჯები დამოკიდებულია ვარიანტების ანალიზზე | U38: განისაზღვრება სამუშაო პაკეტის კოორდინატორის მიერ
B39: 2 - რეციკლირება & დამუშავება | C39: საყოფაცხოვრებო და კომერციული ნარჩენები | D39: საკანონმდებლო & ინსტიტუციური | E39: - | I39: მაღალი | J39: საშუალო | O39: ქვეჯამი | Q39: =SUM(Q36:Q38) -> 50000 | R39: დაბალი
A40: 10 | B40: 2 - რეციკლირება & დამუშავება | C40: საყოფაცხოვრებო და კომერციული ნარჩენები | D40: ბიოდეგრადირებადი ნარჩენების შეგროვებისა და დამუშავების სისტემების შექმნა და დანერგვა (12) | E40: ბიოდეგრადირებადი ნარჩენების ენერგიად გარდაქმნის ხელშეწყობა (12.2) | F40: 10 | G40: თბილისის საყოფაცხოვრებო ნარჩენების პოლიგონზე მასალების აღდგენი (MRF) და მექანიკურ-ბიოლოგიური დამუშავების ობიექტი (MBT) მშენებლობა და ოპერირება. | H40: თბილისის დიდი ლილოს ნაგავსაყრელზე მასალების აღმდგენი და მექანიკურ-ბიოლოგიური დამუშავების ობიექტების მშენებლობა და ფუნქციონირება; მუნიციპალიტეტის მასშტაბით შეგროვებული საყოფაცხოვრებო ნარჩენების სეპარაცია, დამუშავება და რეციკლირება. | I40: მაღალი | J40: მაღალი | K40: 2029 | L40: თბილისის მერია/თბილსერვის ჯგუფი | M40: =F40 -> 10 | N40: a | O40: საკონსულტაციო და საზედამხედველო კომპანიის შერჩევა | P40: საგრანტო და სასესხო დაფინანსება: EBRD | Q40: 25000 | R40: მაღალი | S40: კონსულტანტი (Procurement Advisory) | T40: განმახორციელებელი განსაზღვრავს სამუშაო პაკეტის კოორდინატორს | U40: თბილისის მერია / თბილსერვის ჯგუფი - საერთაშორისო ურთიერთობების სამსახური / EBRD
B41: 2 - რეციკლირება & დამუშავება | C41: საყოფაცხოვრებო და კომერციული ნარჩენები | D41: საკანონმდებლო & ინსტიტუციური | E41: - | I41: საშუალო | J41: საშუალო | N41: b | O41: შერჩეული კონსულტანტის მიერ საერთაშორისო სამშენებლო ტენდერისთვის ტექნიკური სპეციფიკაციებისა და სატენდერო დოკუმენტაციის შემუშავება, ტენდერის ჩატარება და სამშენებლო კომპანიის შერჩევა | Q41: 1371900 | R41: საშუალო | S41: საერთაშრისო საკონსულტაციო და საზედამხედველო კომპანია | U41: თბილსერვის ჯგუფი - საერთაშორისო ურთიერთობების სამსახური / EBRD და კონსულტანტი
B42: 2 - რეციკლირება & დამუშავება | C42: საყოფაცხოვრებო და კომერციული ნარჩენები | D42: საკანონმდებლო & ინსტიტუციური | E42: - | I42: საშუალო | J42: საშუალო | N42: c | O42: მასალების აღმდგენი და მექანიკურ-ბიოლოგიური დამუშავების ობიექტების მშენებლობა | Q42: 25103100 | R42: საშუალო | S42: კონტრაქტორი | U42: თბილსერვის ჯგუფი - საერთაშორისო ურთიოერთობების სამსახური; EBRD და კონტრაქტორი.
B43: 2 - რეციკლირება & დამუშავება | C43: საყოფაცხოვრებო და კომერციული ნარჩენები | D43: საკანონმდებლო & ინსტიტუციური | E43: - | I43: საშუალო | J43: საშუალო | O43: ქვეჯამი | Q43: =SUM(Q40:Q42) -> 26500000 | R43: საშუალო
A44: 11 | B44: 2 - რეციკლირება & დამუშავება | C44: საყოფაცხოვრებო და კომერციული ნარჩენები | D44: ნარჩენების შეგროვების და ტრანსპორტირების ეფექტიანი სისტემის ჩამოყალიბება და დანერგვა (3) | E44: მუნიციპალური ნარჩენების შეგროვების სისტემის გაუმჯობესება (3.1) | F44: 11 | G44: შეგროვების სერვისის დაფარვის არეალის გაუმჯობესება | H44: 100% 2026 წლისთვის | I44: მაღალი | J44: დაბალი | K44: 2026 | L44: თბილისის მერია/თბილსერვის ჯგუფი | M44: =F44 -> 11 | N44: a | O44: დაუფარავი არეალების გამოვლენა | P44: სახელმწიფო დაფინანსება: მუნიციპალური ბიუჯეტი | Q44: 45000 | R44: დაბალი | S44: კონსულტანტი | T44: განმახორციელებელი განსაზღვრავს სამუშაო პაკეტის კოორდინატორს | U44: თბილსერვის ჯგუფი - მოსაკრებლის დარიცხვა-ამოღებისა და კონტროლის სამსახური
B45: 2 - რეციკლირება & დამუშავება | C45: საყოფაცხოვრებო და კომერციული ნარჩენები | D45: ტექნიკური | E45: შეგროვება & ტრანსპორტირება | I45: მაღალი | J45: საშუალო | N45: b | O45: დამატებითი კონტეინერების და ნაგავმზიდების საჭიროების განსაზღვრა | R45: დაბალი | U45: თბილსერვის ჯგუფი - ნარჩენების ლოჯისტიკისა და დასუფთავების დეპარტამენტი
B46: 2 - რეციკლირება & დამუშავება | C46: საყოფაცხოვრებო და კომერციული ნარჩენები | D46: ტექნიკური | E46: შეგროვება & ტრანსპორტირება | I46: მაღალი | J46: საშუალო | N46: c | O46: დამატებითი აღჭურვილობის შესყიდვა | R46: დაბალი | U46: თბილსერვის ჯგუფი - შესყიდვების სამსახური
B47: 2 - რეციკლირება & დამუშავება | C47: საყოფაცხოვრებო და კომერციული ნარჩენები | D47: ტექნიკური | E47: შეგროვება & ტრანსპორტირება | I47: მაღალი | J47: საშუალო | N47: d | O47: ახალი აღჭურვილობის ინტეგრირება შეგროვებისა და ტრანსპორტირების არსებულ სისტემაში | Q47: 0 | R47: დაბალი | U47: თბილსერვის ჯგუფი - ნარჩენების ლოჯისტიკისა და დასუფთავების დეპარტამენტი / ადმინისტრაცია
B48: 2 - რეციკლირება & დამუშავება | C48: საყოფაცხოვრებო და კომერციული ნარჩენები | D48: ტექნიკური | E48: შეგროვება & ტრანსპორტირება | I48: მაღალი | J48: საშუალო | O48: ქვეჯამი | Q48: =SUM(Q44:Q47) -> 45000 | R48: დაბალი
A49: 12 | B49: 2 - რეციკლირება & დამუშავება | C49: საყოფაცხოვრებო და კომერციული ნარჩენები | D49: ნარჩენების შეგროვების და ტრანსპორტირების ეფექტიანი სისტემის ჩამოყალიბება და დანერგვა (3) | E49: მუნიციპალური ნარჩენების შეგროვების სისტემის გაუმჯობესება (3.1) | F49: 12 | G49: ნარჩენების სეპარირებულად შეგროვება (2-კონტეინერიანი სისტემა) | H49: 50% 2029 წლისთვის; 75% - 2030 წლისთვის. | I49: მაღალი | J49: მაღალი | K49: 2030 | L49: თბილისის მერია/თბილსერვის ჯგუფი | M49: =F49 -> 12 | N49: a | O49: სქემის განხორციელების არეალების გამოვლენა, საყოფაცხოვრებო და კომერციული სექტორებისათვის ცალ-ცალკე | P49: სახელმწიფო დაფინანსება: მუნიციპალური ბიუჯეტი საგრანტო დაფინანსება: EBRD, UN (UNDP), ა.შ. კერძო და არასამთავრობო სექტორები: მგვ ორგანიზაციები | Q49: 45000 | R49: მაღალი | S49: კონსულტანტი | T49: განმახორციელებელი განსაზღვრავს სამუშაო პაკეტის კოორდინატორს | U49: თბილსერვის ჯგუფი - ნარჩენების ლოჯისტიკისა და დასუფთავების დეპარტამენტი
B50: 2 - რეციკლირება & დამუშავება | C50: საყოფაცხოვრებო და კომერციული ნარჩენები | D50: ტექნიკური | E50: შეგროვება & ტრანსპორტირება | I50: მაღალი | J50: მაღალი | N50: b | O50: შერჩეულ ტერიტორიებზე სქემის განხორციელების ფაზების განსაზღვრა | R50: მაღალი | U50: თბილსერვის ჯგუფი - ნარჩენების ლოჯისტიკისა და დასუფთავების დეპარტამენტი / ადმინისტრაცია
B51: 2 - რეციკლირება & დამუშავება | C51: საყოფაცხოვრებო და კომერციული ნარჩენები | D51: ტექნიკური | E51: შეგროვება & ტრანსპორტირება | I51: მაღალი | J51: მაღალი | N51: c | O51: 2-კონტეინერიანი სისტემის (სველი და მშრალი) ზოგადი სპეციფიკაციის (კონცეპტუალური დიზაინი) განსაზღვრა | R51: მაღალი | U51: თბილსერვის ჯგუფი - ნარჩენების ლოჯისტიკისა და დასუფთავების დეპარტამენტი / ადმინისტრაცია
B52: 2 - რეციკლირება & დამუშავება | C52: საყოფაცხოვრებო და კომერციული ნარჩენები | D52: ტექნიკური | E52: შეგროვება & ტრანსპორტირება | I52: მაღალი | J52: მაღალი | N52: d | O52: 2-კონტეინერიანი სისტემის (სველი და მშრალი) დეტალური დიზაინის მომზადება | R52: მაღალი | U52: თბილსერვის ჯგუფი - ადმინისტრაცია
B53: 2 - რეციკლირება & დამუშავება | C53: საყოფაცხოვრებო და კომერციული ნარჩენები | D53: ტექნიკური | E53: შეგროვება & ტრანსპორტირება | I53: მაღალი | J53: მაღალი | N53: e | O53: სქემის განხორციელება | Q53: ? | R53: მაღალი | S53: ხარჯები დამოკიდებულია 2-კონტეინერიანი სისტემის მასშტაბსა და დიზაინზე | U53: თბილსერვის ჯგუფი - ნარჩენების ლოჯისტიკისა და დასუფთავების დეპარტამენტი / ადმინისტრაცია
B54: 2 - რეციკლირება & დამუშავება | C54: საყოფაცხოვრებო და კომერციული ნარჩენები | D54: ტექნიკური | E54: შეგროვება & ტრანსპორტირება | I54: მაღალი | J54: მაღალი | N54: f | O54: თბილისის მერიის იურიდიული სამსახური სხვა შესაბამის სამსახურებთან და თბილსერვის ჯგუფთან კონსულტაციით მოამზადებს ცვლილებას თბილისის საკრებულოს N 17-46 დადგენილებისთვის „ქ. თბილისის მუნიციპალიტეტში დასახლებული ტერიტორიის დასუფთავებისათვის მოსაკრებლის შემოღების, გადახდის ინსტრუქციისა და დაგვა-დასუფთავების, ნარჩენების მართვის, ოპერატორის შერჩევის და ქალაქ თბილისის მუნიციპალიტეტის საკუთრებაში არსებული ნარჩენების განკარგვის წესის დამტკიცების შესახებ“, 2-კონტეინერიანი სისტემით მყარი მუნიციპალური ნარჩენების სეპარირებულად შეგროვების გათვალისწინებით | Q54: 0 | R54: მაღალი | U54: თბილისის მერია / თბილსერვის ჯგუფი - იურიდიული სამსახურები
B55: 2 - რეციკლირება & დამუშავება | C55: საყოფაცხოვრებო და კომერციული ნარჩენები | D55: ტექნიკური | E55: შეგროვება & ტრანსპორტირება | I55: მაღალი | J55: მაღალი | N55: g | O55: თბილსერვის ჯგუფის შესაძლებლობების გაძლიერება 2 კონტეინერიანი სისტემით ნარჩენების სეპარირებულად შეგროვებაში; თბილისის მერიის შესაბამისი სამსახურების შესაძლებლობების ზრდა ამ სისტემის ოპერირების ზედამხედველობა-მეთვალყურეობაში | Q55: 20000 | R55: მაღალი | S55: კონსულტანტი | U55: თბილისის მერია / თბილსერვის ჯგუფი - ადმინისტრაცია / თბილისის მერია - მუნიციპალური ინსპექცია
B56: 2 - რეციკლირება & დამუშავება | C56: საყოფაცხოვრებო და კომერციული ნარჩენები | D56: ტექნიკური | E56: შეგროვება & ტრანსპორტირება | I56: მაღალი | J56: მაღალი | N56: h | O56: შერჩეულ ტერიტორიებზე ცნობიერების ამაღლების კამპანიების ჩატარება | Q56: 150000 | R56: მაღალი | S56: კონსულტანტი | U56: თბილისის მერია / თბილსერვის ჯგუფი - საზოგადოებასთან ურთიერთობის სამსახური
B57: 2 - რეციკლირება & დამუშავება | C57: საყოფაცხოვრებო და კომერციული ნარჩენები | D57: ტექნიკური | E57: შეგროვება & ტრანსპორტირება | I57: მაღალი | J57: მაღალი | O57: ქვეჯამი | Q57: =SUM(Q49:Q56) -> 215000 | R57: მაღალი
A58: 13 | B58: 2 - რეციკლირება & დამუშავება | C58: საყოფაცხოვრებო და კომერციული ნარჩენები | D58: ნარჩენების შეგროვების და ტრანსპორტირების ეფექტიანი სისტემის ჩამოყალიბება და დანერგვა (3) | E58: მუნიციპალური ნარჩენების შეგროვების სისტემის გაუმჯობესება (3.1) | F58: 13 | G58: რეციკლირების მოედნების/უბნების მოწყობა | H58: მინ. 2 რეციკლირების მოედნის/უბნის მოწყობა | I58: მაღალი | J58: საშუალო | K58: 2030 | L58: თბილისის მერია/თბილსერვის ჯგუფი | M58: =F58 -> 13 | N58: a | O58: რეციკლირების მოედნებზე/უბნებზე შესაგროვებელი ნარჩენების ნაკადების განსაზღვრა | P58: სახელმწიფო დაფინანსება: მუნიციპალური ბიუჯეტი საგრანტო დაფინანსება: EBRD, UN (UNDP), ა.შ. | Q58: 40000 | R58: საშუალო | S58: კონსულტანტი | T58: განმახორციელებელი განსაზღვრავს სამუშაო პაკეტის კოორდინატორს | U58: თბილსერვის ჯგუფი - ნარჩენების ლოჯისტიკისა და დასუფთავების დეპარტამენტი
B59: 2 - რეციკლირება & დამუშავება | C59: საყოფაცხოვრებო და კომერციული ნარჩენები | D59: ტექნიკური | E59: შეგროვება & ტრანსპორტირება | I59: მაღალი | J59: მაღალი | N59: b | O59: მგვ ორგანიზაციებთან თანამშრომლობის გზების განსაზღვრა მგვ-ს დაქვემდებარებულ ნაკადებთან მიმართებაში | R59: საშუალო | U59: თბილისის მერია / თბილსერვის ჯგუფი / საქართველოს გარემოს დაცვისა და სოფლის მეურნეობის სამინისტრო
B60: 2 - რეციკლირება & დამუშავება | C60: საყოფაცხოვრებო და კომერციული ნარჩენები | D60: ტექნიკური | E60: შეგროვება & ტრანსპორტირება | I60: მაღალი | J60: მაღალი | N60: c | O60: რეციკლირების მოედნების ზომისა და მიწის ფართობის დადგენა | R60: საშუალო | U60: თბილისის მერია / თბილსერვის ჯგუფი - ადმინისტრაცია
B61: 2 - რეციკლირება & დამუშავება | C61: საყოფაცხოვრებო და კომერციული ნარჩენები | D61: ტექნიკური | E61: შეგროვება & ტრანსპორტირება | I61: მაღალი | J61: მაღალი | N61: d | O61: შესაბამისი ადგილების შერჩევა | R61: საშუალო | U61: თბილისის მერია / თბილსერვის ჯგუფი - ადმინისტრაცია
B62: 2 - რეციკლირება & დამუშავება | C62: საყოფაცხოვრებო და კომერციული ნარჩენები | D62: ტექნიკური | E62: შეგროვება & ტრანსპორტირება | I62: მაღალი | J62: მაღალი | N62: e | O62: სხვადასხვა დიზაინისა და საოპერაციო მოდელების ვარიანტების ანალიზი | R62: საშუალო | U62: თბილისის მერია / თბილსერვის ჯგუფი - ადმინისტრაცია
B63: 2 - რეციკლირება & დამუშავება | C63: საყოფაცხოვრებო და კომერციული ნარჩენები | D63: ტექნიკური | E63: შეგროვება & ტრანსპორტირება | I63: მაღალი | J63: მაღალი | N63: f | O63: შერჩეული ვარიანტის განხორციელება (დიზაინი, ტენდერი და მშენებლობა) | Q63: ? | R63: საშუალო | S63: ხარჯები დამოკიდებულია მასშტაბსა და დიზაინზე | U63: თბილისის მერია / თბილსერვის ჯგუფი - ნარჩენების ლოჯისტიკისა და დასუფთავების დეპარტამენტი / ადმინისტრაცია
B64: 2 - რეციკლირება & დამუშავება | C64: საყოფაცხოვრებო და კომერციული ნარჩენები | D64: ტექნიკური | E64: შეგროვება & ტრანსპორტირება | I64: მაღალი | J64: მაღალი | N64: g | O64: რეციკლირების მოედნების პოპულარიზაციის მიზნით ცნობიერების ამაღლების კამპანიის ჩატარება | Q64: 60000 | R64: საშუალო | S64: კონსულტანტი | U64: თბილისის მერია / თბილსერვის ჯგუფი / საქართველოს გარემოს დაცვისა და სოფლის მეურნეობის სამინისტრო - საზოგადოებასთან ურთიერთობის სამსახური
B65: 2 - რეციკლირება & დამუშავება | C65: საყოფაცხოვრებო და კომერციული ნარჩენები | D65: ტექნიკური | E65: შეგროვება & ტრანსპორტირება | I65: მაღალი | J65: მაღალი | O65: ქვეჯამი | Q65: =SUM(Q58:Q64) -> 100000 | R65: საშუალო
A66: 14 | B66: 2 - რეციკლირება & დამუშავება | C66: საყოფაცხოვრებო და კომერციული ნარჩენები | D66: ნარჩენების შეგროვების და ტრანსპორტირების ეფექტიანი სისტემის ჩამოყალიბება და დანერგვა (3) | E66: მუნიციპალური ნარჩენების შეგროვების სისტემის გაუმჯობესება (3.1) | F66: 14 | G66: მარშრუტების, ტრანსპორტისა და კონტეინერების განლაგების ოპტიმიზაცია | H66: ოპტიმიზაცია დასრულდება 2026 წლისთვის | I66: მაღალი | J66: დაბალი | K66: 2026 | L66: თბილისის მერია/თბილსერვის ჯგუფი | M66: =F66 -> 14 | N66: a | O66: მარშრუტების ოპტიმიზაციის კომპ. პროგრამის შესაბამისი ვარიანტების გამოვლენა | P66: სახელმწიფო დაფინანსება: მუნიციპალური ბიუჯეტი | Q66: 0 | T66: განმახორციელებელი განსაზღვრავს სამუშაო პაკეტის კოორდინატორს | U66: თბილსერვის ჯგუფი - საერთაშორისო ურთიერთობების სამსახური / ნარჩენების ლოჯისტიკისა და დასუფთავების დეპარტამენტი
B67: 2 - რეციკლირება & დამუშავება | C67: საყოფაცხოვრებო და კომერციული ნარჩენები | D67: ტექნიკური | E67: შეგროვება & ტრანსპორტირება | I67: მაღალი | J67: საშუალო | N67: b | O67: შერჩეული კომპ. პროგრამის შეძენა | Q67: 0 | U67: განისაზღვრება სამუშაო პაკეტის კოორდინატორის მიერ
B68: 2 - რეციკლირება & დამუშავება | C68: საყოფაცხოვრებო და კომერციული ნარჩენები | D68: ტექნიკური | E68: შეგროვება & ტრანსპორტირება | I68: მაღალი | J68: საშუალო | N68: c | O68: მარშრუტების ოპტიმიზაციის განხორციელება განსაზღვრულ ფაზებში | Q68: ? | U68: განისაზღვრება სამუშაო პაკეტის კოორდინატორის მიერ
B69: 2 - რეციკლირება & დამუშავება | C69: საყოფაცხოვრებო და კომერციული ნარჩენები | D69: ტექნიკური | E69: შეგროვება & ტრანსპორტირება | I69: მაღალი | J69: საშუალო | O69: ქვეჯამი | Q69: =SUM(Q66:Q68) -> 0
A70: 15 | B70: 2 - რეციკლირება & დამუშავება | C70: საყოფაცხოვრებო და კომერციული ნარჩენები | D70: ნარჩენების შეგროვების და ტრანსპორტირების ეფექტიანი სისტემის ჩამოყალიბება და დანერგვა (3) | E70: მუნიციპალური ნარჩენების შეგროვების სისტემის გაუმჯობესება (3.1) | F70: 15 | G70: 3-კონტეინერიანი სეპარირებული შეგროვების სისტემის დანერგვა თბილისის ტერიტორიის 10%-სთვის | H70: 2030 წლისთვის, მუნიციპალიტეტის კერძო სახლებით განაშენიანებულ ტერიტორიებზე (მოსახლეობის დაახლოებით 10%) დაინერგება სეპარირებული შეგროვების 3-კონტენერიანი სისტემა. | I70: საშუალო | J70: მაღალი | K70: 2030 | L70: თბილისის მერია/თბილსერვის ჯგუფი | M70: =F70 -> 15 | N70: a | O70: 3-კონტეინერიანი სისტემის დანერგვის ტერიტორიების დადგენა | P70: სახელმწიფო დაფინანსება: მუნიციპალური ბიუჯეტი საგრანტო დაფინანსება: EBRD, UN (UNDP), ა.შ. | Q70: 30000 | R70: საშუალო | S70: კონსულტანტი | T70: განმახორციელებელი განსაზღვრავს სამუშაო პაკეტის კოორდინატორს | U70: თბილისის მერია / თბილსერვის ჯგუფი - ნარჩენების ლოჯისტიკისა და დასუფთავების დეპარტამენტი / ადმინისტრაცია
B71: 2 - რეციკლირება & დამუშავება | C71: ბიოდეგრადირებადი ნარჩენები | D71: ტექნიკური | E71: შეგროვება & ტრანსპორტირება | I71: საშუალო | J71: საშუალო | N71: b | O71: შერჩეულ ტერიტორიებზე განხორციელების ფაზების განსაზღვრა | R71: საშუალო | U71: განისაზღვრება სამუშაო პაკეტის კოორდინატორის მიერ
B72: 2 - რეციკლირება & დამუშავება | C72: ბიოდეგრადირებადი ნარჩენები | D72: ტექნიკური | E72: შეგროვება & ტრანსპორტირება | I72: საშუალო | J72: საშუალო | N72: c | O72: 3-კონტეინერიანი სისტემის კონცეპტუალური დიზაინი/ძირითადი პარამეტრების დადგენა | R72: საშუალო | U72: განისაზღვრება სამუშაო პაკეტის კოორდინატორის მიერ
B73: 2 - რეციკლირება & დამუშავება | C73: ბიოდეგრადირებადი ნარჩენები | D73: ტექნიკური | E73: შეგროვება & ტრანსპორტირება | I73: საშუალო | J73: საშუალო | N73: d | O73: 3-კონტეინერიანი შეგროვების სისტემის დიზაინი და განხორციელების წესების შემუშავება | R73: საშუალო | U73: განისაზღვრება სამუშაო პაკეტის კოორდინატორის მიერ
B74: 2 - რეციკლირება & დამუშავება | C74: ბიოდეგრადირებადი ნარჩენები | D74: ტექნიკური | E74: შეგროვება & ტრანსპორტირება | I74: საშუალო | J74: საშუალო | N74: e | O74: სქემის განხორციელება შერჩეული დიზაინისა და პარამეტრების მიხედვით | Q74: ? | R74: საშუალო | S74: ხარჯები დამოკიდებულია 3-კონტეინერიანი სისტემის მასშტაბსა და დიზაინზე | U74: განისაზღვრება სამუშაო პაკეტის კოორდინატორის მიერ
B75: 2 - რეციკლირება & დამუშავება | C75: ბიოდეგრადირებადი ნარჩენები | D75: ტექნიკური | E75: შეგროვება & ტრანსპორტირება | I75: საშუალო | J75: საშუალო | N75: f | O75: შერჩეულ ტერიტორიებზე ცნობიერების ამაღლების კამპანიების ჩატარება | Q75: 50000 | R75: საშუალო | S75: კონსულტანტი | U75: თბილსერვის ჯგუფი - საზოგადოებასთან ურთიერთობის სამსახური
B76: 2 - რეციკლირება & დამუშავება | C76: ბიოდეგრადირებადი ნარჩენები | D76: ტექნიკური | E76: შეგროვება & ტრანსპორტირება | I76: საშუალო | J76: საშუალო | N76: g | O76: სხვა ტერიტორიებზე გადატანისთვის, საპილოტე არეალებზე სქემის განხორციელების მონიტორინგი, შედეგების შეფასება და მდგრადობის ანალიზი | Q76: 0 | R76: საშუალო | U76: თბილსერვის ჯგუფი - ადმინისტრაცია / ნარჩენების ლოჯისტიკისა და დასუფთავების, და მონიტორინგის დეპარტამენტები
B77: 2 - რეციკლირება & დამუშავება | C77: ბიოდეგრადირებადი ნარჩენები | D77: ტექნიკური | E77: შეგროვება & ტრანსპორტირება | I77: საშუალო | J77: საშუალო | O77: ქვეჯამი | Q77: =SUM(Q70:Q75) -> 80000 | R77: საშუალო
A78: 16 | B78: 2 - რეციკლირება & დამუშავება | C78: მგვ ნაკადები | D78: ნარჩენების შეგროვების და ტრანსპორტირების ეფექტიანი სისტემის ჩამოყალიბება და დანერგვა (3) | E78: მუნიციპალური ნარჩენების შეგროვების სისტემის გაუმჯობესება (3.1) | F78: 16 | G78: შეფუთვის ნარჩენების სეპარირებული შეგროვების სქემის განხორციელება | H78: რაოდენობრივი მიზნობრივი მაჩვენებლები ჯერ არ დადგენილა; კანონქვემდებარე აქტი შემუშავების პროცესშია | I78: მაღალი | J78: მაღალი | K78: 2028 | L78: მწარმოებლები/მგვ ორგანიზაციები (MEPA-სთან, თბილისის მერიასა და თბილსერვის ჯგუფთან თანამშრომლობით) | M78: =F78 -> 16 | N78: a | O78: საყოფაცხოვრებო და კომერციული სექტორებისათვის სქემის ცალ-ცალკე განხორციელების ფაზების დადგენა | P78: კერძო და არასამთავრობო სექტორები: მგვ ორგანიზაციები | Q78: 0 | R78: დაბალი | T78: განმახორციელებელი განსაზღვრავს სამუშაო პაკეტის კოორდინატორს | U78: მგვ ორგანიზაციები / თბილისის მერია / თბილსერვის ჯგუფი - იურიდიული სამსახური / საქართველოს გარემოს დაცვისა და სოფლის მეურნეობის სამინისტრო
B79: 2 - რეციკლირება & დამუშავება | C79: მგვ ნაკადები | D79: ტექნიკური | E79: შეგროვება & ტრანსპორტირება | I79: მაღალი | J79: მაღალი | N79: b | O79: შესაბამის მგვ ორგანიზაციასთან თანამშრომლობა სქემის ამოქმედებისთანავე | U79: განისაზღვრება სამუშაო პაკეტის კოორდინატორის მიერ
B80: 2 - რეციკლირება & დამუშავება | C80: მგვ ნაკადები | D80: ტექნიკური | E80: შეგროვება & ტრანსპორტირება | I80: მაღალი | J80: მაღალი | N80: c | O80: შესაბამისი შეგროვების სისტემის ძირითადი პარამეტრების განსაზღვრა (კონცეპტუალური დიზაინი) | U80: განისაზღვრება სამუშაო პაკეტის კოორდინატორის მიერ
B81: 2 - რეციკლირება & დამუშავება | C81: მგვ ნაკადები | D81: ტექნიკური | E81: შეგროვება & ტრანსპორტირება | I81: მაღალი | J81: მაღალი | N81: d | O81: შესაბამისი შეგროვების სისტემის დიზაინი | U81: განისაზღვრება სამუშაო პაკეტის კოორდინატორის მიერ
B82: 2 - რეციკლირება & დამუშავება | C82: მგვ ნაკადები | D82: ტექნიკური | E82: შეგროვება & ტრანსპორტირება | I82: მაღალი | J82: მაღალი | N82: e | O82: სქემის განხორციელება შერჩეული დიზაინისა და პარამეტრების მიხედვით | U82: განისაზღვრება სამუშაო პაკეტის კოორდინატორის მიერ
B83: 2 - რეციკლირება & დამუშავება | C83: მგვ ნაკადები | D83: ტექნიკური | E83: შეგროვება & ტრანსპორტირება | I83: მაღალი | J83: მაღალი | N83: f | O83: შერჩეულ ტერიტორიებზე ცნობიერების ამაღლების კამპანიების ჩატარება | U83: განისაზღვრება სამუშაო პაკეტის კოორდინატორის მიერ
B84: 2 - რეციკლირება & დამუშავება | C84: მგვ ნაკადები | D84: ტექნიკური | E84: შეგროვება & ტრანსპორტირება | I84: მაღალი | J84: მაღალი | O84: ქვეჯამი | Q84: =SUM(Q78:Q83) -> 0
A85: 17 | B85: 2 - რეციკლირება & დამუშავება | C85: ბიოდეგრადირებადი ნარჩენები | D85: ბიოდეგრადირებადი ნარჩენების შეგროვების და დამუშავების სისტემების ჩამოყალიბება და დანერგვა (12) | E85: ბიოდეგრადირებადი ნარჩენების მულჩირების პრაქტიკის დანერგვა (12.1) | F85: 17 | G85: მე-3 კონტეინერში განთავსებული ნარჩენების დამუშავება (მულჩირება) (ქალაქის ტერიტორიის 10%-ზე) | H85: 2030 წლისთვის, მუნიციპალიტეტის კერძო სახლებით განაშენიანებულ ტერიტორიებზე დანერგილი მე-3 კონტეინერში განთავსებული ნარჩენების მულჩირება. | I85: საშუალო | J85: მაღალი | K85: 2029 | L85: თბილისის მერია/თბილსერვის ჯგუფი/ეკოსერვის ჯგუფი | M85: =F85 -> 17 | N85: a | O85: მულჩირების ობიექტის დიზაინსა და პარამეტრებში ჩაინტეგრირება (ასევე იხილეთ WP19) | P85: - | Q85: 0 | R85: დაბალი | S85: კომბინირდება WP19-სთვის კონსულტანტის საქმიანობასთან | T85: განმახორციელებელი განსაზღვრავს სამუშაო პაკეტის კოორდინატორს | U85: განისაზღვრება სამუშაო პაკეტის კოორდინატორის მიერ
B86: 2 - რეციკლირება & დამუშავება | C86: ბიოდეგრადირებადი ნარჩენები | D86: ტექნიკური | E86: დამუშავება | I86: საშუალო | J86: საშუალო | O86: ქვეჯამი | Q86: =SUM(Q85) -> 0
A87: 18 | B87: 2 - რეციკლირება & დამუშავება | C87: მოცულობითი ნარჩენი | D87: ნარჩენების შეგროვების და ტრანსპორტირების ეფექტიანი სისტემის ჩამოყალიბება და დანერგვა (3) | E87: მუნიციპალური ნარჩენების შეგროვების სისტემის გაუმჯობესება (3.1) | F87: 18 | G87: მოცულობითი ნარჩენების სეპარირება | H87: 50% 2028 წლისთვის | I87: საშუალო | J87: საშუალო | K87: 2028 | L87: თბილისის მერია/თბილსერვის ჯგუფი/მგვ | M87: =F87 -> 18 | N87: a | O87: მოცულობითი ნარჩენების სეპარირებული შეგროვების სათანადო ვარიანტების დადგენა | P87: სახელმწიფო დაფინანსება: მუნიციპალური ბიუჯეტი საგრანტო დაფინანსება: EBRD, UN (UNDP), ა.შ. | Q87: 60000 | R87: საშუალო | S87: კონსულტანტი | T87: განმახორციელებელი განსაზღვრავს სამუშაო პაკეტის კოორდინატორს | U87: თბილსერვის ჯგუფი - ნარჩენების ლოჯისტიკისა და დასუფთავების დეპარტამენტი / ადმინისტრაცია
B88: 2 - რეციკლირება & დამუშავება | C88: მოცულობითი ნარჩენი | D88: ტექნიკური | E88: ყველა კომპონენტი (შეგროვებიდან განთავსებამდე) | I88: საშუალო | J88: საშუალო | N88: b | O88: განხორციელების ფაზების და სექტორების განსაზღვრა | R88: საშუალო | U88: თბილსერვის ჯგუფი - ნარჩენების ლოჯისტიკისა და დასუფთავების დეპარტამენტი / ადმინისტრაცია
B89: 2 - რეციკლირება & დამუშავება | C89: მოცულობითი ნარჩენი | D89: ტექნიკური | E89: ყველა კომპონენტი (შეგროვებიდან განთავსებამდე) | I89: საშუალო | J89: საშუალო | N89: c | O89: განთავსებამდე, მოცულობითი ნარჩენების დამუშავების ობიექტის წარმადობის, ფართობის და ადგილმდებარეობის განსაზღვრა | R89: საშუალო | U89: თბილსერვის ჯგუფი - ნარჩენების ლოჯისტიკისა და დასუფთავების დეპარტამენტი / ადმინისტრაცია
B90: 2 - რეციკლირება & დამუშავება | C90: მოცულობითი ნარჩენი | D90: ტექნიკური | E90: ყველა კომპონენტი (შეგროვებიდან განთავსებამდე) | I90: საშუალო | J90: საშუალო | N90: d | O90: სხვადასხვა ნაკადების დამუშავების, რეციკლირების და განთავსების ვარიანტების გამოვლენა და განხორციელება | Q90: ? | R90: საშუალო | S90: ხარჯები დამოკიდებულია საჭირო სისტემის მასშტაბსა და დიზაინზე | U90: თბილსერვის ჯგუფი - ნარჩენების ლოჯისტიკისა და დასუფთავების დეპარტამენტი / ადმინისტრაცია
B91: 2 - რეციკლირება & დამუშავება | C91: მოცულობითი ნარჩენი | D91: ტექნიკური | E91: ყველა კომპონენტი (შეგროვებიდან განთავსებამდე) | I91: საშუალო | J91: საშუალო | O91: ქვეჯამი | Q91: =SUM(Q87:Q90) -> 60000 | R91: საშუალო
A92: 19 | B92: 2 - რეციკლირება & დამუშავება | C92: მწვანე და ბაზრის ნარჩენები (ცხოველური წარმოშობის არასასურსათო დანიშნულების პროდუქტების გარდა) | D92: ბიოდეგრადირებადი ნარჩენების შეგროვების და დამუშავების სისტემების ჩამოყალიბება და დანერგვა (12) | E92: ბიოდეგრადირებადი ნარჩენების მულჩირების პრაქტიკის დანერგვა (12.1) | F92: 19 | G92: ბაღის/პარკის ნარჩენების სეპარირება და დამუშავების გაუმჯობესებაში მხარდაჭერა (მულჩირება) | H92: 75% 2027 წლისთვის (საბოლოო მიზნობრივი მაჩვენებელი: 100% 2030 წლისთვის) | I92: საშუალო | J92: მაღალი | K92: 2030 | L92: ეკოსერვის ჯგუფი | M92: =F92 -> 19 | N92: a | O92: 2030 წლამდე, მწვანე ნარჩენების 100%-ის სეპარირებული შეგროვების ეტაპობრივი განხორციელება | P92: სახელმწიფო დაფინანსება: მუნიციპალური ბიუჯეტი საგრანტო დაფინანსება: EBRD, UN (UNDP), ა.შ. | Q92: 0 | R92: საშუალო | S92: ეკოსერვის ჯგუფი | T92: განმახორციელებელი განსაზღვრავს სამუშაო პაკეტის კოორდინატორს | U92: ეკოსერვის ჯგუფი
B93: 2 - რეციკლირება & დამუშავება | C93: მწვანე და ბაზრის ნარჩენები (ცხოველური წარმოშობის არასასურსათო დანიშნულების პროდუქტების გარდა) | D93: ტექნიკური | E93: ყველა კომპონენტი (შეგროვებიდან განთავსებამდე) | I93: საშუალო | J93: საშუალო | N93: b | O93: მწვანე ნარჩენების წარმოქმნისა და მე-3 კონტეინერის შიგთავსის რაოდენობის გაანგარიშება (ბიოლოგიური ნარჩენები ქ. თბილისის 10%-სთვის) | Q93: 60000 | R93: საშუალო | S93: კონსულტანტი | U93: ეკოსერვის ჯგუფი
B94: 2 - რეციკლირება & დამუშავება | C94: მწვანე და ბაზრის ნარჩენები (ცხოველური წარმოშობის არასასურსათო დანიშნულების პროდუქტების გარდა) | D94: ტექნიკური | E94: ყველა კომპონენტი (შეგროვებიდან განთავსებამდე) | I94: საშუალო | J94: საშუალო | N94: c | O94: მწვანე ნარჩენებისა და მე-3 კონტეინერის შიგთავსის ბიოლოგიური დამუშავების დიზაინისა და ძირითადი პარამეტრების განსაზღვრა | R94: საშუალო | U94: ეკოსერვის ჯგუფი
B95: 2 - რეციკლირება & დამუშავება | C95: მწვანე და ბაზრის ნარჩენები (ცხოველური წარმოშობის არასასურსათო დანიშნულების პროდუქტების გარდა) | D95: ტექნიკური | E95: ყველა კომპონენტი (შეგროვებიდან განთავსებამდე) | I95: საშუალო | J95: საშუალო | N95: d | O95: კომპოსტის სარეალიზაციო ბაზრის ანალიზი | R95: საშუალო | U95: ეკოსერვის ჯგუფი
B96: 2 - რეციკლირება & დამუშავება | C96: მწვანე და ბაზრის ნარჩენები (ცხოველური წარმოშობის არასასურსათო დანიშნულების პროდუქტების გარდა) | D96: ტექნიკური | E96: ყველა კომპონენტი (შეგროვებიდან განთავსებამდე) | I96: საშუალო | J96: საშუალო | N96: e | O96: მულჩირების ობიექტისთვის საჭირო დამატებითი აღჭურვილობის შესაძენად ტენდერის ჩატარება | Q96: 20000 | R96: საშუალო | S96: კონსულტანტი | U96: ეკოსერვის ჯგუფი
B97: 2 - რეციკლირება & დამუშავება | C97: მწვანე და ბაზრის ნარჩენები (ცხოველური წარმოშობის არასასურსათო დანიშნულების პროდუქტების გარდა) | D97: ტექნიკური | E97: ყველა კომპონენტი (შეგროვებიდან განთავსებამდე) | I97: საშუალო | J97: საშუალო | N97: f | O97: მულჩირების არსებული ობიექტის წარმადობის გაზრდა | Q97: ? | R97: საშუალო | S97: ხარჯები დამოკიდებულია საჭირო სისტემის მასშტაბსა და დიზაინზე | U97: ეკოსერვის ჯგუფი
B98: 2 - რეციკლირება & დამუშავება | C98: მწვანე და ბაზრის ნარჩენები (ცხოველური წარმოშობის არასასურსათო დანიშნულების პროდუქტების გარდა) | D98: ტექნიკური | E98: ყველა კომპონენტი (შეგროვებიდან განთავსებამდე) | I98: საშუალო | J98: საშუალო | O98: ქვეჯამი | Q98: =SUM(Q92:Q97) -> 80000 | R98: საშუალო
A99: 20 | B99: 3 - მონიტორინგი | C99: საყოფაცხოვრებო და კომერციული ნარჩენები | D99: ნარჩენების შეგროვების და ტრანსპორტირების ეფექტიანი სისტემის ჩამოყალიბება და დანერგვა (3) | E99: მუნიციპალური ნარჩენების შეგროვების სისტემის გაუმჯობესება (3.1) | F99: 20 | G99: მარშრუტის, ტრანსპორტირებისა და შეგროვების ოპტიმიზაციის მონიტორინგი | H99: შეგროვებისა და ტრანსპორტირების ოპტიმიზაციისთვის დანერგილი სისტემის მონიტორინგი და ზედამხედველობა (სიცოცხლისუნარიანობა და ეფექტიანობა) | I99: მაღალი | J99: საშუალო | K99: 2027 | L99: თბილისის მერია/თბილსერვის ჯგუფი | M99: =F99 -> 20 | N99: a | O99: მონიტორინგის ერთეულის შექმნა | P99: სახელმწიფო დაფინანსება: მუნიციპალური ბიუჯეტი | Q99: 0 | R99: დაბალი | T99: განმახორციელებელი განსაზღვრავს სამუშაო პაკეტის კოორდინატორს | U99: თბილსერვის ჯგუფი - ადმინისტრაცია / ნარჩენების ლოჯისტიკისა და დასუფთავების დეპარტამენტები
B100: 3 - მონიტორინგი | C100: საყოფაცხოვრებო და კომერციული ნარჩენები | D100: ფინანსური | E100: ხარჯები | I100: მაღალი | J100: საშუალო | N100: b | O100: მონიტორინგის პარამეტრების შემუშავება | Q100: 5000 | R100: დაბალი | S100: კონსულტანტი | U100: განისაზღვრება სამუშაო პაკეტის კოორდინატორის მიერ
B101: 3 - მონიტორინგი | C101: საყოფაცხოვრებო და კომერციული ნარჩენები | D101: ფინანსური | E101: ხარჯები | I101: მაღალი | J101: საშუალო | N101: c | O101: მონიტორინგი შესაბამისი ინსტრუმენტების გამოყენებით და სისტემის კორექტირება საჭიროების შემთხვევაში | Q101: 0 | R101: დაბალი | U101: განისაზღვრება სამუშაო პაკეტის კოორდინატორის მიერ
...

Sheet Gantt Chart
A2: ქ. თბილისის მუნიციპალური ნარჩენების მართვის სამოქმედო გეგმა (2025-2030 წ.წ.)
A3: განტის სქემა
A4: ='Action Plan'!F4 -> WP № | B4: სამუშაო პაკეტი / აქტივობები | C4: ხანგრძლ. | D4: დაგეგმილი აქტივობებისთვის განსაზღვრული წლები
D5: წელი 1 | H5: წელი 2 | L5: წელი 3 | P5: წელი 4 | T5: წელი 5
C6: (წლები) | D6: 1 | E6: 2 | F6: 3 | G6: 4 | H6: 1 | I6: 2 | J6: 3 | K6: 4 | L6: 1 | M6: 2 | N6: 3 | O6: 4 | P6: 1 | Q6: 2 | R6: 3 | S6: 4 | T6: 1 | U6: 2 | V6: 3 | W6: 4
A7: 1 | B7: ='Action Plan'!G5 -> ნარჩენების პრიორიტეტულ ნაკადებზე (საკვების, ქაღალდის, შეფუთვის და ელექტრო და ელექტრონული მოწყობილობების ნარჩენები) ორიენტირებული საზოგადოების ცნობიერების ამაღლების კამპანიების და ნარჩენების პრევენციის სხვა საინფორმაციო ღონისძიებების დაგეგმვა და განხორციელება | C7: 5
A8: 2 | B8: ='Action Plan'!G12 -> საუკეთესო საერთაშორისო გამოცდილების გაზიარების მიზნით ნარჩენების ტექნიკურ ფორუმებსა და ევროპულ პლატფორმებში მონაწილეობა | C8: 5
A9: 3 | B9: ='Action Plan'!G14 -> პლასტიკის ნარჩენების ნაკადების შეფასება და შესაბამისი რეკომენდაციების შემუშავება | C9: 3
A10: 4 | B10: ='Action Plan'!G18 -> თბილისის დიდი ლილოს ნაგავსაყრელის ნაჟური წყლების (ლიჩეტის) დამუშავების სისტემის გაუმჯობესება | C10: 1.5
A11: 5 | B11: ='Action Plan'!G21 -> ა.ბელიაშვილის ქუჩაზე მდებარე ნარჩენების გადამტვირთი სადგურის რეაბილიტაცია | C11: 1
A12: 6 | B12: ='Action Plan'!G24 -> მგვ ორგანიზაციებთან მოლაპარაკება EPR/მგვ-ს სქემიდან თბილსერვის ჯგუფის მიერ შეფუთვის ნარჩენების მართვის ხარჯების დასაფარად საჭირო დაფინანსების მიღების მიზნით (სეპარირებული შეგროვების, ტრანსპორტირების, და ასევე, დამუშავების ჩათვლით) | C12: 5
A13: 7 | B13: ='Action Plan'!G27 -> ნარჩენების სეპარაციითა და დამუშავებით მიღებული რეციკლირებადი მასალების გაყიდვის პირობების განსაზღვრა (ხარისხი და რაოდენობა) | C13: 5
A14: 8 | B14: ='Action Plan'!G32 -> თბილისის საყოფაცხოვრებო ნარჩენების პოლიგონზე გაზშემკრები სისტემის მოწყობა | C14: 3.5
A15: 9 | B15: ='Action Plan'!G36 -> მყარი მუნიციპალური ნარჩენების პრევენციაში, რეციკლირებასა და დამუშავებაში კერძო სექტორის ჩართვის ვარიანტების/მექანიზმების გამოვლენა, თბილისის ნარჩენების პრევენციისა და რეციკლირების სტრატეგიაში რეკომენდებული სცენარების შესაბამისად (შეგროვება, ტრანსპორტირება, დამუშავება და განთავსება) | C15: 2.5
A16: 10 | B16: ='Action Plan'!G40 -> თბილისის საყოფაცხოვრებო ნარჩენების პოლიგონზე მასალების აღდგენი (MRF) და მექანიკურ-ბიოლოგიური დამუშავების ობიექტი (MBT) მშენებლობა და ოპერირება. | C16: 3.5
A17: 11 | B17: ='Action Plan'!G44 -> შეგროვების სერვისის დაფარვის არეალის გაუმჯობესება | C17: 1
A18: 12 | B18: ='Action Plan'!G49 -> ნარჩენების სეპარირებულად შეგროვება (2-კონტეინერიანი სისტემა) | C18: 4
A19: 13 | B19: ='Action Plan'!G58 -> რეციკლირების მოედნების/უბნების მოწყობა | C19: 3
A20: 14 | B20: ='Action Plan'!G66 -> მარშრუტების, ტრანსპორტისა და კონტეინერების განლაგების ოპტიმიზაცია | C20: 1
A21: 15 | B21: ='Action Plan'!G70 -> 3-კონტეინერიანი სეპარირებული შეგროვების სისტემის დანერგვა თბილისის ტერიტორიის 10%-სთვის | C21: 4
A22: 16 | B22: ='Action Plan'!G78 -> შეფუთვის ნარჩენების სეპარირებული შეგროვების სქემის განხორციელება | C22: 3
A23: 17 | B23: ='Action Plan'!G85 -> მე-3 კონტეინერში განთავსებული ნარჩენების დამუშავება (მულჩირება) (ქალაქის ტერიტორიის 10%-ზე) | C23: 4
A24: 18 | B24: ='Action Plan'!G87 -> მოცულობითი ნარჩენების სეპარირება | C24: 3
A25: 19 | B25: ='Action Plan'!G92 -> ბაღის/პარკის ნარჩენების სეპარირება და დამუშავების გაუმჯობესებაში მხარდაჭერა (მულჩირება) | C25: 5
A26: 20 | B26: ='Action Plan'!G99 -> მარშრუტის, ტრანსპორტირებისა და შეგროვების ოპტიმიზაციის მონიტორინგი | C26: 2
A27: 21 | B27: ='Action Plan'!G103 -> მწარმოებლის გაფართოებულ ვალდებულებას დაქვემდებარებული ყველა ნაკადის (გარდა შეფუთვის ნარჩენებისა) სეპარირებული შეგროვების მონიტორინგი | C27: 5
A28: 22 | B28: ='Action Plan'!G108 -> ნარჩენების კონტროლის და მონიტორინგის გაუმჯობესების მიზნით შესაბამისი პასუხისმგებელი უწყებების თანამშრომლების გადასამზადებელი პროგრამის მომზადება და გადამზადება/ტრენინგი | C28: 5
A30: აღნიშვნები
B31: აქტივობა
