Workbook

Sheet 01
A1: ფორმა N1. ინფორმაცია საკრედიტო კავშირის შესახებ | CC1: საქართველო | CD1: GE
CC2: არ არის იდენტიფიცირებული | CD2: N/A
A3: საკრედიტო კავშირის დასახელება | CC3: ავსტრალია | CD3: AU
A4: სამეთვალყურეო საბჭოს წევრები | CC4: ავსტრია | CD4: AT
A5: გამგეობის წევრები | CC5: ავღანეთი | CD5: AF
A6: მნიშვნელოვანი წილის მფლობელ(ებ)ი | CC6: აზერბაიჯანი | CD6: AZ
A7: ბენეფიციარი მესაკუთრე(ები) | CC7: ალანდის კუნძულები | CD7: AX
A8: შესაბამისობის კონტროლის სისტემის ფუნქციონირებაზე პასუხისმგებელი პირი/საკონტაქტო ინფორმაცია | CC8: ალბანეთი | CD8: AL
A9: საქართველოში არსებული ფილიალები | CC9: ალჟირი | CD9: DZ
A10: საქართველოს ეროვნული ბანკის მიერ განხორციელებული ბოლო შემოწმების თარიღი | CC10: ამერიკის სამოა | CD10: AS
CC11: ანგილია | CD11: AI
CC12: ანგოლა | CD12: AO
CC13: ანდორა | CD13: AD
CC14: ანტარქტიდა | CD14: AQ
CC15: ანტიგუა-ბარბუდა | CD15: AG
CC16: არაბთა გაერთიანებული საამიროები | CD16: AE
CC17: არგენტინა | CD17: AR
CC18: არუბა | CD18: AW
CC19: აშშ | CD19: US
CC20: ახალი ზელანდია | CD20: NZ
CC21: ახალი კალედონია | CD21: NC
CC22: ბანგლადეში | CD22: BD
... CC250: ჰონკონგი | CD250: HK

Sheet 02
A1: ფორმა N2. ინფორმაცია კლიენტთა ბაზის სტრუქტურის შესახებ
A3: კლიენტთა ბაზა | B3: სულ პირების რაოდენობა | C3: პირების რაოდენობა | D3: ოპერაციების რაოდენობა | E3: ოპერაციების მოცულობა
A4: სულ | B4: =B5+B8+B11 -> 0 | C4: =C5+C8+C11 -> 0 | D4: =D5+D8+D11 -> 0 | E4: =E5+E8+E11 -> 0
A5: მომეტებული რისკის მატარებელი კლიენტები | B5: =SUM(B6:B7) -> 0 | C5: =SUM(C6:C7) -> 0 | D5: =SUM(D6:D7) -> 0 | E5: =SUM(E6:E7) -> 0
A6: ფიზიკური პირი რეზიდენტი
A7: ფიზიკური პირი არარეზიდენტი
A8: საშუალო რისკის მატარებელი კლიენტები | B8: =SUM(B9:B10) -> 0 | C8: =SUM(C9:C10) -> 0 | D8: =SUM(D9:D10) -> 0 | E8: =SUM(E9:E10) -> 0
A9: ფიზიკური პირი რეზიდენტი
A10: ფიზიკური პირი არარეზიდენტი
A11: ნაკლები რისკის მატარებელი კლიენტები | B11: =SUM(B12:B13) -> 0 | C11: =SUM(C12:C13) -> 0 | D11: =SUM(D12:D13) -> 0 | E11: =SUM(E12:E13) -> 0
A12: ფიზიკური პირი რეზიდენტი
A13: ფიზიკური პირი არარეზიდენტი

Sheet 03
A1: ფორმა N3. ინფორმაცია პროდუქტების/ოპერაციების შესახებ
A3: პროდუქტები/ოპერაციები | B3: ოპერაციების რაოდენობა | C3: ოპერაციების მოცულობა
A4: მთლიანი ბრუნვა
A5: ფასიანი ქაღალდებით უზრუნველყოფილი სესხები
A6: დეპოზიტით უზრუნველყოფილი სესხები
A7: საბლანკო სესხები
A8: ძვირფასი ლითონებით, ქვებით, ანტიკვარიატით, ხელოვნების ნიმუშებით უზრუნველყოლი სესხები
A9: უძრავი ქონებით უზრუნველყოფილი სესხები
A10: სასესხო ვალდებულებები

Sheet 04
A1: ფორმა N4. ინფორმაცია კლიენტთა რეზიდენტობისა და მათ მიერ განხორციელებული ოპერაციების შესახებ
A3: რეგისტრაციის ქვეყნები | B3: ქვეყნის კოდი | C3: გაცემული სესხები | E3: მიღებული დეპოზიტები | G3: კლიენტების რაოდენობა | H3: სულ კლიენტების რაოდენობა
C4: ოპერაციების რაოდენობა | D4: ოპერაციების მოცულობა | E4: ოპერაციების რაოდენობა | F4: ოპერაციების მოცულობა
A5: სულ | C5: =SUM(C6:C256) -> 0 | D5: =SUM(D6:D256) -> 0 | E5: =SUM(E6:E256) -> 0 | F5: =SUM(F6:F256) -> 0 | G5: =SUM(G6:G256) -> 0 | H5: =SUM(H6:H256) -> 0
A6: ავსტრალია | B6: AU
A7: ავსტრია | B7: AT
A8: ავღანეთი | B8: AF
A9: აზერბაიჯანი | B9: AZ
A10: ალანდის კუნძულები | B10: AX
A11: ალბანეთი | B11: AL
A12: ალჟირი | B12: DZ
A13: ამერიკის სამოა | B13: AS
A14: ანგილია | B14: AI
A15: ანგოლა | B15: AO
A16: ანდორა | B16: AD
A17: ანტარქტიდა | B17: AQ
... A254: საქართველო | B254: GE
A255: მოქალაქეობის არმქონე პირები
A256: ქვეყნები/ტერიტორიები, რომლებიც არ არის გამოყოფილი | C256: =SUM(C258:C285) -> 0 | D256: =SUM(D258:D285) -> 0 | E256: =SUM(E258:E285) -> 0 | F256: =SUM(F258:F285) -> 0 | G256: =SUM(G258:G285) -> 0 | H256: =SUM(H258:H285) -> 0
A257: ჩამონათვალი:

Sheet 05
A1: ფორმა N5. ინფორმაცია მესამე პირზე დაყრდნობით, აგენტის/აუთსორსინგული მომსახურების მიმწოდებლის მეშვეობით იდენტიფიცირებულ კლიენტთა შესახებ
A3: ორგანიზაციის დასახელება | B3: ორგანიზაციის სტატუსი | C3: ქვეყანა | D3: ქვეყნის კოდი | E3: პირების რაოდენობა | F3: ოპერაციების რაოდენობა | G3: ოპერაციების მოცულობა
A4: სულ | E4: ='02'!B4 -> 0 | F4: ='02'!D4 -> 0 | G4: ='02'!E4 -> 0 | Z4: მესამე პირი
A5: ჯამი | E5: =SUM(E6:E188) -> 0 | F5: =SUM(F6:F188) -> 0 | G5: =SUM(G6:G188) -> 0 | Z5: აგენტი
D6: =IF(ISERROR(VLOOKUP(C6,'01'!$CC$1:$CD$250,2,))," ",VLOOKUP(C6,'01'!$CC$1:$CD$250,2,)) | Z6: აუთსორსერი
D7: =IF(ISERROR(VLOOKUP(C7,'01'!$CC$1:$CD$250,2,))," ",VLOOKUP(C7,'01'!$CC$1:$CD$250,2,))
D8: =IF(ISERROR(VLOOKUP(C8,'01'!$CC$1:$CD$250,2,))," ",VLOOKUP(C8,'01'!$CC$1:$CD$250,2,))
D9: =IF(ISERROR(VLOOKUP(C9,'01'!$CC$1:$CD$250,2,))," ",VLOOKUP(C9,'01'!$CC$1:$CD$250,2,))
D10: =IF(ISERROR(VLOOKUP(C10,'01'!$CC$1:$CD$250,2,))," ",VLOOKUP(C10,'01'!$CC$1:$CD$250,2,))
D11: =IF(ISERROR(VLOOKUP(C11,'01'!$CC$1:$CD$250,2,))," ",VLOOKUP(C11,'01'!$CC$1:$CD$250,2,))
D12: =IF(ISERROR(VLOOKUP(C12,'01'!$CC$1:$CD$250,2,))," ",VLOOKUP(C12,'01'!$CC$1:$CD$250,2,))
D13: =IF(ISERROR(VLOOKUP(C13,'01'!$CC$1:$CD$250,2,))," ",VLOOKUP(C13,'01'!$CC$1:$CD$250,2,))
D14: =IF(ISERROR(VLOOKUP(C14,'01'!$CC$1:$CD$250,2,))," ",VLOOKUP(C14,'01'!$CC$1:$CD$250,2,))
D15: =IF(ISERROR(VLOOKUP(C15,'01'!$CC$1:$CD$250,2,))," ",VLOOKUP(C15,'01'!$CC$1:$CD$250,2,))
D16: =IF(ISERROR(VLOOKUP(C16,'01'!$CC$1:$CD$250,2,))," ",VLOOKUP(C16,'01'!$CC$1:$CD$250,2,))
D17: =IF(ISERROR(VLOOKUP(C17,'01'!$CC$1:$CD$250,2,))," ",VLOOKUP(C17,'01'!$CC$1:$CD$250,2,))
D18: =IF(ISERROR(VLOOKUP(C18,'01'!$CC$1:$CD$250,2,))," ",VLOOKUP(C18,'01'!$CC$1:$CD$250,2,))
... D188: =IF(ISERROR(VLOOKUP(C188,'01'!$CC$1:$CD$250,2,))," ",VLOOKUP(C188,'01'!$CC$1:$CD$250,2,))

Sheet 06
A1: ფორმა N6. ინფორმაცია მომეტებული რისკის მატარებელი საქმიანობის მქონე და სხვადასხვა ნიშნით რისკის მატარებელი კლიენტების შესახებ
A3: კლიენტების კატეგორიები | B3: კლიენტების რაოდენობა | C3: ოპერაციების მოცულობა
A4: სულ მონაცემები | B4: ='02'!B4 -> 0 | C4: ='02'!E4 -> 0
A5: სულ | B5: =SUM(B6:B12) -> 0 | C5: =SUM(C6:C12) -> 0
A6: ძვირფას ლითონებთან, ძვირფას ქვებთან და მათ ნაწარმთან, ანტიკვარულ ნივთებთან და ხელოვნების ნიმუშებთან დაკავშირებული საქმიანობის განმახორციელებელი პირები
A7: უძრავი ქონების აგენტები
A8: პოლიტიკურად აქტიური პირები
A9: პოლიტიკურად აქტიურ პირებთან ასოცირებული პირები
A10: პირები, რომელთა შესახებ ანგარიშგება ფმს–ში გაიგზავნა საეჭვო სტატუსით
A11: პირები, რომელთაც შეუჩერდათ/შეუწყდათ მომსახურება
A12: სხვა მომეტებული რისკის მატარებელი კლიენტები | B12: =SUM(B13:B20) -> 0 | C12: =SUM(C13:C20) -> 0

Sheet 07
A1: ფორმა N7. ინფორმაცია განხორციელებული ინვესტიციების და სასესხო ველდებულებების შესახებ
A3: პირის დასახელება | B3: ოპერაციების ტიპი | C3: რეზიდენტობა | D3: ქვეყნის კოდი | E3: თანხის მოცულობა
D4: =IF(ISERROR(VLOOKUP(C4,'01'!$CC$1:$CD$250,2,))," ",VLOOKUP(C4,'01'!$CC$1:$CD$250,2,0))
D5: =IF(ISERROR(VLOOKUP(C5,'01'!$CC$1:$CD$250,2,))," ",VLOOKUP(C5,'01'!$CC$1:$CD$250,2,0))
D6: =IF(ISERROR(VLOOKUP(C6,'01'!$CC$1:$CD$250,2,))," ",VLOOKUP(C6,'01'!$CC$1:$CD$250,2,0))
D7: =IF(ISERROR(VLOOKUP(C7,'01'!$CC$1:$CD$250,2,))," ",VLOOKUP(C7,'01'!$CC$1:$CD$250,2,0))
D8: =IF(ISERROR(VLOOKUP(C8,'01'!$CC$1:$CD$250,2,))," ",VLOOKUP(C8,'01'!$CC$1:$CD$250,2,0))
D9: =IF(ISERROR(VLOOKUP(C9,'01'!$CC$1:$CD$250,2,))," ",VLOOKUP(C9,'01'!$CC$1:$CD$250,2,0))
D10: =IF(ISERROR(VLOOKUP(C10,'01'!$CC$1:$CD$250,2,))," ",VLOOKUP(C10,'01'!$CC$1:$CD$250,2,0))
D11: =IF(ISERROR(VLOOKUP(C11,'01'!$CC$1:$CD$250,2,))," ",VLOOKUP(C11,'01'!$CC$1:$CD$250,2,0))
D12: =IF(ISERROR(VLOOKUP(C12,'01'!$CC$1:$CD$250,2,))," ",VLOOKUP(C12,'01'!$CC$1:$CD$250,2,0))
D13: =IF(ISERROR(VLOOKUP(C13,'01'!$CC$1:$CD$250,2,))," ",VLOOKUP(C13,'01'!$CC$1:$CD$250,2,0))
D14: =IF(ISERROR(VLOOKUP(C14,'01'!$CC$1:$CD$250,2,))," ",VLOOKUP(C14,'01'!$CC$1:$CD$250,2,0))
D15: =IF(ISERROR(VLOOKUP(C15,'01'!$CC$1:$CD$250,2,))," ",VLOOKUP(C15,'01'!$CC$1:$CD$250,2,0))
... D276: =IF(ISERROR(VLOOKUP(C276,'01'!$CC$1:$CD$250,2,))," ",VLOOKUP(C276,'01'!$CC$1:$CD$250,2,0))

Sheet 08
A1: ფორმა N8. სტატისტიკური ინფორმაცია ფმს–ში გაგზავნილი ანგარიშგებების შესახებ
A3: ფმს–ში გაგზავნილი ანგარიშგებები | B3: ანგარიშგებების რაოდენობა
A4: სულ | B4: =B5 -> 0
A5: საეჭვო | B5: =SUM(B6:B7) -> 0
A6: ტერორიზმის დაფინანსება
A7: სხვა

Sheet 09
A1: ფორმა N9. ინფორმაცია საეჭვო სტატუსით გაგზავნილი ანგარიშგებების შესახებ კლიენტების რეზიდენტობის მიხედვით
A3: სტატუსი | B3: რეზიდენტობა | C3: ქვეყნის კოდი | D3: პირების რაოდენობა | E3: დამატებითი ინფორმაცია
C4: =IF(ISERROR(VLOOKUP(B4,'01'!$CC$1:$CD$250,2,FALSE))," ",VLOOKUP(B4,'01'!$CC$1:$CD$250,2,FALSE))
C5: =IF(ISERROR(VLOOKUP(B5,'01'!$CC$1:$CD$250,2,FALSE))," ",VLOOKUP(B5,'01'!$CC$1:$CD$250,2,FALSE))
C6: =IF(ISERROR(VLOOKUP(B6,'01'!$CC$1:$CD$250,2,FALSE))," ",VLOOKUP(B6,'01'!$CC$1:$CD$250,2,FALSE))
C7: =IF(ISERROR(VLOOKUP(B7,'01'!$CC$1:$CD$250,2,FALSE))," ",VLOOKUP(B7,'01'!$CC$1:$CD$250,2,FALSE))
C8: =IF(ISERROR(VLOOKUP(B8,'01'!$CC$1:$CD$250,2,FALSE))," ",VLOOKUP(B8,'01'!$CC$1:$CD$250,2,FALSE))
C9: =IF(ISERROR(VLOOKUP(B9,'01'!$CC$1:$CD$250,2,FALSE))," ",VLOOKUP(B9,'01'!$CC$1:$CD$250,2,FALSE))
C10: =IF(ISERROR(VLOOKUP(B10,'01'!$CC$1:$CD$250,2,FALSE))," ",VLOOKUP(B10,'01'!$CC$1:$CD$250,2,FALSE))
C11: =IF(ISERROR(VLOOKUP(B11,'01'!$CC$1:$CD$250,2,FALSE))," ",VLOOKUP(B11,'01'!$CC$1:$CD$250,2,FALSE))
C12: =IF(ISERROR(VLOOKUP(B12,'01'!$CC$1:$CD$250,2,FALSE))," ",VLOOKUP(B12,'01'!$CC$1:$CD$250,2,FALSE))
C13: =IF(ISERROR(VLOOKUP(B13,'01'!$CC$1:$CD$250,2,FALSE))," ",VLOOKUP(B13,'01'!$CC$1:$CD$250,2,FALSE))
C14: =IF(ISERROR(VLOOKUP(B14,'01'!$CC$1:$CD$250,2,FALSE))," ",VLOOKUP(B14,'01'!$CC$1:$CD$250,2,FALSE))
C15: =IF(ISERROR(VLOOKUP(B15,'01'!$CC$1:$CD$250,2,FALSE))," ",VLOOKUP(B15,'01'!$CC$1:$CD$250,2,FALSE))
... C512: =IF(ISERROR(VLOOKUP(B512,'01'!$CC$1:$CD$250,2,FALSE))," ",VLOOKUP(B512,'01'!$CC$1:$CD$250,2,FALSE))

Sheet 10
A1: ფორმა N10. ინფორმაცია საეჭვო სტატუსით გაგზავნილი ანგარიშგებების შესახებ პროდუქტებისა და ოპერაციების/გარიგებების მიხედვით
A3: სტატუსი | B3: პროდუქტის/გარიგების დასახელება | C3: შემთხვევების რაოდენობა | D3: დამატებითი ინფორმაცია

Sheet 11
A1: ფორმა N11. ინფორმაცია სანქცირებული კლიენტების და შეჩერებული გარიგებების შესახებ
A3: რეგისტრაციის ქვეყნები | B3: ქვეყნის კოდი | C3: პირების რაოდენობა რომელთა ქონებას დაედო ყადაღა (გაერო) | D3: პირების რაოდენობა რომელთა ქონებას დაედო ყადაღა (პროკურატურა) | E3: პირების რაოდენობა რომელთა გარიგებები შეჩერდა (სფმს)
A4: სულ | C4: =SUM(C5:C255) -> 0 | D4: =SUM(D5:D255) -> 0 | E4: =SUM(E5:E255) -> 0
A5: ავსტრალია | B5: AU
A6: ავსტრია | B6: AT
A7: ავღანეთი | B7: AF
A8: აზერბაიჯანი | B8: AZ
A9: ალანდის კუნძულები | B9: AX
A10: ალბანეთი | B10: AL
A11: ალჟირი | B11: DZ
A12: ამერიკის სამოა | B12: AS
A13: ანგილია | B13: AI
A14: ანგოლა | B14: AO
A15: ანდორა | B15: AD
A16: ანტარქტიდა | B16: AQ
... A253: საქართველო | B253: GE
A254: მოქალაქეობის არმქონე პირები
A255: ქვეყნები/ტერიტორიები, რომლებიც არ არის გამოყოფილი | C255: =SUM(C257:C285) -> 0 | D255: =SUM(D257:D285) -> 0 | E255: =SUM(E257:E285) -> 0
A256: ჩამონათვალი:

Sheet 12
A1: ფორმა N12. ინფორმაცია სებ–ის რეკომენდაციების შესრულების მდგომარეობის შესახებ
A3: რეკომენდაცია | B3: სებ-ის მიერ დადგენილი შესრულების ვადა | C3: შესრულების მდგომარეობა (სტატუსი) | D3: გატარებული ზომები | E3: შესრულების თარიღი

Sheet 13
A1: ფორმა N13. ინფორმაცია რისკის მატარებელი პროდუქტების შესახებ
A3: პროდუქტის დასახელება | B3: პროდუქტის აღწერილობა | C3: ფულის გათეთრების და ტერორიზმის დაფინანსების რისკფაქტორები | D3: რისკების შემცირების ზომები | E3: პროდუქტის ბრუნვა
