Workbook
Name Date: #REF!
Name Date: #REF!
Name Date: #REF!
Name Date: #REF!
Name Date: #REF!
Name Date: #REF!
Name Date: #REF!
Name Date: #REF!
Name Date: #REF!
Name Date: #REF!
Name Date: #REF!
Name Date: #REF!
Name Date: #REF!
Name Date: #REF!
Name Date: #REF!
Name Date: #REF!
Name Date: #REF!
Name Date: #REF!
Name Date: #REF!
Name Date: #REF!
Name Date: #REF!

Sheet ფორმა N1
A1: ფორმა N1 შემოწირულებები და საწევრო შენატანები | M1: საანგარიშგებო პერიოდი
A2: ფორმა ივსება ქართული შრიფტით (sylfaen), ფონტის ზომა 10
A4: ანგარიშვალდებული პირის დასახელება:
E6: შემომწირველი/საწევრო შენატანის განმახორციელებელი პირი | I6: არაფულადი ფორმით ***
A7: N | B7: ოპერაციის თარიღი | C7: შემოსავლის ტიპი * | D7: თანხა / ღირებულება (ლარებში) | E7: ფიზიკური პირის სახელი და გვარი / იურიდიული პირის დასახელება ** | F7: პირადი ნომერი / საიდენტიფიკაციო კოდი | G7: საბანკო ანგარიშის ნომერი | H7: საბანკო დაწესებულება | I7: ქონების აღწერილობა **** | J7: მომსახურების მოკლე აღწერილობა | K7: არამატერიალური ფასეულობა ***** | L7: რაოდენობა/ მოცულობა | M7: დამატებითი ინფორმაცია
A8: 1 | B8: 2 | C8: 3 | D8: 4 | E8: 5 | F8: 6 | G8: 7 | H8: 8 | I8: 9 | J8: 10 | K8: 11 | L8: 12 | M8: 13
A9: 1
A10: 2
A11: 3
A12: 4
A13: 5
A14: 6
A15: 7
A16: 8
A17: 9
A18: 10
A19: 11
A20: 12
... A27: 19
A28: …
A30: * | B30: მითითებულ ველში ივსება შემოსავლის შესაბამისი ტიპი - შემოწირულება ან საწევრო შენატანი.
A31: ** | B31: მითითებულ ველში ივსება შესაბამისი მონაცემი შემომწირველის (ფიზიკური პირი ან იურიდიული პირი) ან საწევრო შენატანის განმახორციელებელი პირის (ფიზიკური პირი) შესახებ.
A32: *** | B32: არაფულად ფორმაში იგულისხმება უსასყიდლოდ ან ფასდაკლებით/შეღავათიანი პირობებით მიღებული მატერიალური (უძრავი და მოძრავი ნივთი) ან არამატერიალური ფასეულობა (მათ შორის შეღავათიანი კრედიტი) და მომსახურება. შემოწირულების ოდენობა უნდა განისაზღვროს ქონების ან მომსახურების საბაზრო ღირებულების მიხედვით. სსიპ - ანტიკორუფციული ბიურო უფლებამოსილია გადაამოწმოს ქონების/ მომსახურების საბაზრო ღირებულება და საჭიროების შემთხვევაში მოითხოვოს შესაბამისი კორექტირება.
A33: **** | B33: მითითებულ ველში ივსება შემოწირულების სახით მიღებული ქონების შესახებ დეტალური ინფორმაცია (მაგ.: მიწის ფართობი, ადგილმდებარეობა, საკადასტრო კოდი და ა.შ.)
A34: ***** | B34: მითითებულ ველში ივსება შემოწირულების სახით მიღებული არამატერიალური ფასეულობა (მათ შორის შეღავათიანი კრედიტი).
A36: ხელმოწერები:
C38: ხელმძღვანელი | H38: ბუღალტერი (ან საამისოდ უფლებამოსილი პასუხისმგებელი პირი)
C40: ბ.ა.

Sheet ფორმა N2
A1: ფორმა N2 - შემოსავლები (საარჩევნო კამპანიის ფონდის სახსრების გარდა) | C1: საანგარიშგებო პერიოდი
A2: ფორმა ივსება ქართული შრიფტით (sylfaen), ფონტის ზომა 10 | C2: ='ფორმა N1'!M2 -> 0
A4: ანგარიშვალდებული პირის დასახელება:
A5: ='ფორმა N1'!D4 -> 0
A8: N | B8: შემოსავლების ჩამონათვალი | C8: ფაქტობრივი შემოსავალი | D8: საკასო შემოსავალი
A9: 1 | B9: შემოსავლები | C9: =SUM(C10,C26) -> 0 | D9: =SUM(D10,D26) -> 0
A10: 1.1 | B10: შემოსავლები ფულადი სახით | C10: =SUM(C11,C12,C16,C19,C25,C26) -> 0 | D10: =SUM(D11,D12,D16,D19,D24,D25) -> 0
A11: 1.1.1 | B11: საწევრო შენატანები
A12: 1.1.2 | B12: შემოწირულებები | C12: =SUM(C14:C15) -> 0 | D12: =SUM(D14:D15) -> 0
A13: 1.1.2.1 | B13: შემოწირულებები ფიზიკური პირებისაგან
A14: 1.1.2.2 | B14: შემოწირულებები იურიდიული პირებისაგან
A15: 1.1.2.3 | B15: საჯარო ღონისძიებების მეშვეობით მიღებული შემოწირულებები
A16: 1.1.3 | B16: სახელმწიფოს მიერ გამოყოფილი თანხები | C16: =SUM(C17:C18) -> 0 | D16: =SUM(D17:D18) -> 0
A17: 1.1.3.1 | B17: საბიუჯეტო დაფინანსება
A18: 1.1.3.2 | B18: განსხვავებული სქესის წარმომადგენელთათვის გათვალისწინებული დანამატი
A19: 1.1.4 | B19: დამხმარე ხასიათის საქმიანობიდან მიღებული სახსრები | C19: =SUM(C20:C23) -> 0 | D19: =SUM(D20:D23) -> 0
A20: 1.1.4.1 | B20: სიმბოლიკის დამზადებით და გავრცელებით მიღებული შემოსავლები
A21: 1.1.4.2 | B21: ლექციების, გამოფენების და სხვა საჯარო ღონისძიებების მოწყობით მიღებული შემოსავლები
A22: 1.1.4.3 | B22: საგამომცემლო საქმიანობიდან მიღებული თანხები
A23: 1.1.4.4 | B23: საწესდებო მიზნებიდან გამომდინარე სხვა საქმიანობიდან მიღებული თანხები
A24: 1.1.5 | B24: კომერციული ბანკებიდან მიღებული სესხები/კრედიტები
A25: 1.1.6 | B25: სხვა ფულადი შემოსავლები
A26: 1.2 | B26: შემოსავლები არაფულადი სახით | C26: =SUM(C27,C35) -> 0 | D26: =SUM(D27,D35) -> 0
A27: 1.2.1 | B27: შემოწირულებები ფიზიკური პირებისაგან | C27: =SUM(C28:C30) -> 0 | D27: =SUM(D28:D30) -> 0
A28: 1.2.1.1 | B28: შემოწირულებები ფიზიკური პირებისაგან (უძრავი ქონება)
A29: 1.2.1.2 | B29: შემოწირულებები ფიზიკური პირებისაგან (მოძრავი ქონება)
A30: 1.2.1.3 | B30: შემოწირულებები ფიზიკური პირებისაგან (სხვა)
A31: 1.2.2 | B31: შემოწირულებები იურიდიული პირებისაგან | C31: =SUM(C32:C34) -> 0 | D31: =SUM(D32:D34) -> 0
A32: 1.2.2.1 | B32: შემოწირულებები იურიდიული პირებისაგან (უძრავი ქონება)
A33: 1.2.2.2 | B33: შემოწირულებები იურიდიული პირებისაგან (მოძრავი ქონება)
A34: 1.2.2.3 | B34: შემოწირულებები იურიდიული პირებისაგან (სხვა)
A35: 1.2.3 | B35: სხვა არაფულადი შემოსავლები (მათ შორის მოგება კურსთაშორისი სხვაობიდან)
A40: ხელმოწერები:
B43: ხელმძღვანელი ბუღალტერი (ან საამისოდ უფლებამოსილი
B44: პასუხისმგებელი პირი)
B45: ბ.ა.

Sheet ფორმა N3
A1: ფორმა N3 - საარჩევნო კამპანიის ფონდის შემოსავლები | C1: საანგარიშგებო პერიოდი
A2: ფორმა ივსება ქართული შრიფტით (sylfaen), ფონტის ზომა 10 | C2: ='ფორმა N1'!M2 -> 0
A4: ='ფორმა N2'!A4 -> ანგარიშვალდებული პირის დასახელება:
A5: ='ფორმა N1'!D4 -> 0
A8: N | B8: შემოსავლების ჩამონათვალი | C8: ფაქტობრივი შემოსავალი | D8: საკასო შემოსავალი
A9: 1 | B9: შემოსავლები | C9: =SUM(C10,C26) -> 0 | D9: =SUM(D10,D26) -> 0
A10: 1.1 | B10: შემოსავლები ფულადი სახით | C10: =SUM(C11,C12,C16,C19,C25,C26) -> 0 | D10: =SUM(D11,D12,D16,D19,D24,D25) -> 0
A11: 1.1.1 | B11: საწევრო შენატანები
A12: 1.1.2 | B12: შემოწირულებები | C12: =SUM(C14:C15) -> 0 | D12: =SUM(D14:D15) -> 0
A13: 1.1.2.1 | B13: შემოწირულებები ფიზიკური პირებისაგან
A14: 1.1.2.2 | B14: შემოწირულებები იურიდიული პირებისაგან
A15: 1.1.2.3 | B15: საჯარო ღონისძიებების მეშვეობით მიღებული შემოწირულებები
A16: 1.1.3 | B16: სახელმწიფოს მიერ გამოყოფილი თანხები | C16: =SUM(C17:C18) -> 0 | D16: =SUM(D17:D18) -> 0
A17: 1.1.3.1 | B17: საბიუჯეტო დაფინანსება
A18: 1.1.3.2 | B18: განსხვავებული სქესის წარმომადგენელთათვის გათვალისწინებული დანამატი
A19: 1.1.4 | B19: დამხმარე ხასიათის საქმიანობიდან მიღებული სახსრები | C19: =SUM(C20:C23) -> 0 | D19: =SUM(D20:D23) -> 0
A20: 1.1.4.1 | B20: სიმბოლიკის დამზადებით და გავრცელებით მიღებული შემოსავლები
A21: 1.1.4.2 | B21: ლექციების, გამოფენების და სხვა საჯარო ღონისძიებების მოწყობით მიღებული შემოსავლები
A22: 1.1.4.3 | B22: საგამომცემლო საქმიანობიდან მიღებული თანხები
A23: 1.1.4.4 | B23: საწესდებო მიზნებიდან გამომდინარე და სხვა საქმიანობიდან მიღებული თანხები
A24: 1.1.5 | B24: კომერციული ბანკებიდან მიღებული სესხები/კრედიტები
A25: 1.1.6 | B25: სხვა ფულადი შემოსავლები
A26: 1.2 | B26: შემოსავლები არაფულადი სახით | C26: =SUM(C27,C35) -> 0 | D26: =SUM(D27,D35) -> 0
A27: 1.2.1 | B27: შემოწირულებები ფიზიკური პირებისაგან | C27: =SUM(C28:C30) -> 0 | D27: =SUM(D28:D30) -> 0
A28: 1.2.1.1 | B28: შემოწირულებები ფიზიკური პირებისაგან (უძრავი ქონება)
A29: 1.2.1.2 | B29: შემოწირულებები ფიზიკური პირებისაგან (მოძრავი ქონება)
A30: 1.2.1.3 | B30: შემოწირულებები ფიზიკური პირებისაგან (სხვა)
A31: 1.2.2 | B31: შემოწირულებები იურიდიული პირებისაგან | C31: =SUM(C32:C34) -> 0 | D31: =SUM(D32:D34) -> 0
A32: 1.2.2.1 | B32: შემოწირულებები იურიდიული პირებისაგან (უძრავი ქონება)
A33: 1.2.2.2 | B33: შემოწირულებები იურიდიული პირებისაგან (მოძრავი ქონება)
A34: 1.2.2.3 | B34: შემოწირულებები იურიდიული პირებისაგან (სხვა)
A35: 1.2.3 | B35: სხვა არაფულადი შემოსავლები (მათ შორის მოგება კურსთაშორისი სხვაობებიდან)
A40: ხელმოწერები:
B43: ხელმძღვანელი ბუღალტერი (ან საამისოდ უფლებამოსილი
B44: პასუხისმგებელი პირი)
B45: ბ.ა.

Sheet ფორმა N4
A1: ფორმა N4 - ხარჯები | C1: საანგარიშგებო პერიოდი
A2: (საარჩევნო კამპანიის ფონდის ხარჯების გარდა) | C2: ='ფორმა N1'!M2 -> 0
A4: ფორმა ივსება ქართული შრიფტით (sylfaen), ფონტის ზომა 10
A6: ='[1]ფორმა N2'!A4 -> ანგარიშვალდებული პირის დასახელება:
A7: ='ფორმა N1'!D4 -> 0
A10: N | B10: ხარჯების ჩამონათვალი | C10: ფაქტობრივი ხარჯი | D10: საკასო ხარჯი
A11: 1 | B11: ხარჯები | C11: =SUM(C12,C16,C56,C59,C60,C61,C79) -> 0 | D11: =SUM(D12,D16,D56,D59,D60,D61,D67,D75,D76) -> 0
A12: 1.1 | B12: შრომის ანაზღაურება | C12: =SUM(C13:C15) -> 0 | D12: =SUM(D13:D15) -> 0
A13: 1.1.1 | B13: ხელფასები
A14: 1.1.2 | B14: პრემია
A15: 1.1.3 | B15: სხვა ანაზღაურება
A16: 1.2 | B16: საქონელი და მომსახურება | C16: =SUM(C17,C20,C32,C33,C34,C35,C38,C39,C46:C50,C54,C55) -> 0 | D16: =SUM(D17,D20,D32,D33,D34,D35,D38,D39,D46:D50,D54,D55) -> 0
A17: 1.2.1 | B17: მივლინებები | C17: =SUM(C18:C19) -> 0 | D17: =SUM(D18:D19) -> 0
A18: 1.2.1.1 | B18: მივლინებები ქვეყნის შიგნით
A19: 1.2.1.2 | B19: მივლინებები ქვეყნის გარეთ
A20: 1.2.2 | B20: ოფისის ხარჯები | C20: =SUM(C21:C26,C31) -> 0 | D20: =SUM(D21:D26,D31) -> 0
A21: 1.2.2.1 | B21: საკანცელარიო საქონლის, საოფისე ტექნიკისა და ინვენტარის შეძენის, დამონტაჟების და მოვლა-შენახვის ხარჯები
A22: 1.2.2.2 | B22: საოფისე ავეჯი
A23: 1.2.2.3 | B23: შენობა-ნაგებობების და მათი მიმდებარე ტერიტორიების მიმდინარე რემონტის ხარჯები
A24: 1.2.2.4 | B24: კავშირგაბმულობის ხარჯი
A25: 1.2.2.5 | B25: საფოსტო მომსახურების ხარჯი
A26: 1.2.2.6 | B26: კომუნალური ხარჯი | C26: =SUM(C27:C30) -> 0 | D26: =SUM(D27:D30) -> 0
A27: 1.2.2.6.1 | B27: ელექტროენერგიის ხარჯი
A28: 1.2.2.6.2 | B28: წყლის ხარჯი
A29: 1.2.2.6.3 | B29: ბუნებრივი და თხევადი აირის ხარჯი
A30: 1.2.2.6.4 | B30: სხვა კომუნალური ხარჯი
A31: 1.2.2.7 | B31: ოფისის ხარჯი რომელიც არ არის კლასიფიცირებული
A32: 1.2.3 | B32: წარმომადგენლობითი ხარჯები
A33: 1.2.4 | B33: კვების ხარჯები
A34: 1.2.5 | B34: სამედიცინო ხარჯები
A35: 1.2.6 | B35: ტრანსპორტისა და ტექნიკის ექსპლოატაციისა და მოვლა-შენახვის ხარჯები | C35: =SUM(C36:C37) -> 0 | D35: =SUM(D36:D37) -> 0
A36: 1.2.6.1 | B36: საწვავ/საპოხი მასალების შეძენის ხარჯი
A37: 1.2.6.2 | B37: მიმდინარე რემონტის ხარჯი
A38: 1.2.7 | B38: ბანკის მომსახურების ხარჯი
A39: 1.2.8 | B39: რეკლამის ხარჯი | C39: =SUM(C40:C45) -> 0 | D39: =SUM(D40:D45) -> 0
A40: 1.2.8.1 | B40: სატელევიზიო რეკლამის ხარჯები
A41: 1.2.8.2 | B41: ბეჭდური რეკლამის ხარჯები
A42: 1.2.8.3 | B42: ინტერნეტ-რეკლამის ხარჯი
A43: 1.2.8.4 | B43: ბრენდირებული აქსესუარებით რეკლამის ხარჯი
A44: 1.2.8.5 | B44: გარე რეკლამის ხარჯი *
A45: 1.2.8.6 | B45: სხვა სარეკლამო ხარჯები
A46: 1.2.9 | B46: სესიების, კონფერენციების, ყრილობების, სემინარების და სხვა სამუშაო შეხვედრების მოწყობის ხარჯები
A47: 1.2.10 | B47: საკონსულტაციო, სანოტარო, თარჯიმნის და თარგმნის მომსახურების
A48: 1.2.11 | B48: აუდიტორიული მომსახურების ხარჯი
A49: 1.2.12 | B49: შენობა-ნაგებობების დაცვის ხარჯი
A50: 1.2.13 | B50: იჯარის ხარჯი | C50: =SUM(C51:C53) -> 0 | D50: =SUM(D51:D53) -> 0
A51: 1.2.13.1 | B51: უძრავი ქონების იჯარის ხარჯი
A52: 1.2.13.2 | B52: ავტოსატრანსპორტო საშუალებების იჯარის ხარჯი
A53: 1.2.13.3 | B53: სხვა მოძრავი ქონების იჯარის ხარჯი
A54: 1.2.14 | B54: კულტურული, სპორტული, საგანმანათლებლო და საგამოფენო ღონისძიებები
A55: 1.2.15 | B55: სხვა დანარჩენი საქონელი და მომსახურება
A56: 1.3 | B56: პირებისათვის მატერიალური და არამატერიალური ფასეულობების გადაცემა | C56: =SUM(C57:C58) -> 0 | D56: =SUM(D57:D58) -> 0
A57: 1.3.1 | B57: მცირე ღირებულების აქსესუარები (მაისურები, კეპები, ქუდები, დროშები და ა.შ.)
A58: 1.3.2 | B58: სხვა ფასეულობები
A59: 1.4 | B59: დამხმარე ხასიათის საქმიანობისათვის გაწეული ხარჯები
A60: 1.5 | B60: სოციალური უზრუნველყოფა
A61: 1.6 | B61: სხვა ხარჯები | C61: =SUM(C62:C66) -> 0 | D61: =SUM(D62:D66) -> 0
A62: 1.6.1 | B62: დაზღვევის ხარჯი
A63: 1.6.2 | B63: გადასახადები (გარდა საშემოსავლო და საქონლის ღირებულებაში აღრიცხული დღგ-ის)
A64: 1.6.3 | B64: მოსაკრებლები
A65: 1.6.4 | B65: სხვადასხვა ხარჯები
A66: 1.6.5 | B66: ზარალი კურსთაშორისი სხვაობებიდან
A67: 2 | B67: არაფინანსური აქტივების ზრდა | D67: =SUM(D68:D74) -> 0
A68: 2.1 | B68: შენობა-ნაგებობები
A69: 2.2 | B69: დაუმთავრებელი მშენებლობა
A70: 2.3 | B70: მიწა
A71: 2.4 | B71: სატრანსპორტო საშუალებები
A72: 2.5 | B72: სხვა მანქანა დანადგარები და ინვენტარი
A73: 2.6 | B73: სხვა ძირითადი აქტივები
A74: 2.7 | B74: სხვა მატერიალური მარაგები
A75: 3 | B75: სხვა ფინანსური აქტივების ზრდა
A76: 4 | B76: ვალდებულებების კლება | D76: =SUM(D77:D78) -> 0
A77: 4.1 | B77: კომერციული ბანკებიდან მიღებული სესხების დაფარვა
A78: 4.2 | B78: სხვა სესხების დაფარვა
A79: 5 | B79: ძირითადი კაპიტალის მოხმარება
A81: * ბილბორდი, ლაით ბოქსი, ქუჩაში დამონტაჟებული ეკრანი, სატრანსპორტო საშუალებებზე განთავსებული რეკლამა და სხვა.
A84: ხელმოწერები:
B87: ხელმძღვანელი ბუღალტერი (ან საამისოდ უფლებამოსილი
B88: პასუხისმგებელი პირი)
B89: ბ.ა.

Sheet ფორმა N4.1
A1: ფორმა N4.1 - სხვადასხვა ხარჯებისა და სხვა დანარჩენი საქონლისა და მომსახურების | C1: საანგარიშგებო პერიოდი
A2: განმარტებითი შენიშვნა* | C2: ='ფორმა N1'!M2 -> 0
A3: ფორმა ივსება ქართული შრიფტით (sylfaen), ფონტის ზომა 10
A5: ='ფორმა N2'!A4 -> ანგარიშვალდებული პირის დასახელება:
A6: ='ფორმა N1'!D4 -> 0
A9: N | B9: ხარჯის კლასიფიკაცია ბუნებისა და შინაარსის მიხედვით | C9: ფაქტობრივი ხარჯი | D9: საკასო ხარჯი
A10: 1.6.4.1
A11: 1.6.4.2
A12: ...
A13: ...
A14: ...
A15: ...
A16: ...
A17: 1.2.15.1
A18: 1.2.15.2
A19: ...
A20: ...
A21: ...
... A23: ...
B24: სულ** | C24: =SUM(C10:C23) -> 0 | D24: =SUM(D10:D23) -> 0
A26: * ფორმა N4.1 ივსება მხოლოდ იმ შემთხვევაში, თუ ფორმა N4-ში წარმოდგენილი სხვადასხვა ხარჯები (1.6.4), სხვა დანარჩენი საქონლისა და მომსახურების (1.2.15) ფაქტიური და საკასო ხარჯის მოცულობა ცალ-ცალკე ან ერთად აღებული აღემატება ამავე ფორმის N 1.2 ან N 1.6 მუხლების შესაბამისი მნიშვნელობების 5 %-ს ან 1000 ლარს
A28: ** ჯამური მაჩვენებლები უნდა ედრებოდეს ფორმა N 4-ში წარმოდგენილ N 1.2.15 და N 1.6.4 მუხლების შესაბამის მნიშნელობათა ჯამს
A32: ხელმოწერები:
B35: ხელმძღვანელი ბუღალტერი (ან საამისოდ უფლებამოსილი
B36: პასუხისმგებელი პირი)
B37: ბ.ა.

Sheet ფორმა 4.2
A1: ფორმა N4.2 - შრომის ანაზღაურება (ხელფასი ან ნებისმიერი სხვა ანაზღაურება რომელსაც იღებს დასაქმებული დამსაქმებლისგან სამუშაოს შესრულების სანაცვლოდ) | I1: საანგარიშგებო პერიოდი
A2: ფორმა ივსება ქართული შრიფტით (sylfaen), ფონტის ზომა 10 | I2: ='ფორმა N1'!M2 -> 0
A4: ='ფორმა N2'!A4 -> ანგარიშვალდებული პირის დასახელება:
A5: ='ფორმა N1'!D4 -> 0
A8: N | B8: სახელი | C8: გვარი | D8: პირადი ნომერი | E8: პოზიცია | F8: განაცემის ტიპი | G8: ფაქტობრივი ხარჯი | H8: საკასო ხარჯი | I8: გადახდის წყაროსთან დაკავებული საშემოსავლო გადასახადი | J8: ხელფასი
A9: 1 | J9: პრემია
A10: 2
A11: 3
A12: 4
A13: 5
A14: 6
A15: 7
A16: 8
A17: 9
A18: 10
A19: 11
A20: 12
A21: 13
... A23: 15
A24: …
F25: სულ: * | G25: =SUM(G9:G24) -> 0 | H25: =SUM(H9:H24) -> 0 | I25: =SUM(I9:I24) -> 0
A27: * ჯამური მაჩვენებლები უნდა ედრებოდეს ფორმა N4-ში და N5-ში წარმოდგენილი N 1.1.1 და N 1.1.2 მუხლების შესაბამის მნიშვნელობათა ჯამს.
A29: ხელმოწერები:
C32: ხელმძღვანელი ბუღალტერი (ან საამისოდ უფლებამოსილი
C33: პასუხისმგებელი პირი)
C34: ბ.ა.

Sheet ფორმა N4.3
A1: ფორმა N4.3 - მივლინებები | G1: საანგარიშგებო პერიოდი
A2: ფორმა ივსება ქართული შრიფტით (sylfaen), ფონტის ზომა 10 | G2: ='ფორმა N1'!M2 -> 0
A4: ='ფორმა N2'!A4 -> ანგარიშვალდებული პირის დასახელება:
A5: ='ფორმა N1'!D4 -> 0
A8: N | B8: სახელი | C8: გვარი | D8: პირადი ნომერი | E8: მივლინება | H8: ხარჯი
E9: დანიშნულება | F9: ადგილი | G9: პერიოდი (დღეებში) | H9: ფაქტობრივი | I9: საკასო
G35: სულ * | H35: =SUM(H10:H34) -> 0 | I35: =SUM(I10:I34) -> 0
A37: * ჯამური მაჩვენებლები უნდა ედრებოდეს ფორმა N4-ში და N5-ში წარმოდგენილი N 1.2.1 მუხლის შესაბამისი მნიშვნელობის ჯამს
A39: ხელმოწერები:
B42: ხელმძღვანელი ბუღალტერი (ან საამისოდ უფლებამოსილი
B43: პასუხისმგებელი პირი)
B44: ბ.ა.

Sheet ფორმა 4.4
A1: ფორმა N4.4 - სხვა განაცემები ფიზიკურ პირებზე (შრომის ანაზღაურების გარდა) | G1: საანგარიშგებო პერიოდი
A2: ფორმა ივსება ქართული შრიფტით (sylfaen), ფონტის ზომა 10 | G2: ='ფორმა N1'!M2 -> 0
A4: ='ფორმა N2'!A4 -> ანგარიშვალდებული პირის დასახელება:
A5: ='ფორმა N1'!D4 -> 0
A8: N | B8: სახელი | C8: გვარი | D8: პირადი ნომერი | E8: განაცემის ტიპი | F8: თვე | G8: ფაქტობრივი ხარჯი | H8: საკასო ხარჯი | J8: ხელფასი
J9: პრემია
F34: სულ * | G34: =SUM(G9:G33) -> 0 | H34: =SUM(H9:H33) -> 0
A36: * ჯამური მაჩვენებლები უნდა ედრებოდეს ფორმა N4-ში და N5-ში წარმოდგენილი N1.3 მუხლების შესაბამის მნიშვნელობათა ჯამს
A41: ხელმოწერები:
C44: ხელმძღვანელი ბუღალტერი (ან საამისოდ უფლებამოსილი
C45: პასუხისმგებელი პირი)
C46: ბ.ა.

Sheet ფორმა 4.5
A2: ფორმა N4.5 - რეკლამის ხარჯი | L2: საანგარიშგებო პერიოდი
A3: ფორმა ივსება ქართული შრიფტით (sylfaen), ფონტის ზომა 10 | K3: ='ფორმა N1'!M2 -> 0
A5: ანგარიშვალდებული პირის დასახელება:
A6: ='ფორმა N1'!D4 -> 0
A9: N | B9: რეკლამის ფორმა | C9: შემსრულებელი კომპანია/პირი | D9: საიდენტიფიკაციო ნომერი | E9: რეკლამის დამკვეთი* | F9: ტირაჟი/ხანგრძლივობა | G9: ფართობი** | H9: რეკლამირებული სუბიექტი*** | I9: ერთეულის ტიპი (კვ.მ.; წუთი...) | J9: ერთეულის ღირებულება (ლარი) | K9: ჯამური ღირებულება (ლარი) | L9: შენიშვნა
A10: 1
A11: 2
A12: 3
A13: 4
A14: 5
A15: 6
A16: 7
A17: 8
A18: 9
A19: 10
A20: 11
A21: 12
... A33: 24
A34: …
J35: სულ:**** | K35: =SUM(K10:K34) -> 0
A37: * რეკლამის დამკვეთი შესაძლებელია იყოს დეკლარაციის წარმომდგენი სუბიექტი (პარტია, საარჩევნო სუბიექტობის კანდიდატი, საარჩევნო სუბიექტი, გაცხადებეული საარჩევნო მიზნის მქონე პირი) ან შემომწირველი, რომელის შესახებ ინფორმაცია ასევე უნდა აისახოს ფორმა N1-ში
A38: ** ბეჭდური და ინტერნეტ რეკლამის შემთხვევაში
A39: *** რეკლამაზე გამოსახული პარტიის, საარჩევნო სუბიექტობის კანდიდატის,საარჩევნო სუბიექტის, განცხადებული საარჩევნო მიზნის მქონე პირის ვინაობა/დასახელება
A40: **** ჯამური მაჩვენებლები უნდა ედრებოდეს ფორმა N4-ში წარმოდგენილი N 1.2.8 მუხლის შესაბამის მნიშვნელობებს
A41: ***** გარე რეკლამად არ ითვლება და ეს ფორმა არ მოიცავს პარტიის/საარჩევნო სუბიექტის ოფისის ფასადზე ან/და ღონისძიების გამართვის ადგილას სარეკლამო მასალის განთავსების (და არა დამზადება-დამონტაჟების) ხარჯს
A43: ხელმოწერები:
C45: ხელმძღვანელი | G45: ბუღალტერი (ან საამისოდ უფლებამოსილი პასუხისმგებელი პირი)
C47: ბ.ა.

Sheet ფორმა N5
A1: ფორმა N5 - საარჩევნო კამპანიის ფონდის ხარჯები | C1: საანგარიშგებო პერიოდი
A2: ფორმა ივსება ქართული შრიფტით (sylfaen), ფონტის ზომა 10 | C2: ='ფორმა N1'!M2 -> 0
A4: ანგარიშვალდებული პირის დასახელება:
A5: ='ფორმა N1'!D4 -> 0
A8: N | B8: ხარჯების ჩამონათვალი | C8: ფაქტობრივი ხარჯი | D8: საკასო ხარჯი
A9: 1 | B9: ხარჯები | C9: =SUM(C10,C14,C54,C57,C58,C59,C76) -> 0 | D9: =SUM(D10,D14,D54,D57,D58,D59,D65,D72,D73) -> 0
A10: 1.1 | B10: შრომის ანაზღაურება | C10: =SUM(C11:C13) -> 0 | D10: =SUM(D11:D13) -> 0
A11: 1.1.1 | B11: ხელფასები
A12: 1.1.2 | B12: პრემია
A13: 1.1.3 | B13: სხვა ანაზღაურება
A14: 1.2 | B14: საქონელი და მომსახურება | C14: =SUM(C15,C18,C30:C33,C36,C37,C44,C45,C46,C47,C48,C52,C53) -> 0 | D14: =SUM(D15,D18,D30:D33,D36,D37,D44,D45,D46,D47,D48,D52,D53) -> 0
A15: 1.2.1 | B15: მივლინებები | C15: =SUM(C16:C17) -> 0 | D15: =SUM(D16:D17) -> 0
A16: 1.2.1.1 | B16: მივლინებები ქვეყნის შიგნით
A17: 1.2.1.2 | B17: მივლინებები ქვეყნის გარეთ
A18: 1.2.2 | B18: ოფისის ხარჯები | C18: =SUM(C19:C24,C29) -> 0 | D18: =SUM(D19:D24,D29) -> 0
A19: 1.2.2.1 | B19: საკანცელარიო საქონლის, საოფისე ტექნიკისა და ინვენტარის შეძენის, დამონტაჟების და მოვლა-შენახვის ხარჯები
A20: 1.2.2.2 | B20: საოფისე ავეჯი
A21: 1.2.2.3 | B21: შენობა-ნაგებობების და მათი მიმდებარე ტერიტორიების მიმდინარე რემონტის ხარჯები
A22: 1.2.2.4 | B22: კავშირგაბმულობის ხარჯი
A23: 1.2.2.5 | B23: საფოსტო მომსახურების ხარჯი
A24: 1.2.2.6 | B24: კომუნალური ხარჯი | C24: =SUM(C25:C28) -> 0 | D24: =SUM(D25:D28) -> 0
A25: 1.2.2.6.1 | B25: ელექტროენერგიის ხარჯი
A26: 1.2.2.6.2 | B26: წყლის ხარჯი
A27: 1.2.2.6.3 | B27: ბუნებრივი და თხევადი აირის ხარჯი
A28: 1.2.2.6.4 | B28: სხვა კომუნალური ხარჯი
A29: 1.2.2.7 | B29: ოფისის ხარჯი რომელიც არ არის კლასიფიცირებული
A30: 1.2.3 | B30: წარმომადგენლობითი ხარჯები
A31: 1.2.4 | B31: კვების ხარჯები
A32: 1.2.5 | B32: სამედიცინო ხარჯები
A33: 1.2.6 | B33: ტრანსპორტისა და ტექნიკის ექსპლოატაციისა და მოვლა-შენახვის ხარჯები | C33: =SUM(C34:C35) -> 0 | D33: =SUM(D34:D35) -> 0
A34: 1.2.6.1 | B34: საწვავ/საპოხი მასალების შეძენის ხარჯი
A35: 1.2.6.2 | B35: მიმდინარე რემონტის ხარჯი
A36: 1.2.7 | B36: ბანკის მომსახურების ხარჯი
A37: 1.2.8 | B37: რეკლამის ხარჯები | C37: =SUM(C38:C43) -> 0 | D37: =SUM(D38:D43) -> 0
A38: 1.2.8.1 | B38: სატელევიზიო რეკლამის ხარჯები
A39: 1.2.8.2 | B39: ბეჭდური რეკლამის ხარჯები
A40: 1.2.8.3 | B40: ინტერნეტ-რეკლამის ხარჯი
A41: 1.2.8.4 | B41: ბრენდირებული აქსესუარებით რეკლამის ხარჯი
A42: 1.2.8.5 | B42: გარე რეკლამის ხარჯი *
A43: 1.2.8.6 | B43: სხვა სარეკლამო ხარჯები
A44: 1.2.9 | B44: სესიების, კონფერენციების, ყრილობების, სემინარების და სხვა სამუშაო შეხვედრების მოწყობის ხარჯები
A45: 1.2.10 | B45: საკონსულტაციო, სანოტარო, თარჯიმნის და თარგმნის მომსახურების
A46: 1.2.11 | B46: აუდიტორიული მომსახურების ხარჯი
A47: 1.2.12 | B47: შენობა-ნაგებობების დაცვის ხარჯი
A48: 1.2.13 | B48: საიჯარო ქირის ხარჯი | C48: =SUM(C49:C51) -> 0 | D48: =SUM(D49:D51) -> 0
A49: 1.2.13.1 | B49: უძრავი ქონების იჯარის ხარჯი
A50: 1.2.13.2 | B50: ავტოსატრანსპორტო საშუალებების იჯარის ხარჯი
A51: 1.2.13.3 | B51: სხვა მოძრავი ქონების იჯარის ხარჯი
A52: 1.2.14 | B52: კულტურული, სპორტული, საგანმანათლებლო და საგამოფენო ღონისძიებები
A53: 1.2.15 | B53: სხვა დანარჩენი საქონელი და მომსახურება
A54: 1.3 | B54: პირებისათვის მატერიალური და არამატერიალური ფასეულობების გადაცემა | C54: =SUM(C55:C56) -> 0 | D54: =SUM(D55:D56) -> 0
A55: 1.3.1 | B55: მცირე ღირებულების აქსესუარები (მაისურები, კეპები, ქუდები, დროშები და ა.შ.)
A56: 1.3.2 | B56: სხვა ფასეულობები
A57: 1.4 | B57: დამხმარე ხასიათის საქმიანობისათვის გაწეული ხარჯები
A58: 1.5 | B58: სოციალური უზრუნველყოფა
A59: 1.6 | B59: სხვა ხარჯები | C59: =SUM(C60:C64) -> 0 | D59: =SUM(D60:D64) -> 0
A60: 1.6.1 | B60: დაზღვევის ხარჯი
A61: 1.6.2 | B61: გადასახადები (გარდა საშემოსავლო და საქონლის ღირებულებაში აღრიცხული დღგ-ის)
A62: 1.6.3 | B62: მოსაკრებლები
A63: 1.6.4 | B63: სხვადასხვა ხარჯები
A64: 1.6.5 | B64: ზარალი კურსთაშორისი სხვაობებიდან
A65: 2 | B65: არაფინანსური აქტივების შეძენისათვის გადახდილი თანხები | D65: =SUM(D66:D71) -> 0
A66: 2.1 | B66: შენობა-ნაგებობები
A67: 2.2 | B67: მიწა
A68: 2.3 | B68: სატრანსპორტო საშუალებები
A69: 2.4 | B69: სხვა მანქანა დანადგარები და მოწყობილობები
A70: 2.5 | B70: სხვა ძირითადი აქტივები
A71: 2.6 | B71: სხვა მატერიალური მარაგები
A72: 3 | B72: სხვა ფინანსური აქტივების ზრდა
A73: 4 | B73: ვალდებულებების კლება | C73: =SUM(C74:C75) -> 0 | D73: =SUM(D74:D75) -> 0
A74: 4.1 | B74: კომერციული ბანკებიდან მიღებული სესხების დაფარვა
A75: 4.2 | B75: სხვა სესხების დაფარვა
A76: 5 | B76: ძირითადი კაპიტალის მოხმარება
A78: * ბილბორდი, ლაით ბოქსი, ქუჩაში დამონტაჟებული ეკრანი, სატრანსპორტო საშუალებებზე განთავსებული რეკლამა და სხვა.
A81: ხელმოწერები:
B84: ხელმძღვანელი
B85: ბუღალტერი (ან საამისოდ უფლებამოსილი
B86: ბ.ა.
B87: პასუხისმგებელი პირი)

Sheet ფორმა N5.1
A1: ფორმა N5.1 - სხვადასხვა ხარჯებისა და სხვა დანარჩენი საქონლისა და მომსახურების | C1: საანგარიშგებო პერიოდი
A2: განმარტებითი შენიშვნა* | C2: ='ფორმა N1'!M2 -> 0
A3: ფორმა ივსება ქართული შრიფტით (sylfaen), ფონტის ზომა 10
A5: ='ფორმა N2'!A4 -> ანგარიშვალდებული პირის დასახელება:
A6: ='ფორმა N1'!D4 -> 0
A9: N | B9: ხარჯის კლასიფიკაცია ბუნებისა და შინაარსის მიხედვით | C9: ფაქტობრივი ხარჯი | D9: საკასო ხარჯი
A10: 1.6.4.1
A11: 1.6.4.2
A12: ...
A13: ...
A14: ...
A15: ...
A16: ...
A17: 1.2.15.1
A18: 1.2.15.2
A19: ...
A20: ...
A21: ...
... A23: ...
B25: სულ ** | C25: =SUM(C10:C24) -> 0 | D25: =SUM(D10:D24) -> 0
A33: * ფორმა N5.1 ივსება მხოლოდ იმ შემთხვევაში, თუ ფორმა N5-ში წარმოდგენილი სხვადასხვა ხარჯები (1.6.4), სხვა დანარჩენი საქონლისა და მომსახურების (1.2.15) ფაქტიური და საკასო ხარჯის მოცულობა ცალ-ცალკე ან ერთად აღებული აღემატება ამავე ფორმის N 1.2 ან N 1.6 მუხლების შესაბამისი მნიშვნელობების 5 %-ს ან 1000 ლარს
A34: ** ჯამური მაჩვენებლები უნდა ედრებოდეს ფორმა N 5-ში წარმოდგენილ N 1.2.15 და N 1.6.4 მუხლების შესაბამის მნიშნელობათა ჯამს
A37: ხელმოწერები:
B40: ხელმძღვანელი ბუღალტერი (ან საამისოდ უფლებამოსილი
B41: პასუხისმგებელი პირი)
B42: ბ.ა.

Sheet ფორმა 5.2
A1: ფორმა N5.2 - შრომის ანაზღაურება (ხელფასი ან ნებისმიერი სხვა ანაზღაურება, რომელსაც იღებს დასაქმებული დამსაქმებლისგან სამუშაოს შესრულების სანაცვლოდ) | I1: საანგარიშგებო პერიოდი
A2: ფორმა ივსება ქართული შრიფტით (sylfaen), ფონტის ზომა 10 | I2: ='ფორმა N1'!M2 -> 0
A4: ანგარიშვალდებული პირის დასახელება:
A5: ='ფორმა N1'!D4 -> 0
A8: N | B8: სახელი | C8: გვარი | D8: პირადი ნომერი | E8: პოზიცია | F8: განაცემის ტიპი | G8: ფაქტობრივი ხარჯი | H8: საკასო ხარჯი | I8: გადახდის წყაროსთან დაკავებული საშემოსავლო გადასახადი | J8: ხელფასი
A9: 1 | J9: პრემია
A10: 2
A11: 3
A12: 4
A13: 5
A14: 6
A15: 7
A16: 8
A17: 9
A18: 10
A19: 11
A20: 12
A21: 13
... A23: 15
A24: …
F25: სულ:* | G25: =SUM(G9:G24) -> 0 | H25: =SUM(H9:H24) -> 0 | I25: =SUM(I9:I24) -> 0
A27: * ჯამური მაჩვენებლები უნდა ედრებოდეს ფორმა N5-ში წარმოდგენილი N 1.1.1 და N1.1.2 მუხლების შესაბამის მნიშვნელობათა ჯამს.
A30: ხელმოწერები:
C33: ხელმძღვანელი ბუღალტერი (ან საამისოდ უფლებამოსილი
C34: პასუხისმგებელი პირი)
C35: ბ.ა.

Sheet ფორმა N5.3
A1: ფორმა N5.3 - მივლინებები | G1: საანგარიშგებო პერიოდი
A2: ფორმა ივსება ქართული შრიფტით (sylfaen), ფონტის ზომა 10 | G2: ='ფორმა N1'!M2 -> 0
A4: ანგარიშვალდებული პირის დასახელება:
A5: ='ფორმა N1'!D4 -> 0
A8: N | B8: სახელი | C8: გვარი | D8: პირადი ნომერი | E8: მივლინება | H8: ხარჯი
E9: დანიშნულება | F9: ადგილი | G9: პერიოდი (დღეებში) | H9: ფაქტობრივი | I9: საკასო
G34: სულ* | H34: =SUM(H9:H33) -> 0 | I34: =SUM(I9:I33) -> 0
A36: * ჯამური მაჩვენებლები უნდა ედრებოდეს ფორმა N5-ში წარმოდგენილი N 1.2.1 მუხლის შესაბამის მნიშვნელობებს.
A39: ხელმოწერები:
B42: ხელმძღვანელი ბუღალტერი (ან საამისოდ უფლებამოსილი
B43: პასუხისმგებელი პირი)
B44: ბ.ა.

Sheet ფორმა 5.4
A1: ფორმა N5.4 - სხვა განაცემები ფიზიკურ პირებზე (შრომის ანაზღაურების გარდა) | G1: საანგარიშგებო პერიოდი
A2: ფორმა ივსება ქართული შრიფტით (sylfaen), ფონტის ზომა 10 | G2: ='ფორმა N1'!M2 -> 0
A4: ანგარიშვალდებული პირის დასახელება:
A5: ='ფორმა N1'!D4 -> 0
A8: N | B8: სახელი | C8: გვარი | D8: პირადი ნომერი | E8: განაცემის ტიპი | F8: თვე | G8: ფაქტობრივი ხარჯი | H8: საკასო ხარჯი | J8: ხელფასი
J9: პრემია
F34: სულ * | G34: =SUM(G9:G33) -> 0 | H34: =SUM(H9:H33) -> 0
A36: * ჯამური მაჩვენებლები უნდა ედრებოდეს ფორმა N5-ში წარმოდგენილ N1.3 მუხლის შესაბამის მნიშვნელობებს.
A40: ხელმოწერები:
C43: ხელმძღვანელი ბუღალტერი (ან საამისოდ უფლებამოსილი
C44: პასუხისმგებელი პირი)
C45: ბ.ა.

Sheet ფორმა 5.5
A2: ფორმა N5.5 - რეკლამის ხარჯი | L2: საანგარიშგებო პერიოდი
A3: ფორმა ივსება ქართული შრიფტით (sylfaen), ფონტის ზომა 10 | K3: ='ფორმა N1'!M2 -> 0
A5: ანგარიშვალდებული პირის დასახელება:
A6: ='ფორმა N1'!D4 -> 0
A9: N | B9: რეკლამის ფორმა | C9: შემსრულებელი კომპანია/პირი | D9: საიდენტიფიკაციო ნომერი | E9: რეკლამის დამკვეთი* | F9: ტირაჟი/ხანგრძლივობა | G9: ფართობი** | H9: რეკლამირებული სუბიექტი*** | I9: ერთეულის ტიპი (კვ.მ.; წუთი...) | J9: ერთეულის ღირებულება (ლარი) | K9: ჯამური ღირებულება (ლარი) | L9: შენიშვნა
A10: 1
A11: 2
A12: 3
A13: 4
A14: 5
A15: 6
A16: 7
A17: 8
A18: 9
A19: 10
A20: 11
A21: 12
... A33: 24
A34: …
J35: სულ:**** | K35: =SUM(K10:K34) -> 0
A37: * რეკლამის დამკვეთი შესაძლებელია იყოს დეკლარაციის წარმომდგენი სუბიექტი (პარტია, საარჩევნო სუბიექტობის კანდიდატი,საარჩევნო სუბიექტი, გაცხადებეული საარჩევნო მიზნის მქონე პირი) ან შემომწირველი, რომელის შესახებ ინფორმაცია ასევე უნდა აისახოს ფორმა N1-ში
A38: ** ბეჭდური და ინტერნეტ რეკლამის შემთხვევაში
A39: *** რეკლამაზე გამოსახული პარტიის, საარჩევნო სუბიექტობის კანდიდატის, საარჩევნო სუბიექტის,განცხადებული საარჩევნო მიზნის მქონე პირის ვინაობა/დასახელება
A40: **** ჯამური მაჩვენებლები უნდა ედრებოდეს ფორმა N5-ში წარმოდგენილი N 1.2.8 მუხლის შესაბამის მნიშვნელობებს
A41: ***** გარე რეკლამად არ ითვლება და ეს ფორმა არ მოიცავს პარტიის/საარჩევნო სუბიექტის ოფისის ფასადზე ან/და ღონისძიების გამართვის ადგილას სარეკლამო მასალის განთავსების (და არა დამზადება-დამონტაჟების) ხარჯს
A43: ხელმოწერები:
C45: ხელმძღვანელი | G45: ბუღალტერი (ან საამისოდ უფლებამოსილი პასუხისმგებელი პირი)
C47: ბ.ა.

Sheet ფორმა N6
A1: ფორმა N6 - საბალანსო ანგარიშგება | C1: საანგარიშგებო თარიღი
A2: ფორმა ივსება ქართული შრიფტით (sylfaen), ფონტის ზომა 10 | D2: ='ფორმა N1'!M2 -> 0
A4: ='ფორმა N2'!A4 -> ანგარიშვალდებული პირის დასახელება:
A5: ='ფორმა N1'!D4 -> 0
A8: ანგარიშის ნომერი | B8: ანგარიშის დასახელება | C8: ნაშთი პერიოდის სადაწყისში | D8: ნაშთი პერიოდის ბოლოს
A10: სულ აქტივები | C10: =SUM(C11,C34) -> 0 | D10: =SUM(D11,D34) -> 0
A11: სულ ფინანსური აქტივები და სხვა დებიტორული დავალიანებები | C11: =SUM(C12:C32) -> 0 | D11: =SUM(D12:D32) -> 0
A12: 1110 | B12: ნაღდი ფული სალაროში ეროვნულ ვალუტაში
A13: 1120 | B13: ნაღდი ფული სალაროში უცხოურ ვალუტაში
A14: 1211 | B14: საანგარიშსწორებო (მიმდინარე) ანგარიში ბანკში
A15: 1212 | B15: სავალუტო ანგარიში ბანკში
A16: 1213 | B16: დეპოზიტები ბანკში ეროვნულ ვალუტაში
A17: 1214 | B17: დეპოზიტები ბანკში უცხოურ ვალუტაში
A18: 1215 | B18: სხვა ანგარიშები ბანკში
A19: 1300 | B19: სხვა ფინანსური აქტივები
A20: 1410 | B20: მოთხოვნები მიწოდებიდან და მომსახურებიდან
A21: 1421 | B21: მოთხოვნები მივლინებით
A22: 1422 | B22: მოთხოვნები დანაკლისებით
A23: 1423 | B23: ანგარიშვალდებული პირების მიმართ სხვა მოთხოვნები
... A32: 1446 | B32: სხვა დანარჩენი დებიტორული დავალიანებები
A34: სულ არაფინანსური აქტივები | C34: =SUM(C35:C42) -> 0 | D34: =SUM(D35:D42) -> 0
A35: 2110 | B35: შენობა-ნაგებობები
A36: 2120 | B36: მანქანა-დანადგარები და ინვენტარი
A37: 2130 | B37: სხვა ძირითადი აქტივები
A38: 2140 | B38: დაუმთავრებელი მშენებლობა
A39: 2150 | B39: სხვა დანარჩენი ძირითადი აქტივები
A40: 2220 | B40: სხვა მატერიალური მარაგები
A41: 2300 | B41: ფასეულობები
A42: 2400 | B42: არაწარმოებული აქტივები
A44: სულ ვალდებულებები და კაპიტალი | C44: =SUM(C45,C64) -> 0 | D44: =SUM(D45,D64) -> 0
A45: სულ ფინანსური ვალდებულებები და სხვა კრედიტორული დავალიანებები | C45: =SUM(C46:C61) -> 0 | D45: =SUM(D46:D61) -> 0
A46: 3100 | B46: ფინანსური ვალდებულებები
A47: 3210 | B47: ვალდებულებები მოწოდებიდან და მომსახურებიდან
A48: 3221 | B48: გადასახდელი მოგების გადასახადი
A49: 3222 | B49: გადასახდელი საშემოსავლო გადასახადი
A50: 3223 | B50: გადასახდელი დღგ
A51: 3224 | B51: ბიუჯეტის წინაშე სხვა ვალდებულებები
A52: 3231 | B52: გადასახდელი ხელფასები შტატით მომუშავეთათვის
A53: 3232 | B53: გადასახდელი ხელფასები შტატგარეშე მომუშავეთათვის
A54: 3234 | B54: ვალდებულებები მივლინებით
A55: 3236 | B55: დამქირავებლის მიერ ფულადი და სასაქონლო ფორმით გაწეული სოციალური დახმარებით ვალდებულებები
A56: 3237 | B56: სასამართლოს ან/და ადმინისტრაციული ორგანოების გადაწყვეტილებების შესაბამისად დაკავებული თანხები ან სხვა დაკავებული თანხები
A57: 3241 | B57: წინასწარ მიღებული საიჯარო ქირა
... A61: 3246 | B61: სხვა დანარჩენი კრედიტორული დავალიანებები
A64: სულ კაპიტალი | C64: =SUM(C65:C67) -> 0 | D64: =SUM(D65:D67) -> 0
A65: 5100 | B65: საწესდებო კაპიტალი
A66: 5220 | B66: ფონდები
A67: 5230 | B67: დაუფარავი დეფიციტი
A70: საცნობარო მუხლები
A71: 1 | B71: საოპერაციო იჯარით აღებული ძირითადი აქტივები და მათთან დაკავშირებული დანახარჯები
A72: 2 | B72: პასუხსაგებ შენახვაზე მიღებული მატერიალური ფასეულობები
A73: 3 | B73: გადახდისუუნარო დებიტორების ჩამოწერილი დავალიანება
A74: 4 | B74: ხარჯებში ჩამოწერილი მარაგები
A75: 5 | B75: პირობითი მოთხოვნები
A76: 6 | B76: პირობითი ვალდებულებები
A77: 7 | B77: საკუთარი სახსრებით კაპიტალის შექმნა
A78: 8 | B78: ამორტიზირებული ძირითადი აქტივები
A79: 9 | B79: ვადაგადაცილებული დავალიანებები
A84: ხელმოწერები:
B87: ხელმძღვანელი ბუღალტერი (ან საამისოდ უფლებამოსილი
B88: პასუხისმგებელი პირი)
B89: ბ.ა.

Sheet ფორმა N7
A1: ფორმა N7 - საბანკო ანგარიშები | I1: საანგარიშგებო პერიოდი
A2: ფორმა ივსება ქართული შრიფტით (sylfaen), ფონტის ზომა 10 | I2: ='ფორმა N1'!M2 -> 0
A4: ='ფორმა N2'!A4 -> ანგარიშვალდებული პირის დასახელება:
A5: ='ფორმა N1'!D4 -> 0
A8: N | B8: ბანკის დასახელება | C8: ანგარიშის ნომერი | D8: ვალუტა | E8: ანგარიშის გახსნის თარიღი | F8: ნაშთი პერიოდის დასაწყისში | G8: შემოსავალი პერიოდის განმავლობაში | H8: გასავალი პერიოდის განმავლობაში | I8: ნაშთი პერიოდის ბოლოს | J8: ანგარიშის დახურვის თარიღი
A9: 1 | B9: 2 | C9: 3 | D9: 4 | E9: 5 | F9: 6 | G9: 7 | H9: 8 | I9: 9 | J9: 10
A10: 1
B15: ხელმოწერები:
C18: ხელმძღვანელი | F18: ბუღალტერი (ან საამისოდ უფლებამოსილი
C19: ბ.ა. | F19: პასუხისმგებელი პირი)

Sheet ფორმა N 7.1
A1: ფორმა N7.1 - ნაღდი ფულით განხორციელებულ სალაროს ოპერაციათა რეესტრი | G1: საანგარიშგებო პერიოდი
A2: ფორმა ივსება ქართული შრიფტით (sylfaen), ფონტის ზომა 10 | G2: ='ფორმა N1'!M2 -> 0
A4: ='[2]ფორმა N2'!A4 -> ანგარიშვალდებული პირის დასახელება:
A5: ='ფორმა N1'!D4 -> 0
A8: ტრანზ -აქციის N | B8: ოპერაციის თარიღი | C8: სალაროს შემოსავალი, ლარში | D8: სალაროს გასავალი, ლარში | E8: ვალუტა | F8: ოპერაციის დანიშნულება | G8: ნაშთი
A9: სალაროს ნაშთი პერიოდის დასაწყისში
A10: 1 | G10: =IF(ISBLANK(B10),"",G9+C10-D10)
A11: 2 | G11: =IF(ISBLANK(B11),"",G10+C11-D11)
A12: 3 | G12: =IF(ISBLANK(B12),"",G11+C12-D12)
A13: 4 | G13: =IF(ISBLANK(B13),"",G12+C13-D13)
A14: 5 | G14: =IF(ISBLANK(B14),"",G13+C14-D14)
A15: 6 | G15: =IF(ISBLANK(B15),"",G14+C15-D15)
A16: 7 | G16: =IF(ISBLANK(B16),"",G15+C16-D16)
A17: 8 | G17: =IF(ISBLANK(B17),"",G16+C17-D17)
A18: 9 | G18: =IF(ISBLANK(B18),"",G17+C18-D18)
A19: 10 | G19: =IF(ISBLANK(B19),"",G18+C19-D19)
A20: 11 | G20: =IF(ISBLANK(B20),"",G19+C20-D20)
A21: 12 | G21: =IF(ISBLANK(B21),"",G20+C21-D21)
... A38: 29 | G38: =IF(ISBLANK(B38),"",G37+C38-D38)
A39: ... | G39: =IF(ISBLANK(B39),"",#REF!+C39-D39)
A40: სალაროს ნაშთი პერიოდის ბოლოს | G40: =G39
B44: ხელმოწერები:
C47: ხელმძღვანელი | F47: ბუღალტერი (ან საამისოდ უფლებამოსილი
C48: ბ.ა. | F48: პასუხისმგებელი პირი)

Sheet ფორმა N8
A1: ფორმა N8 - არაფინანსური აქტივები | I1: საანგარიშგებო პერიოდი
A2: ფორმა ივსება ქართული შრიფტით (sylfaen), ფონტის ზომა 10 | I2: ='ფორმა N1'!M2 -> 0
A4: ='ფორმა N2'!A4 -> ანგარიშვალდებული პირის დასახელება:
A5: ='ფორმა N1'!D4 -> 0
B7: ნაშთი (პერიოდის დასაწყისში) | D7: ზრდა პერიოდის განმავლობაში | F7: კლება პერიოდის განმავლობაში | H7: ძირითადი კაპიტალის მოხმარება | I7: ნაშთი (პერიოდის ბოლოს)
A8: არაფინანსური აქტივების დასახელება | B8: რაოდენ. | C8: ლარი | D8: რაოდენ. | E8: ლარი | F8: რაოდენ. | G8: ლარი | H8: ლარი | I8: რაოდენ. | J8: ლარი
A9: 1. ძირითადი აქტივები | B9: =SUM(B10,B14,B17) -> 0 | C9: =SUM(C10,C14,C17) -> 0 | D9: =SUM(D10,D14,D17) -> 0 | E9: =SUM(E10,E14,E17) -> 0 | F9: =SUM(F10,F14,F17) -> 0 | G9: =SUM(G10,G14,G17) -> 0 | H9: =SUM(H10,H14,H17) -> 0 | I9: =SUM(I10,I14,I17) -> 0 | J9: =SUM(J10,J14,J17) -> 0
A10: 1.1 შენობა-ნაგებობები | B10: =SUM(B11:B13) -> 0 | C10: =SUM(C11:C13) -> 0 | D10: =SUM(D11:D13) -> 0 | E10: =SUM(E11:E13) -> 0 | F10: =SUM(F11:F13) -> 0 | G10: =SUM(G11:G13) -> 0 | H10: =SUM(H11:H13) -> 0 | I10: =SUM(I11:I13) -> 0 | J10: =SUM(J11:J13) -> 0
A11: 1.1.1 საცხოვრებელი შენობები
A12: 1.1.2 არასაცხოვრებელი შენობები
A13: 1.1.3 სხვა ნაგებობები
A14: 1.2 მანქანა-დანადგარები და ინვენტარი | B14: =SUM(B15:B16) -> 0 | C14: =SUM(C15:C16) -> 0 | D14: =SUM(D15:D16) -> 0 | E14: =SUM(E15:E16) -> 0 | F14: =SUM(F15:F16) -> 0 | G14: =SUM(G15:G16) -> 0 | H14: =SUM(H15:H16) -> 0 | I14: =SUM(I15:I16) -> 0 | J14: =SUM(J15:J16) -> 0
A15: 1.2.1 სატრანსპორტო საშუალებები
A16: 1.2.2 სხვა მანქანა-დანადგარები და ინვეტარი
A17: 1.3 სხვა ძირითადი აქტივები | B17: =SUM(B18:B19,B22,B23) -> 0 | C17: =SUM(C18:C19,C22,C23) -> 0 | D17: =SUM(D18:D19,D22,D23) -> 0 | E17: =SUM(E18:E19,E22,E23) -> 0 | F17: =SUM(F18:F19,F22,F23) -> 0 | G17: =SUM(G18:G19,G22,G23) -> 0 | H17: =SUM(H18:H19,H22,H23) -> 0 | I17: =SUM(I18:I19,I22,I23) -> 0 | J17: =SUM(J18:J19,J22,J23) -> 0
A18: 1.3.1 კულტივირებული აქტივები
A19: 1.3.2 არამატერიალური ძირითადი აქტივები | B19: =SUM(B20:B21) -> 0 | C19: =SUM(C20:C21) -> 0 | D19: =SUM(D20:D21) -> 0 | E19: =SUM(E20:E21) -> 0 | F19: =SUM(F20:F21) -> 0 | G19: =SUM(G20:G21) -> 0 | H19: =SUM(H20:H21) -> 0 | I19: =SUM(I20:I21) -> 0 | J19: =SUM(J20:J21) -> 0
A20: 1.3.2.1 ლიცენზიები
A21: 1.3.2.2 სხვა არამატერიალური ძირითადი აქტივები
A22: 1.3.3 დაუმთავრებელი მშენებლობა
A23: 1.3.4 სხვა დანარჩენი ძირითადი აქტივები
A24: 2. მატერიალური მარაგები | B24: =SUM(B25:B31) -> 0 | C24: =SUM(C25:C31) -> 0 | D24: =SUM(D25:D31) -> 0 | E24: =SUM(E25:E31) -> 0 | F24: =SUM(F25:F31) -> 0 | G24: =SUM(G25:G31) -> 0 | H24: =SUM(H25:H31) -> 0 | I24: =SUM(I25:I31) -> 0 | J24: =SUM(J25:J31) -> 0
A25: 2.1 ნედლეული და მასალები
A26: 2.2 დაუმთავრებელი წარმოება
A27: 2.3 მზა პროდუქცია
A28: 2.4 შემდგომი რეალიზაციისათვის შეძენილი საქონელი
A29: 2.5 ფულადი დოკუმენტები
A30: 2.6 სათადარიგო ნაწილები
A31: 2.7 სხვა დანარჩენი მატერიალური მარაგები
A32: 3. ფასეულობები | B32: =SUM(B33:B35) -> 0 | C32: =SUM(C33:C35) -> 0 | D32: =SUM(D33:D35) -> 0 | E32: =SUM(E33:E35) -> 0 | F32: =SUM(F33:F35) -> 0 | G32: =SUM(G33:G35) -> 0 | H32: =SUM(H33:H35) -> 0 | I32: =SUM(I33:I35) -> 0 | J32: =SUM(J33:J35) -> 0
A33: 3.1 ძვირფასი ქვები და ლითონები
A34: 3.2 ხელოვნების ნიმუშები
A35: 3.3 სხვა ფასეულობები
A36: 4. არაწარმოებული აქტივები | B36: =SUM(B37:B39,B42) -> 0 | C36: =SUM(C37:C39,C42) -> 0 | D36: =SUM(D37:D39,D42) -> 0 | E36: =SUM(E37:E39,E42) -> 0 | F36: =SUM(F37:F39,F42) -> 0 | G36: =SUM(G37:G39,G42) -> 0 | H36: =SUM(H37:H39,H42) -> 0 | I36: =SUM(I37:I39,I42) -> 0 | J36: =SUM(J37:J39,J42) -> 0
A37: 4.1 მიწა
A38: 4.2 წიაღისეული
A39: 4.3 სხვა ბუნებრივი აქტივები | B39: =SUM(B40:B41) -> 0 | C39: =SUM(C40:C41) -> 0 | D39: =SUM(D40:D41) -> 0 | E39: =SUM(E40:E41) -> 0 | F39: =SUM(F40:F41) -> 0 | G39: =SUM(G40:G41) -> 0 | H39: =SUM(H40:H41) -> 0 | I39: =SUM(I40:I41) -> 0 | J39: =SUM(J40:J41) -> 0
A40: 4.3.1 ტელე/რადიოსიხშირული სპექტრით სარგებლობის ლიცენზია
A41: 4.3.2 სხვა დანარჩენი ბუნებრივი აქტივები
A42: 4.4 არაწარმოებული არამატერიალური აქტივები
A46: ხელმოწერები:
B49: ხელმძღვანელი | F49: ბუღალტერი (ან საამისოდ უფლებამოსილი
B50: ბ.ა. | F50: პასუხისმგებელი პირი)

Sheet ფორმა N8.1
A1: ფორმა N8.1 - უძრავი ქონების რეესტრი | H1: საანგარიშგებო თარიღი
A2: ფორმა ივსება ქართული შრიფტით (sylfaen), ფონტის ზომა 10 | D2: 10 | H2: ='ფორმა N1'!M2 -> 0
A4: ='ფორმა N2'!A4 -> ანგარიშვალდებული პირის დასახელება:
A5: ='ფორმა N1'!D4 -> 0
A7: N | B7: შენობა-ნაგებობების ტიპი | C7: იურიდიული მისმართი | D7: საკადასტრო ნომერი | E7: ფართობი მ2 | F7: საბალანსო ღირებულება | G7: ბალანსზე აყვანის თარიღი | H7: დახასიათება
A8: 1 | B8: 2 | C8: 3 | D8: 4 | E8: 5 | F8: 6 | G8: 7 | H8: 8
A9: 1
A10: 2
A11: 3
A12: 4
A13: 5
A14: 6
A15: 7
A16: 8
A17: 9
A18: 10
A19: 11
A20: 12
... A26: 18
A27: ...
B31: ხელმოწერები:
C33: ხელმძღვანელი | E33: ბუღალტერი (ან საამისოდ უფლებამოსილი
C34: ბ.ა. | E34: პასუხისმგებელი პირი)

Sheet ფორმა N8.2
A1: ფორმა N8.2 - სატრანსპორტო საშუალებების რეესტრი | I1: საანგარიშგებო თარიღი
A2: ფორმა ივსება ქართული შრიფტით (sylfaen), ფონტის ზომა 10 | I2: ='ფორმა N1'!M2 -> 0
A4: ='ფორმა N2'!A4 -> ანგარიშვალდებული პირის დასახელება:
A5: ='ფორმა N1'!D4 -> 0
A7: N | B7: სატრანსპორტო საშუალების ტიპი | C7: მარკა | D7: მოდელი | E7: წარმოების წელი | F7: სახელმწიფო ნომერი | G7: საბალანსო ღირებულება | H7: ბალანსზე აყვანის თარიღი | I7: დახასიათება
A8: 1 | B8: 2 | C8: 3 | D8: 4 | E8: 5 | F8: 6 | G8: 7 | H8: 8 | I8: 9
A9: 1
A10: 2
A11: 3
A12: 4
A13: 5
A14: 6
A15: 7
A16: 8
A17: 9
A18: 10
A19: 11
A20: 12
... A26: 18
A27: ...
B31: ხელმოწერები:
C33: ხელმძღვანელი | E33: ბუღალტერი (ან საამისოდ უფლებამოსილი
C34: ბ.ა. | E34: პასუხისმგებელი პირი)

Sheet ფორმა 8.3
A1: ფორმა N8.3 - იჯარით/ქირით აღებული სხვა მოძრავი ქონების რეესტრი | I1: საანგარიშგებო პერიოდი
A2: ფორმა ივსება ქართული შრიფტით (sylfaen), ფონტის ზომა 10 | I2: ='ფორმა N1'!M2 -> 0
A4: ='ფორმა N2'!A4 -> ანგარიშვალდებული პირის დასახელება:
A5: ='ფორმა N1'!D4 -> 0
A7: N | B7: იჯარის ობიექტის სახეობა | C7: ტექნიკური მახასიათებლები | D7: ყოველთვური საიჯარო გადასახადი (ლარში) | E7: მეიჯარის პირადი ნომერი (ფიზიკური პირი) | F7: მეიჯარის სახელი | G7: მეიჯარის გვარი | H7: მეიჯარე ორგანიზაციის საიდენტიფიკაციო ნომერი | I7: მეიჯარე ორგანიზაციის დასახელება
A8: 1 | B8: 2 | C8: 3 | D8: 6 | E8: 7 | F8: 8 | G8: 9 | H8: 10 | I8: 11
A9: 1
A10: 2
A11: 3
A12: 4
A13: 5
A14: 6
A15: 7
A16: 8
A17: 9
A18: 10
A19: 11
A20: 12
... A26: 18
A27: ...
B31: ხელმოწერები:
C33: ხელმძღვანელი | F33: ბუღალტერი (ან საამისოდ უფლებამოსილი
C34: ბ.ა. | F34: პასუხისმგებელი პირი)

Sheet ფორმა N 9
A1: ფორმა N9 - ვალდებულებების რეესტრი | I1: საანგარიშგებო თარიღი
A2: ფორმა ივსება ქართული შრიფტით (sylfaen), ფონტის ზომა 10 | I2: ='ფორმა N1'!M2 -> 0
A4: ='[2]ფორმა N2'!A4 -> ანგარიშვალდებული პირის დასახელება:
A5: ='ფორმა N1'!D4 -> 0
A8: N | B8: ხელშეკრულების დადების თარიღი | C8: კონტრაგენტის დასახელება (იურიდიული პირი)/სახელი, გვარი (ფიზიკური პირი) | D8: კონტრაგენტის საიდენტიფიკაციო ნომერი/პირადი ნომერი | E8: ხელშეკრულების საგანი | F8: ხელშეკრულების თანხა (ლარში) | G8: მოწოდებული საქონლის/მომსახურების ღირებულება (ლარში) | H8: კონტრაგენტისათვის გადახდილი თანხა (ლარში) | I8: ვალდებულების ნაშთი (ლარში) საანგარიშგებო პერიოდის ბოლოს
A9: 1
A10: 2
A11: 3
A12: 4
A13: 5
A14: 6
A15: 7
A16: 8
A17: 9
A18: 10
A19: 11
A20: 12
... A37: 29
A38: ... | H38: სულ *: | I38: =SUM(I9:I37) -> 0
A40: * სულ ვალდებულებები უნდა ედრებოდეს ფორმა N6-ში წარმოდგენილ ვალდებულებების შესაბამის ანგარიშთა ნაშთებს საანგარიშგებო პერიოდის ბოლოს.
B42: ხელმოწერები:
C45: ხელმძღვანელი | F45: ბუღალტერი (ან საამისოდ უფლებამოსილი
C46: ბ.ა. | F46: პასუხისმგებელი პირი)

Sheet ფორმა N9.1
A1: ფორმა N 9.1 - სესხი/კრედიტი * | M1: საანგარიშგებო პერიოდი
A2: ფორმა ივსება ქართული შრიფტით (Sylfaen), ფონტის ზომა 10
A4: ანგარიშვალდებული პირის დასახელება:
A5: ='ფორმა N1'!D4 -> 0
A7: N | B7: სესხის აღების თარიღი | C7: სესხის გამცემი ბანკი | D7: სესხის ტიპი | E7: ვალუტა | F7: სესხის ოდენობა | G7: სესხის ვადა (თვეების რაოდენ.) | H7: საკონტრაქტო წლიური საპროცენტო განაკვეთი | I7: სესხის დაფარვის პირობები | J7: სესხის უზრუნვ. | K7: თავდებობა (კი/არა) | L7: თავდები პირის (ფიზიკური/იურიდიული) სახელი, გვარი/სახელწოდება | M7: გაგზავნის თარიღი
A8: 1 | B8: 2 | C8: 3 | D8: 4 | E8: 5 | F8: 6 | G8: 7 | H8: 8 | I8: 9 | J8: 10 | K8: 11 | L8: 12 | M8: 13
A9: 1 | M9: =IF(ISBLANK(B9),"",$M$2)
A10: 2 | M10: =IF(ISBLANK(B10),"",$M$2)
A11: 3 | M11: =IF(ISBLANK(B11),"",$M$2)
A12: 4 | M12: =IF(ISBLANK(B12),"",$M$2)
A13: 5 | M13: =IF(ISBLANK(B13),"",$M$2)
A14: 6 | M14: =IF(ISBLANK(B14),"",$M$2)
A15: 7 | M15: =IF(ISBLANK(B15),"",$M$2)
A16: 8 | M16: =IF(ISBLANK(B16),"",$M$2)
A17: 9 | M17: =IF(ISBLANK(B17),"",$M$2)
A18: 10 | M18: =IF(ISBLANK(B18),"",$M$2)
A19: 11 | M19: =IF(ISBLANK(B19),"",$M$2)
A20: 12 | M20: =IF(ISBLANK(B20),"",$M$2)
... A32: 24 | M32: =IF(ISBLANK(B32),"",$M$2)
A33: ... | M33: =IF(ISBLANK(B33),"",$M$2)
A35: * "მოქალაქეთა პოლიტიკური გაერთიანებების შესახებ" საქართველოს ორგანული კანონის 25-ე მუხლის მე-5 პუნქტის თანახმად, პარტიას უფლება აქვს აიღოს კრედიტი მხოლოდ საქართველოს კომერციული ბანკისგან საერთო რაოდენობით არაუმეტეს ერთი მილიონი ლარისა კალენდარული წლის განმავლობაში.
A36: აღნიშნულ ფორმაში ასევე აისახება ინფორმაცია ფიზიკური ან იურიდიული პირისგან შეღავათიანი პირობით აღებული კრედიტის შესახებ.
B37: ხელმოწერები:
C40: ხელმძღვანელი | H40: ბუღალტერი (ან საამისოდ უფლებამოსილი
C41: ბ.ა. | H41: პასუხისმგებელი პირი)

Sheet შემაჯამებელი ფორმა
A1: შემაჯამებელი ფორმა | C1: საანგარიშგებო პერიოდი
C2: ='ფორმა N1'!M2 -> 0
A3: ფორმა ივსება ქართული შრიფტით (sylfaen), ფონტის ზომა 10
A5: ანგარიშვალდებული პირის დასახელება:
A6: ='ფორმა N1'!D4 -> 0
A9: N | B9: ხარჯების ჩამონათვალი | C9: საკასო ხარჯი
A10: 1 | B10: ხარჯები | C10: ='[3]ფორმა N4'!D11+'[3]ფორმა N5'!D9+'[3]ფორმა N6'!D10 -> 0
A11: 1.1 | B11: რეკლამის ჯამური ხარჯი | C11: ='[3]ფორმა N4'!D39+'[3]ფორმა N5'!D37 -> 0
A12: 1.1.1 | B12: სატელევიზიო რეკლამა | C12: ='[3]ფორმა N4'!D40+'[3]ფორმა N5'!D38 -> 0
A13: 1.2 | B13: შრომის ანაზღაურება | C13: ='[3]ფორმა N4'!D12+'[3]ფორმა N5'!D10 -> 0
A14: 1.3 | B14: მივლინება | C14: ='[3]ფორმა N4'!D17+'[3]ფორმა N5'!D15+'[3]ფორმა N6'!D17 -> 0
A16: N | B16: შემოსავლების ჩამონათვალი | C16: საკასო შემოსავალი
A17: 2 | B17: შემოსავლები | C17: ='[3]ფორმა N2'!D9+'[3]ფორმა N2'!C26+'[3]ფორმა N3'!D9+'[3]ფორმა N3'!C26 -> 0
A18: 2.1 | B18: საბიუჯეტო შემოსავალი | C18: ='[3]ფორმა N2'!D17+'[3]ფორმა N3'!D17 -> 0
A19: 2.2 | B19: მიზნობრივი დაფინანსება | C19: ='[3]ფორმა N2'!D18+'[3]ფორმა N3'!D18 -> 0
A20: 2.3 | B20: შემოწირულება | C20: =SUM(C21:C25) -> 0
A21: 2.3.1 | B21: ფულადი | C21: ='[3]ფორმა N2'!D13+'[3]ფორმა N3'!D13 -> 0
A22: 2.3.2 | B22: არაფულადი | C22: ='[3]ფორმა N2'!C27+'[3]ფორმა N3'!C27 -> 0
A23: 2.3.3 | B23: იურიდიული პირის ფულადი სახით | C23: ='[3]ფორმა N2'!D14+'[3]ფორმა N3'!D14 -> 0
A24: 2.3.4 | B24: იურიდიული პირის არაფულადი სახით | C24: ='[3]ფორმა N2'!C31+'[3]ფორმა N3'!C31 -> 0
A25: 2.3.5 | B25: საწევრო | C25: ='[3]ფორმა N2'!D11+'[3]ფორმა N3'!D11 -> 0
A29: ხელმოწერები:
B32: ხელმძღვანელი ბუღალტერი (ან საამისოდ უფლებამოსილი
B33: პასუხისმგებელი პირი)
B34: ბ.ა.

Sheet ფორმა N10
A1: ფორმა N10 * ფიზიკური პირების მიერ განხორციელებული ფულადი შემოწირულებები | K1: გაგზავნის თარიღი
A2: ფორმა ივსება ქართული შრიფტით (Sylfaen), ფონტის ზომა 10;
A4: ანგარიშვალდებული პირის დასახელება:
A5: ='ფორმა N1'!D4 -> 0
A7: N | B7: ფიზიკური პირის სახელი | C7: ფიზიკური პირის გვარი | D7: ფიზიკური პირის პირადი N | E7: ვალუტა | F7: შემოწირ. თანხის ოდენობა (ლარებში) | G7: თარიღი** | H7: შემომწირველის საბანკო დაწესებულება | I7: შემომწირველის საბანკო ანგარიშის N | J7: შენიშვნა | K7: გაგზავნის თარიღი
A8: 1 | B8: 2 | C8: 3 | D8: 4 | F8: 7 | G8: 8 | H8: 9 | I8: 10 | J8: 11 | K8: 12
A9: 1 | K9: =IF(ISBLANK(B9)=TRUE,"",$K$2)
A10: 2 | K10: =IF(ISBLANK(B10)=TRUE,"",$K$2)
A11: 3 | K11: =IF(ISBLANK(B11)=TRUE,"",$K$2)
A12: 4 | K12: =IF(ISBLANK(B12)=TRUE,"",$K$2)
A13: 5 | K13: =IF(ISBLANK(B13)=TRUE,"",$K$2)
A14: 6 | K14: =IF(ISBLANK(B14)=TRUE,"",$K$2)
A15: 7 | K15: =IF(ISBLANK(B15)=TRUE,"",$K$2)
A16: 8 | K16: =IF(ISBLANK(B16)=TRUE,"",$K$2)
A17: 9 | K17: =IF(ISBLANK(B17)=TRUE,"",$K$2)
A18: 10 | K18: =IF(ISBLANK(B18)=TRUE,"",$K$2)
A19: 11 | K19: =IF(ISBLANK(B19)=TRUE,"",$K$2)
A20: 12 | K20: =IF(ISBLANK(B20)=TRUE,"",$K$2)
... A30: 24 | K30: =IF(ISBLANK(B30)=TRUE,"",$K$2)
A31: ... | K31: =IF(ISBLANK(B31)=TRUE,"",$K$2)
A34: * აღნიშნულ ფორმაში აისახება ინფორმაცია კანონით დაშვებული და აკრძალული შემოწირულებების შესახებ თითოეული ტრანზაქციის მიხედვით. აკრძალული შემოწირულების შემთხვევაში უკან დაბრუნებული თანხა "შემოწირული თანხის ოდენობის" სვეტში მიეთითება მინუს "-" ნიშნით.
A35: ** შემოწირულების მიმღების საბანკო ანგარიშზე ასახვის თარიღი.
A37: ხელმოწერები:
C39: ხელმძღვანელი | H39: ბუღალტერი (ან საამისოდ უფლებამოსილი პასუხისმგებელი პირი)
C41: ბ.ა.

Sheet ფორმა N11
A1: ფორმა N11 * ფიზიკური პირების მიერ განხორციელებული არაფულადი შემოწირულებები | K1: გაგზავნის თარიღი
A2: ფორმა ივსება ქართული შრიფტით (Sylfaen), ფონტის ზომა 10
A4: ანგარიშვალდებული პირის დასახელება:
A5: ='ფორმა N1'!D4 -> 0
I7: ინფორმაცია შემოწირულების შესახებ
A8: N | B8: ფიზიკური პირის სახელი | C8: ფიზიკური პირის გვარი | D8: ფიზიკური პირის პირადი N | E8: საბაზრო ღირებულება | F8: ფაქტობრივი ღირებულება | G8: შემოწირ-ბის ღირებულება ** | H8: თარიღი | I8: ქონების სახეობა *** | J8: მომსახურება | K8: გაგზავნის თარიღი
A9: 1 | B9: 2 | C9: 3 | D9: 4 | E9: 7 | F9: 8 | G9: 9 | H9: 10 | I9: 11 | J9: 12 | K9: 13
A10: 1 | G10: =IF(ISBLANK(B10),"",E10-F10) | K10: =IF(ISBLANK(B10),"",$K$2)
A11: 2 | G11: =IF(ISBLANK(B11),"",E11-F11) | K11: =IF(ISBLANK(B11),"",$K$2)
A12: 3 | G12: =IF(ISBLANK(B12),"",E12-F12) | K12: =IF(ISBLANK(B12),"",$K$2)
A13: 4 | G13: =IF(ISBLANK(B13),"",E13-F13) | K13: =IF(ISBLANK(B13),"",$K$2)
A14: 5 | G14: =IF(ISBLANK(B14),"",E14-F14) | K14: =IF(ISBLANK(B14),"",$K$2)
A15: 6 | G15: =IF(ISBLANK(B15),"",E15-F15) | K15: =IF(ISBLANK(B15),"",$K$2)
A16: 7 | G16: =IF(ISBLANK(B16),"",E16-F16) | K16: =IF(ISBLANK(B16),"",$K$2)
A17: 8 | G17: =IF(ISBLANK(B17),"",E17-F17) | K17: =IF(ISBLANK(B17),"",$K$2)
A18: 9 | G18: =IF(ISBLANK(B18),"",E18-F18) | K18: =IF(ISBLANK(B18),"",$K$2)
A19: 10 | G19: =IF(ISBLANK(B19),"",E19-F19) | K19: =IF(ISBLANK(B19),"",$K$2)
A20: 11 | G20: =IF(ISBLANK(B20),"",E20-F20) | K20: =IF(ISBLANK(B20),"",$K$2)
A21: 12 | G21: =IF(ISBLANK(B21),"",E21-F21) | K21: =IF(ISBLANK(B21),"",$K$2)
... A33: 24 | G33: =IF(ISBLANK(B33),"",E33-F33) | K33: =IF(ISBLANK(B33),"",$K$2)
A34: … | G34: =IF(ISBLANK(B34),"",E34-F34) | K34: =IF(ISBLANK(B34),"",$K$2)
A36: * არაფულად ფორმაში იგულისხმება უსასყიდლოდ ან ფასდაკლებით/ შეღავათიანი პირობებით მიღებული მატერიალური (უძრავი და მოძრავი ნივთი) ან არამატერიალური ფასეულობა და მომსახურება. შემოწირულების ოდენობა უნდა განისაზღვროს ქონების ან მომსახურების საბაზრო ღირებულების მიხედვით.
A37: ** სსიპ - ანტიკორუფციული ბიურო უფლებამოსილია გადაამოწმოს ქონების/ მომსახურების საბაზრო ღირებულება და საჭიროების შემთხვევაში მოითხოვოს შესაბამისი კორექტირება.
A38: *** მითითებულ ველში ივსება ინფორმაცია შემოწირულების სახით მიღებული მოძრავი (გარდა ფულადი სახსრებისა) და უძრავი ნივთის, არამატერიალური ქონებრივი სიკეთის შესახებ (მაგ.: მიწის ფართობი, ადგილმდებარეობა, საკადასტრო კოდი და ა.შ.).
B40: ხელმოწერები:
C43: ხელმძღვანელი | F43: ბუღალტერი (ან საამისოდ უფლებამოსილი
C44: ბ.ა. | F44: პასუხისმგებელი პირი)

Sheet ფორმა N12
A1: ფორმა N12 - შეღავათიანი პირობით აღებული კრედიტები * | M1: გაგზავნის თარიღი
A2: ფორმა ივსება ქართული შრიფტით (Sylfaen), ფონტის ზომა 10
A4: ანგარიშვალდებული პირის დასახელება:
A5: ='ფორმა N1'!D4 -> 0
A7: N | B7: სესხის აღების თარიღი | C7: სესხის გამცემი ბანკი | D7: სესხის ტიპი | E7: ვალუტა | F7: სესხის ოდენობა (ლარი) | G7: სესხის ვადა (თვეების რაოდენობა) | H7: საკონტრაქტო წლიური საპროცენტო განაკვეთი | I7: სესხის დაფარვის პირობები | J7: სესხის უზრუნველყოფა | K7: თავმდები | L7: თავდები პირის (ფიზიკური/იურიდიული) სახელი, გვარი/სახელწოდება | M7: გაგზავნის თარიღი
A8: 1 | B8: 2 | C8: 3 | D8: 4 | E8: 5 | F8: 6 | G8: 7 | H8: 8 | I8: 9 | J8: 10 | K8: 11 | L8: 12 | M8: 13
A9: 1 | M9: =IF(ISBLANK(B9),"",$M$2)
A10: 2 | M10: =IF(ISBLANK(B10),"",$M$2)
A11: 3 | M11: =IF(ISBLANK(B11),"",$M$2)
A12: 4 | M12: =IF(ISBLANK(B12),"",$M$2)
A13: 5 | M13: =IF(ISBLANK(B13),"",$M$2)
A14: 6 | M14: =IF(ISBLANK(B14),"",$M$2)
A15: 7 | M15: =IF(ISBLANK(B15),"",$M$2)
A16: 8 | M16: =IF(ISBLANK(B16),"",$M$2)
A17: 9 | M17: =IF(ISBLANK(B17),"",$M$2)
A18: 10 | M18: =IF(ISBLANK(B18),"",$M$2)
A19: 11 | M19: =IF(ISBLANK(B19),"",$M$2)
A20: 12 | M20: =IF(ISBLANK(B20),"",$M$2)
... A32: 24 | M32: =IF(ISBLANK(B32),"",$M$2)
A33: ... | M33: =IF(ISBLANK(B33),"",$M$2)
A35: * ფორმა ივსება ფიზიკური ან იურიდიული პირისგან შეღავათინი პირობით აღებული კრედიტის შემთხვევაში, საიდანაც შემოწირულების სახით მიღებული სარგებლის ოდენობა ასევე აისახება ფორმა N 1-ში, ხოლო ზოგადი ხასიათის ინფორმაცია კრედიტის შესახებ ფორმა N 9.1.-ში.
B37: ხელმოწერები:
C40: ხელმძღვანელი | H40: ბუღალტერი (ან საამისოდ უფლებამოსილი
C41: ბ.ა. | H41: პასუხისმგებელი პირი)

Sheet ფორმა N13
A1: ფორმა N13 - საჯარო ღონისძიებებთან დაკავშირებული შემოწირულებები | G1: გაგზავნის თარიღი
A2: ფორმა ივსება ქართული შრიფტით (Sylfaen), ფონტის ზომა 10
A4: ანგარიშვალდებული პირის დასახელება:
A5: ='ფორმა N1'!D4 -> 0
A7: N | B7: საჯარო ღონისძიება | C7: ღონისძიების თარიღი | D7: ღონისძიების ადგილი | E7: შემოწირულების ოდენობა ლარებში | F7: შენიშვნა | G7: გაგზავნის თარიღი
A8: 1 | B8: 2 | C8: 3 | D8: 4 | E8: 5 | F8: 6 | G8: 7
A9: 1 | G9: =IF(ISBLANK(B9),"",$G$2)
A10: 2 | G10: =IF(ISBLANK(B10),"",$G$2)
A11: 3 | G11: =IF(ISBLANK(B11),"",$G$2)
A12: 4 | G12: =IF(ISBLANK(B12),"",$G$2)
A13: 5 | G13: =IF(ISBLANK(B13),"",$G$2)
A14: 6 | G14: =IF(ISBLANK(B14),"",$G$2)
A15: 7 | G15: =IF(ISBLANK(B15),"",$G$2)
A16: 8 | G16: =IF(ISBLANK(B16),"",$G$2)
A17: 9 | G17: =IF(ISBLANK(B17),"",$G$2)
A18: 10 | G18: =IF(ISBLANK(B18),"",$G$2)
A19: … | G19: =IF(ISBLANK(B19),"",$G$2)
B24: ხელმოწერები:
C27: ხელმძღვანელი | F27: ბუღალტერი (ან საამისოდ უფლებამოსილი
C28: ბ.ა. | F28: პასუხისმგებელი პირი)

Sheet ფორმა N14
A1: ფორმა N14 * საწევრო შენატანები | K1: გაგზავნის თარიღი
A2: ფორმა ივსება ქართული შრიფტით (Sylfaen), ფონტის ზომა 10;
A4: ანგარიშვალდებული პირის დასახელება:
A5: ='ფორმა N1'!D4 -> 0
A7: N | B7: ფიზიკური პირის სახელი | C7: ფიზიკური პირის გვარი | D7: ფიზიკური პირის პირადი N | E7: ვალუტა | F7: საწევრო შენატანის ოდენობა (ლარებში) | G7: თარიღი** | H7: შემომტანის საბანკო დაწესებულების დასახელება | I7: შემომტანის საბანკო ანგარიშის N | J7: შენიშვნა | K7: გაგზავნის თარიღი
A8: 1 | B8: 2 | C8: 3 | D8: 4 | F8: 7 | G8: 8 | H8: 9 | I8: 10 | J8: 11 | K8: 12
A9: 1 | K9: =IF(ISBLANK(B9)=TRUE,"",$K$2)
A10: 2 | K10: =IF(ISBLANK(B10)=TRUE,"",$K$2)
A11: 3 | K11: =IF(ISBLANK(B11)=TRUE,"",$K$2)
A12: 4 | K12: =IF(ISBLANK(B12)=TRUE,"",$K$2)
A13: 5 | K13: =IF(ISBLANK(B13)=TRUE,"",$K$2)
A14: 6 | K14: =IF(ISBLANK(B14)=TRUE,"",$K$2)
A15: 7 | K15: =IF(ISBLANK(B15)=TRUE,"",$K$2)
A16: 8 | K16: =IF(ISBLANK(B16)=TRUE,"",$K$2)
A17: 9 | K17: =IF(ISBLANK(B17)=TRUE,"",$K$2)
A18: 10 | K18: =IF(ISBLANK(B18)=TRUE,"",$K$2)
A19: 11 | K19: =IF(ISBLANK(B19)=TRUE,"",$K$2)
A20: 12 | K20: =IF(ISBLANK(B20)=TRUE,"",$K$2)
... A32: 24 | K32: =IF(ISBLANK(B32)=TRUE,"",$K$2)
A33: ... | K33: =IF(ISBLANK(B33)=TRUE,"",$K$2)
A35: * აღნიშნულ ფორმაში აისახება ინფორმაცია პარტიის წევრის მიერ განხორციელებული საწევრო შენატანის (მათ შორის აკრძალული) შესახებ. კანონით დადგენილი მოთხოვნების დარღვევით საწევრო შენატანის განხორციელების შემთხვევაში უკან დაბრუნებული თანხა "საწევრო შენატანის ოდენობის" სვეტში მიეთითება მინუს "-" ნიშნით.
A36: ** საწევრო შენატანის მიმღების საბანკო ანგარიშზე ასახვის თარიღი
B38: ხელმოწერები:
C41: ხელმძღვანელი | G41: ბუღალტერი (ან საამისოდ უფლებამოსილი
C42: ბ.ა. | G42: პასუხისმგებელი პირი)

Sheet ფორმა N15
A1: ფორმა N 15 * ინფორმაცია საბანკო ანგარიშიდან ნაღდი ფულით გასავლის ოპერაციების შესახებ | H1: საანგარიშგებო პერიოდი
A2: ფორმა ივსება ქართული შრიფტით (sylfaen), ფონტის ზომა 10 | H2: ='ფორმა N1'!M2 -> 0
A3: ანგარიშვალდებული პირის დასახელება:
A4: ='ფორმა N1'!D4 -> 0
A5: ბანკის დასახელება:
A6: საბანკო ანგარიშის ნომერი:
A7: საბანკო ანგარიშის ვალუტა:
A8: საბანკო ანგარიშიდან ნაღდი ფულის გასავლის დაგეგმილი თარიღი:
A9: საბანკო ანგარიშიდან ნაღდი ფულის გასავლის დაგეგმილი მოცულობა:
A10: ოპერაციის განმახორციელებელი უფლებამოსილი პირის პირადი ნომერი:
A11: ოპერაციის განმახორციელებელი უფლებამოსილი პირის სახელი, გვარი:
A12: ფორმის შევსების თარიღი:
A13: ფორმის შევსების დრო:
A15: ხელფასები და სხვა განაცემები ფიზიკურ პირებზე
A16: N | B16: პირადი ნომერი | C16: სახელი | D16: გვარი | E16: პოზიცია | F16: განაცემის ტიპი | G16: თანხა | H16: დანიშნულება *
A17: 1 | F17: ხელფასი
A18: 2 | F18: ხელფასი
A19: 3 | F19: პრემია
A20: 4 | F20: პრემია
A21: 5 | F21: მივლინება
A22: 6 | F22: მივლინება
A23: ... | F23: სხვა შესყიდვა
A24: ... | F24: სხვა შესყიდვა
F25: სულ: | G25: 0
A26: * ფორმა ივსება ნაღდი ანგარისწორებით განხორციელებული ფულადი ოპერაციის შემთხვევაში. პარტია/ საარჩევნო სუბიექტი ვალდებულია საფინანსო-ეკონომიკურ საქმიანობასთან დაკავშირებული ანგარიშსწორება განახორციელოს მხოლოდ უნაღდო ანგარიშსწორებით. იგივე შეზღუდვა მოქმედებს განცხადებული საარჩევნო მიზნის მქონე პირის საარჩევნო მიზნებთან დაკავშირებული ხარჯების განხორციელებაზე. ეს წესი არ ვრცელდება პარტიასთან/განცხადებული საარჩევნო მიზნის მქონე პირთან/საარჩევნო სუბიექტთან შრომით ურთიერთობაში მყოფი პირების შრომის ანაზღაურების (მივლინება, ხელფასი, პრემია და სხვა ანაზღაურება, რომელსაც იღებს დასაქმებული დამსაქმებლისგან სამუშაოს შესრულების სანაცვლოდ.) გაცემაზე, ასევე თუ მიღებული საქონლის ან/და გაწეული მომსახურების საერთო ღირებულება ერთი უწყვეტი კალენდარული თვის მანძილზე არ აღემატება 1000 ლარს.
A27: * აღნიშნული ველი ივსება მხოლოდ იმ შემთხვევაში, თუ განაცემი არ უკავშირდება შრომით ურთიერთობებს
B28: ხელმოწერები:
C29: ხელმძღვანელი | E29: ბუღალტერი (ან საამისოდ უფლებამოსილი
C30: ბ.ა. | E30: პასუხისმგებელი პირი)

Sheet ფორმა N16
A1: ფორმა N16 * იურიდიული პირის ** მიერ განხორციელებული ფულადი შემოწირულებები | J1: გაგზავნის თარიღი
A2: ფორმა ივსება ქართული შრიფტით (Sylfaen), ფონტის ზომა 10
A4: ანგარიშვალდებული პირის დასახელება: | D4: ='ფორმა N1'!D4 -> 0
A6: N | B6: იურიდიული პირის დასახელება | C6: სამართლებრივი ფორმა | D6: საიდენტიფიკაციო კოდი | E6: თანხა (ლარებში) | F6: თარიღი*** | G6: შემომწირველის საბანკო დაწესებულების დასახელება | H6: შემომწირველის საბანკო ანგარიშის N | I6: შენიშვნა | J6: გაგზავნის თარიღი
A7: 1 | B7: 2 | C7: 3 | D7: 4 | E7: 5 | F7: 6 | G7: 7 | H7: 8 | I7: 9 | J7: 10
A8: 1 | J8: =IF(ISBLANK(B8)=TRUE,"",$J$2)
A9: 2 | J9: =IF(ISBLANK(B9)=TRUE,"",$J$2)
A10: 3 | J10: =IF(ISBLANK(B10)=TRUE,"",$J$2)
A11: 4 | J11: =IF(ISBLANK(B11)=TRUE,"",$J$2)
A12: 5 | J12: =IF(ISBLANK(B12)=TRUE,"",$J$2)
A13: 6 | J13: =IF(ISBLANK(B13)=TRUE,"",$J$2)
A14: 7 | J14: =IF(ISBLANK(B14)=TRUE,"",$J$2)
A15: 8 | J15: =IF(ISBLANK(B15)=TRUE,"",$J$2)
A16: 9 | J16: =IF(ISBLANK(B16)=TRUE,"",$J$2)
A17: 10 | J17: =IF(ISBLANK(B17)=TRUE,"",$J$2)
A18: 11 | J18: =IF(ISBLANK(B18)=TRUE,"",$J$2)
A19: 12 | J19: =IF(ISBLANK(B19)=TRUE,"",$J$2)
... A31: 24 | J31: =IF(ISBLANK(B31)=TRUE,"",$J$2)
A32: ... | J32: =IF(ISBLANK(B32)=TRUE,"",$J$2)
A34: * აღნიშნულ ფორმაში აისახება ინფორმაცია კანონით დაშვებული და აკრძალული შემოწირულებების შესახებ თითოეული ტრანზაქციის მიხედვით. აკრძალული შემოწირულების შემთხვევაში უკან დაბრუნებული თანხა "შემოწირული თანხის ოდენობის" სვეტში მიეთითება მინუს "-" ნიშნით.
A35: ** "მოქალაქეთა პოლიტიკური გაერთიანებების შესახებ" საქართველოს ორგანული კანონის 25-ე მუხლის მეორე პუნქტის "ბ" ქვეპუნქტის შესაბამისად შემოწირულების განმახორციელებელი იურიდიული პირი უნდა იყოს საქართველოს ტერიტორიაზე რეგისტრირებული, რომლის პარტნიორები მხოლოდ საქართველოს მოქალაქეები და საქართველოში რეგისტრირებული ის იურიუდილი პირები არიან, რომელთა საბოლოო ბენეფიციარები მხოლოდ საქართველოს მოქალაქეები არიან.
A37: *** შემოწირულების მიმღების საბანკო ანგარიშზე ასახვის თარიღი.
B38: ხელმოწერები:
C40: ხელმძღვანელი | F40: ბუღალტერი (ან საამისოდ უფლებამოსილი პასუხისმგებელი პირი)
C41: ბ.ა.

Sheet ფორმა N17
A1: ფორმა N17 * იურიდიული პირის ** მიერ განხორციელებული არაფულადი შემოწირულებები | K1: გაგზავნის თარიღი
A2: ფორმა ივსება ქართული შრიფტით (Sylfaen), ფონტის ზომა - 10
A4: ანგარიშვალდებული პირის დასახელება: | D4: ='ფორმა N1'!D4 -> 0
A6: N | B6: იურიდიული პირის დასახელება | C6: სამართლებრივი ფორმა | D6: საიდ. კოდი | E6: საბაზრო ღირებულება | F6: ფაქტობრივი ღირებულება | G6: შემოწირ-ბის ღირებულება *** | H6: თარიღი | I6: ინფორმაცია შემოწირულების შესახებ | K6: გაგზავნის თარიღი
I7: ქონების სახეობა**** | J7: მომსახურება
A8: 1 | B8: 2 | C8: 3 | D8: 4 | E8: 5 | F8: 6 | G8: 7 | H8: 8 | I8: 9 | J8: 10 | K8: 11
A9: 1 | G9: =IF(ISBLANK(B9),"",E9-F9) | K9: =IF(ISBLANK(B9),"",$K$2)
A10: 2 | G10: =IF(ISBLANK(B10),"",E10-F10) | K10: =IF(ISBLANK(B10),"",$K$2)
A11: 3 | G11: =IF(ISBLANK(B11),"",E11-F11) | K11: =IF(ISBLANK(B11),"",$K$2)
A12: 4 | G12: =IF(ISBLANK(B12),"",E12-F12) | K12: =IF(ISBLANK(B12),"",$K$2)
A13: 5 | G13: =IF(ISBLANK(B13),"",E13-F13) | K13: =IF(ISBLANK(B13),"",$K$2)
A14: 6 | G14: =IF(ISBLANK(B14),"",E14-F14) | K14: =IF(ISBLANK(B14),"",$K$2)
A15: 7 | G15: =IF(ISBLANK(B15),"",E15-F15) | K15: =IF(ISBLANK(B15),"",$K$2)
A16: 8 | G16: =IF(ISBLANK(B16),"",E16-F16) | K16: =IF(ISBLANK(B16),"",$K$2)
A17: 9 | G17: =IF(ISBLANK(B17),"",E17-F17) | K17: =IF(ISBLANK(B17),"",$K$2)
A18: 10 | G18: =IF(ISBLANK(B18),"",E18-F18) | K18: =IF(ISBLANK(B18),"",$K$2)
A19: 11 | G19: =IF(ISBLANK(B19),"",E19-F19) | K19: =IF(ISBLANK(B19),"",$K$2)
A20: 12 | G20: =IF(ISBLANK(B20),"",E20-F20) | K20: =IF(ISBLANK(B20),"",$K$2)
... A32: 24 | G32: =IF(ISBLANK(B32),"",E32-F32) | K32: =IF(ISBLANK(B32),"",$K$2)
A33: … | G33: =IF(ISBLANK(B33),"",E33-F33) | K33: =IF(ISBLANK(B33),"",$K$2)
A35: *არაფულად ფორმაში იგულისხმება უსასყიდლოდ ან ფასდაკლებით/შეღავათიანი პირობებით მიღებული მატერიალური (უძრავი და მოძრავი ნივთი) ან არამატერიალური ფასეულობა და მომსახურება. შემოწირულების ოდენობა უნდა განისაზღვროს ქონების ან მომსახურების საბაზრო ღირებულების მიხედვით.
A36: ** „მოქალაქეთა პოლიტიკური გაერთიანებების შესახებ" საქართველოს ორგანული კანონის 25-ე მუხლის მეორე პუნქტის „ბ" ქვეპუნქტის შესაბამისად, შემოწირულობის განმახორციელებელი იურიდიული პირი უნდა იყოს საქართველოს ტერიტორიაზე რეგისტრირებული, რომლის პარტნიორები მხოლოდ საქართველოს მოქალაქეები და საქართველოში რეგისტრირებული ის იურიუდილი პირები არიან, რომელთა საბოლოო ბენეფიციარები მხოლოდ საქართველოს მოქალაქეები არიან.
A37: ***სსიპ - ანტიკორუფციული ბიურო უფლებამოსილია გადაამოწმოს ქონების/ მომსახურების საბაზრო ღირებულება და საჭიროების შემთხვევაში მოითხოვოს შესაბამისი კორექტირება.
A38: **** მითითებულ ველში ივსება ინფორმაცია შემოწირულების სახით მიღებული მოძრავი (გარდა ფულადი სახსრებისა) და უძრავი ნივთის, არამატერიალური ქონებრივი სიკეთის შესახებ (მაგ.: მიწის ფართობი, ადგილმდებარეობა, საკადასტრო კოდი და ა.შ.).
B39: ხელმოწერები:
C41: ხელმძღვანელი | F41: ბუღალტერი (ან საამისოდ უფლებამოსილი პასუხისმგებელი პირი)
C42: ბ.ა.

Sheet Validation
A1: თარიღი | C1: ბანკი | E1: შემოსავლის ტიპი | G1: შენობა-ნაგებობის ტიპები
A2: 40907 | C2: სს ვითიბი ბანკი ჯორჯია | E2: საწევრო | G2: საცხოვრებელი შენობები
A3: 40908 | C3: სს ინვესტბანკი | E3: ფულადი შემოწირულობები | G3: არასაცხოვრებელი შენობები
A4: 40909 | C4: სს კორ სტანდარტ ბანკი | E4: არაფულადი შემოწირულობები | G4: სხვა ნაგებობები
A5: 40910 | C5: სს ზირაათ ბანკის თბილისის ფილიალი | E5: სხვა შემოსავლები
A6: 40911 | C6: სს ბანკი ქართუ
A7: 40912 | C7: სს საქართველოს ბანკი
A8: 40913 | C8: სს ბითიეი ბანკი
A9: 40914 | C9: სს თიბისი ბანკი
A10: 40915 | C10: სს ლიბერთი ბანკი
A11: 40916 | C11: სს პროკრედიტ ბანკი
A12: 40917 | C12: სს ბანკი რესპუბლიკა
A13: 40918 | C13: სს პრივატბანკი
A14: 40919 | C14: სს ბაზისბანკი
A15: 40920 | C15: სს აზერბაიჯანის საერთაშორისო ბანკი - საქართველო
A16: 40921 | C16: ღია სააქციო საზოგადოების კავკასიის განვითარების ბანკის თბილისის ფილიალი
A17: 40922 | C17: სს ეიჩ ეს ბი სი ბანკი საქართველო
... A20: 40925 | C20: სს ბანკი კონსტანტა
A21: 40926
A22: 40927
A23: 40928
A24: 40929
A25: 40930
A26: 40931
A27: 40932
A28: 40933
A29: 40934
A30: 40935
A31: 40936
A32: 40937
... A733: 41639
