Workbook

Sheet ორშაბათი
A1: დანართი №11.2
A2: სამსახურის პენიტენციურ დაწესებულებებსა და მათ ტერიტორიაზე მყოფ და დეპარტამენტის გარე დაცვისა და ინფორმაციულ-ტექნიკური უსაფრთხოების მთავარი სამმართველოს წვევამდელთა მომზადების განყოფილების მოსამსახურეთა სამჯერადი კვების ერთკვირიანი მენიუ გაზაფხული - ზაფხული II კვირა
A3: ორშაბათი
A4: I კვება
A6: ხაჭოს მობრაწულა
A7: პროდუქტის დასახელება | B7: რაოდენობა, გ | D7: ცილები, გ | E7: ცხიმები, გ | F7: ნახშირწყლები | G7: ენერგეტიკული ღირებულება
B8: ბრუტო | C8: ნეტო | G8: კკალ
A9: ხაჭო | B9: 40 | C9: =100%*B9 -> 40 | D9: =10%*C9 -> 4 | E9: =20%*C9 -> 8 | F9: =2.8%*C9 -> 1.12 | G9: =4*(D9+F9)+9*E9 -> 92.48
A10: არაჟანი | B10: 15 | C10: =100%*B10 -> 15 | D10: =2.6%*C10 -> 0.39 | E10: =20%*C10 -> 3 | F10: =3.8%*C10 -> 0.57 | G10: =4*(D10+F10)+9*E10 -> 30.84
A11: კვერცხი (ცალობით) | B11: 0.25 | C11: =B11*48 -> 12 | D11: =12.7%*C11 -> 1.524 | E11: =11.5%*C11 -> 1.38 | G11: =4*(D11+F11)+9*E11 -> 18.516
A12: შაქარი | B12: 15 | C12: =100%*B12 -> 15 | F12: =99%*C12 -> 14.85 | G12: =4*(D12+F12)+9*E12 -> 59.4
A13: კარაქი | B13: 7 | C13: =100%*B13 -> 7 | E13: =72.57%*C13 -> 5.0799 | G13: =4*(D13+F13)+9*E13 -> 45.7191
A14: ვანილი | B14: 0.05 | C14: 0.05 | G14: 0
A15: მარილი | B15: 0.5 | C15: 0.5 | G15: 0
A16: ხორბლის ფქვილი | B16: 10 | C16: =B16*100% -> 10 | D16: =C16*10% -> 1 | E16: =C16*1.3% -> 0.13 | F16: =C16*69% -> 6.9 | G16: =4*(D16+F16)+9*E16 -> 32.77
A17: გამოსავალი | B17: 130 | D17: =SUM(D9:D16) -> 6.914 | E17: =SUM(E9:E16) -> 17.5899 | F17: =SUM(F9:F16) -> 23.44 | G17: =SUM(G9:G16) -> 279.7251
A19: ყავა რძით
A20: პროდუქტის დასახელება | B20: რაოდენობა, გ | D20: ცილები, გ | E20: ცხიმები, გ | F20: ნახშირწყლები | G20: ენერგეტიკული ღირებულება
B21: ბრუტო | C21: ნეტო | G21: კკალ
A22: ყავა | B22: 5 | C22: =100%*B22 -> 5 | D22: =20%*C22 -> 1 | E22: =13%*C22 -> 0.65 | F22: =26.6%*C22 -> 1.33 | G22: =4*(D22+F22)+9*E22 -> 15.17
A23: რძე | B23: 50 | C23: =100%*B23 -> 50 | D23: =2.8%*C23 -> 1.4 | E23: =3.2%*C23 -> 1.6 | F23: =4.7%*C23 -> 2.35 | G23: =4*(D23+F23)+9*E23 -> 29.4
A24: შაქარი | B24: 10 | C24: =100%*B24 -> 10 | F24: =99%*C24 -> 9.9 | G24: =4*(D24+F24)+9*E24 -> 39.6
A25: გამოსავალი | B25: 20 | D25: =SUM(D22:D24) -> 2.4 | E25: =SUM(E22:E24) -> 2.25 | F25: =SUM(F22:F24) -> 13.58 | G25: =SUM(G22:G24) -> 84.17
A28: I კვება სულ | B28: =სამშაბათი!B22+B17 -> 330 | D28: =სამშაბათი!D22+D17 -> 7.914 | E28: =სამშაბათი!E22+E17 -> 18.2399 | F28: =სამშაბათი!F22+F17 -> 34.67 | G28: =G25+G17 -> 363.8951
A31: II კვება
A32: ზაფხულის ტოლმა საქონლის ხორცით
A33: პროდუქტის დასახელება | B33: რაოდენობა, გ | D33: ცილები, გ | E33: ცხიმები, გ | F33: ნახშირწყლები, გ | G33: ენერგეტიკული ღირებულება
B34: ბრუტო | C34: ნეტო | G34: კკალ
A35: ხორცი საქონლის | B35: 80 | C35: =B35*75% -> 60 | D35: =18.6%*C35 -> 11.16 | E35: =17.3%*C35 -> 10.38 | G35: =4*(D35+F35)+9*E35 -> 138.06
A36: კარაქი | B36: 3 | C36: =100%*B36 -> 3 | E36: =72.57%*C36 -> 2.1771 | G36: =4*(D36+F36)+9*E36 -> 19.5939
A37: მარილი | B37: 2 | C37: =100%*B37 -> 2 | G37: =4*(D37+F37)+9*E37 -> 0
A38: ბრინჯი | B38: 10 | C38: =B38*100% -> 10 | D38: =7.4%*C38 -> 0.74 | E38: =3.14%*C38 -> 0.314 | F38: =62.3%*C38 -> 6.23 | G38: =4*(D38+F38)+9*E38 -> 30.706
A39: პომიდორი | B39: 80 | C39: =90%*B39 -> 72 | D39: =1.1%*C39 -> 0.792 | E39: =0.2%*C39 -> 0.144 | F39: =3.8%*C39 -> 2.736 | G39: =4*(D39+F39)+9*E39 -> 15.408
A40: მწვანე ბულგარული წიწაკა | B40: 80 | C40: =85%*B40 -> 68 | D40: =1.5%*C40 -> 1.02 | F40: =6.2%*C40 -> 4.216 | G40: =4*(D40+F40)+9*E40 -> 20.944
A41: არაჟანი | B41: 10 | C41: =100%*B41 -> 10 | D41: =2.6%*C41 -> 0.26 | E41: =10%*C41 -> 1 | F41: =3.8%*C41 -> 0.38 | G41: =4*(D41+F41)+9*E41 -> 11.56
A42: ხახვი | B42: 5 | C42: =90%*B42 -> 4.5 | D42: =1.58%*C42 -> 0.0711 | F42: =9.5%*C42 -> 0.4275 | G42: =4*(D42+F42)+9*E42 -> 1.9944
A43: ნიორი | B43: 0.5 | C43: =92%*B43 -> 0.46 | G43: =4*(D43+F43)+9*E43 -> 0
A44: მწვანილი | B44: 6 | C44: =85%*B44 -> 5.1 | G44: =4*(D44+F44)+9*E44 -> 0
A45: გამოსავალი | B45: 50/250 | D45: =SUM(D35:D44) -> 14.0431 | E45: =SUM(E35:E44) -> 14.0151 | F45: =SUM(F35:F44) -> 13.9895 | G45: =SUM(G35:G44) -> 238.2663
A47: ბოსტნეულის სალათი
A48: პროდუქტის დასახელება | B48: რაოდენობა, გ | D48: ცილები, გ | E48: ცხიმები, გ | F48: ნახშირწყლები | G48: ენერგეტიკული ღირებულება
B49: ბრუტო | C49: ნეტო | G49: კკალ
A50: კომბოსტო თავხვეულა | B50: 65 | C50: =75%*B50 -> 48.75 | D50: =1.87%*C50 -> 0.911625 | F50: =4.16%*C50 -> 2.028 | G50: =4*(D50+F50)+9*E50 -> 11.7585
A51: სტაფილო | B51: 25 | C51: =80%*B51 -> 20 | D51: =1.77%*C51 -> 0.354 | F51: =11%*C51 -> 2.2 | G51: =4*(D51+F51)+9*E51 -> 10.216
A52: ხახვი | B52: 25 | C52: =90%*B52 -> 22.5 | D52: =1.58%*C52 -> 0.3555 | F52: =9.5%*C52 -> 2.1375 | G52: =4*(D52+F52)+9*E52 -> 9.972
A53: წიწაკა ბულგარული | B53: 40 | C53: =85%*B53 -> 34 | D53: =1.5%*C53 -> 0.51 | F53: =6.2%*C53 -> 2.108 | G53: =4*(D53+F53)+9*E53 -> 10.472
A54: მუხუდო მწვანე კონსერვირებული | B54: 60 | C54: 40 | D54: 1.04 | E54: 0.08 | F54: 2.72 | G54: 15.76
A55: არაჟანი | B55: 20 | C55: =100%*B55 -> 20 | D55: =2.6%*C55 -> 0.52 | E55: =15%*C55 -> 3 | F55: =3.8%*C55 -> 0.76 | G55: =4*(D55+F55)+9*E55 -> 32.12
A56: შაქარი
A57: ლიმონი ცალობით | B57: 0.5 | C57: 30 | D57: =1.9%*C57 -> 0.57 | F57: =3.6%*C57 -> 1.08 | G57: =4*(D57+F57)+9*E57 -> 6.6
A58: გამოსავალი | B58: 200 | D58: =SUM(D50:D57) -> 4.261125 | E58: =SUM(E50:E57) -> 3.08 | F58: =SUM(F50:F57) -> 13.0335 | G58: =SUM(G50:G57) -> 96.8985
A60: ხილის წვენი | B60: 200 | C60: =100%*B60 -> 200 | D60: =0.66%*C60 -> 1.32 | F60: =17.3%*C60 -> 34.6 | G60: =4*(D60+F60)+9*E60 -> 143.68
A61: პური თეთრი | B61: 250 | C61: =B61*100% -> 250 | D61: =C61*7.9% -> 19.75 | E61: =C61*1% -> 2.5 | F61: =C61*49.6% -> 124 | G61: =4*(D61+F61)+9*E61 -> 597.5
A63: II კვება სულ | B63: =C61+B58+250+50+C60 -> 950 | D63: =D61+D58+D45+D60 -> 39.374225 | E63: =E61+E58+E45+E60 -> 19.5951 | F63: =F61+F58+F45+F60 -> 185.623 | G63: =G61+G58+G45+G60 -> 1076.3448
A66: III კვება
A67: ქათმის ჩახოხბილი
A68: პროდუქტის დასახელება | B68: რაოდენობა, გ | D68: ცილები, გ | E68: ცხიმები, გ | F68: ნახშირწყლები | G68: ენერგეტიკული ღირებულება
B69: ბრუტო | C69: ნეტო | G69: კკალ
A70: ქათმის ხორცი | B70: 160 | C70: =B70*72% -> 115.2 | D70: =18.5%*C70 -> 21.312 | E70: =15.9%*C70 -> 18.3168 | G70: =4*(D70+F70)+9*E70 -> 250.0992
A71: ტომატ–პასტა | B71: 5 | C71: =100%*B71 -> 5 | F71: =17.7%*C71 -> 0.885 | G71: =4*(D71+F71)+9*E71 -> 3.54
A72: მწვანილი | B72: 14 | C72: =85%*B72 -> 11.9 | G72: =4*(D72+F72)+9*E72 -> 0
A73: ხახვი | B73: 10 | C73: =90%*B73 -> 9 | D73: =1.58%*C73 -> 0.1422 | F73: =9.5%*C73 -> 0.855 | G73: =4*(D73+F73)+9*E73 -> 3.9888
A74: კარაქი | B74: 5 | C74: =100%*B74 -> 5 | D74: =0.5%*C74 -> 0.025 | E74: =82.5%*C74 -> 4.125 | F74: =0.8%*C74 -> 0.04 | G74: =4*(D74+F74)+9*E74 -> 37.385
A75: მარილი | B75: 1 | C75: =100%*B75 -> 1 | G75: =4*(D75+F75)+9*E75 -> 0
A76: გამოსავალი | B76: 150 | D76: =SUM(D70:D75) -> 21.4792 | E76: =SUM(E70:E75) -> 22.4418 | F76: =SUM(F70:F75) -> 1.78 | G76: =SUM(G70:G75) -> 295.013
A78: მოხარშული სოსისი წიწიბურას გარნირით
A79: პროდუქტის დასახელება | B79: რაოდენობა, გ | D79: ცილები, გ | E79: ცხიმები, გ | F79: ნახშირწყლები | G79: ენერგეტიკული ღირებულება
B80: ბრუტო | C80: ნეტო | G80: კკალ
A81: სოსისი | B81: 150 | C81: =100%*B81 -> 150 | D81: =11.8%*C81 -> 17.7 | E81: =20.1%*C81 -> 30.15 | F81: =0.87%*C81 -> 1.305 | G81: =4*(D81+F81)+9*E81 -> 347.37
A82: გამოსავალი | B82: 150 | D82: =SUM(D81:D81) -> 17.7 | E82: =SUM(E81:E81) -> 30.15 | F82: =SUM(F81:F81) -> 1.305 | G82: =SUM(G81:G81) -> 347.37
A84: წიწიბურას გარნირი
A85: პროდუქტის დასახელება | B85: რაოდენობა, გ | D85: ცილები, გ | E85: ცხიმები, გ | F85: ნახშირწყლები | G85: ენერგეტიკული ღირებულება
B86: ბრუტო | C86: ნეტო | G86: კკალ
A87: წიწიბურა | B87: 80 | C87: =B87*100% -> 80 | D87: =10.78%*C87 -> 8.624 | E87: =3.14%*C87 -> 2.512 | F87: =55.9%*C87 -> 44.72 | G87: =4*(D87+F87)+9*E87 -> 235.984
A88: წყალი | B88: 200 | C88: 200
A89: მარილი | B89: 1.5 | C89: 1.5 | D89: =12.7%*C89 -> 0.1905 | E89: =11.5%*C89 -> 0.1725 | G89: =4*(D89+F89)+9*E89 -> 2.3145
A90: ცხოველური ცხიმი | B90: 5 | C90: =100%*B90 -> 5 | D90: =0.5%*C90 -> 0.025 | E90: =82.5%*C90 -> 4.125 | F90: =0.8%*C90 -> 0.04 | G90: =4*(D90+F90)+9*E90 -> 37.385
A91: გამოსავალი | B91: 250 | D91: =SUM(D87:D90) -> 8.8395 | E91: =SUM(E87:E90) -> 6.8095 | F91: =SUM(F87:F90) -> 44.76 | G91: =SUM(G87:G90) -> 275.6835
A94: პროდუქტის დასახელება | B94: რაოდენობა, გ | D94: ცილები, გ | E94: ცხიმები, გ | F94: ნახშირწყლები | G94: ენერგეტიკული ღირებულება
B95: ბრუტო | C95: ნეტო | G95: კკალ
A96: ყველი იმერული | B96: 70 | C96: =80%*B96 -> 56 | D96: =17.9%*C96 -> 10.024 | E96: =14.3%*C96 -> 8.008 | G96: =4*(D96+F96)+9*E96 -> 112.168
A98: პური თეთრი | B98: 250 | C98: =B98*100% -> 250 | D98: =C98*7.9% -> 19.75 | E98: =C98*1% -> 2.5 | F98: =C98*49.6% -> 124 | G98: =4*(D98+F98)+9*E98 -> 597.5
A100: IIკვება სულ | B100: =C98+C97+C96+B91+B82+B76 -> 856 | D100: =D98+D97+D96+D91+D82+D76 -> 77.7927 | E100: =E98+E97+E96+E91+E82+E76 -> 69.9093 | F100: =F98+F97+F96+F91+F82+F76 -> 171.845 | G100: =G98+G97+G96+G91+G82+G76 -> 1627.7345
A101: III კვება სულ | B101: =C98+C96+B91+B82+B76 -> 856 | D101: =D98+D91+D82+D76 -> 67.7687 | E101: =E98+E91+E82+E76 -> 61.9013 | F101: =F98+F91+F82+F76 -> 171.845 | G101: =G98+G91+G82+G76+G96 -> 1627.7345
A103: სულ დღეში | B103: =B101+B63+B28 -> 2136 | D103: =D101+D63+D28 -> 115.05692 | E103: =E101+E63+E28 -> 99.7363 | F103: =F101+F63+F28 -> 392.138 | G103: =G101+G63+G28 -> 3067.9744

Sheet სამშაბათი
A1: დანართი №11.2
A2: სამსახურის პენიტენციურ დაწესებულებებსა და მათ ტერიტორიაზე მყოფ და დეპარტამენტის გარე დაცვისა და ინფორმაციულ-ტექნიკური უსაფრთხოების მთავარი სამმართველოს წვევამდელთა მომზადების განყოფილების მოსამსახურეთა სამჯერადი კვების ერთკვირიანი მენიუ გაზაფხული - ზაფხული II კვირა
A3: სამშაბათი
A4: I კვება
A5: ლობიანი
A6: პროდუქტის დასახელება | B6: რაოდენობა, გ | D6: ცილები, გ | E6: ცხიმები, გ | F6: ნახშირწყლები | G6: ენერგეტიკული ღირებულება
B7: ბრუტო | C7: ნეტო | G7: კკალ
A8: ლობიო | B8: 25 | C8: =B8*100% -> 25 | D8: =C8*20.8% -> 5.2 | E8: =C8*2% -> 0.5 | F8: =C8*46.6% -> 11.65 | G8: =4*(D8+F8)+9*E8 -> 71.9
A9: ხორბლის ფქვილი I ხარისხის | B9: 40 | C9: =B9*100% -> 40 | D9: =C9*10% -> 4 | E9: =C9*1.3% -> 0.52 | F9: =C9*69% -> 27.6 | G9: =4*(D9+F9)+9*E9 -> 131.08
A10: საფუარი | B10: 1 | C10: =100%*B10 -> 1
A11: ზეთი | B11: 8 | C11: =100%*B11 -> 8 | E11: =99.9%*C11 -> 7.992 | G11: =4*(D11+F11)+9*E11 -> 71.928
A12: ხახვი | B12: 12 | C12: =90%*B12 -> 10.8 | D12: =1.58%*C12 -> 0.17064 | F12: =9.5%*C12 -> 1.026 | G12: =4*(D12+F12)+9*E12 -> 4.78656
A13: შავი წიწაკა | B13: 0.5 | C13: 0.5
A14: მარილი | B14: 1 | C14: 1
A15: გამოსავალი | B15: 200 | D15: =SUM(D8:D14) -> 9.37064 | E15: =SUM(E8:E14) -> 9.012 | F15: =SUM(F8:F14) -> 40.276 | G15: =SUM(G8:G14) -> 279.69456
A18: პროდუქტის დასახელება | B18: რაოდენობა, გ | D18: ცილები, გ | E18: ცხიმები, გ | F18: ნახშირწყლები, გ | G18: ენერგეტიკული ღირებულება
B19: ბრუტო | C19: ნეტო | G19: კკალ
A20: ყავა | B20: 5 | C20: =100%*B20 -> 5 | D20: =20%*C20 -> 1 | E20: =13%*C20 -> 0.65 | F20: =26.6%*C20 -> 1.33 | G20: =4*(D20+F20)+9*E20 -> 15.17
A21: შაქარი | B21: 10 | C21: =100%*B21 -> 10 | F21: =99%*C21 -> 9.9 | G21: =4*(D21+F21)+9*E21 -> 39.6
A22: გამოსავალი | B22: 200 | D22: =SUM(D20:D21) -> 1 | E22: =SUM(E20:E21) -> 0.65 | F22: =SUM(F20:F21) -> 11.23 | G22: =SUM(G20:G21) -> 54.77
A24: I კვება სულ | B24: =B22+B15 -> 400 | D24: =D22+D15 -> 10.37064 | E24: =E22+E15 -> 9.662 | F24: =F22+F15 -> 51.506 | G24: =G22+G15 -> 334.46456
A26: II კვება
A28: ქათამი მოხარშული, შებრაწული ნივრით და არაჟნით
A29: პროდუქტის დასახელება | B29: რაოდენობა, გ | D29: ცილები, გ | E29: ცხიმები, გ | F29: ნახშირწყლები | G29: ენერგეტიკული ღირებულება
B30: ბრუტო | C30: ნეტო | G30: კკალ
A31: ქათმის ხორცი მოხარშული | B31: 280 | C31: =B31*72% -> 201.6 | D31: =18.5%*C31 -> 37.296 | E31: =15.9%*C31 -> 32.0544 | G31: =4*(D31+F31)+9*E31 -> 437.6736
A32: არაჟანი | B32: 50 | C32: =100%*B32 -> 50 | D32: =2.6%*C32 -> 1.3 | E32: =20%*C32 -> 10 | F32: =3.8%*C32 -> 1.9 | G32: =4*(D32+F32)+9*E32 -> 102.8
A33: სანელებლები | B33: 0.1 | C33: =100%*B33 -> 0.1 | G33: =4*(D33+F33)+9*E33 -> 0
A34: ნიორი | B34: 1.5 | C34: =85%*B34 -> 1.275 | G34: =4*(D34+F34)+9*E34 -> 0
A35: მარილი | B35: 1.5 | C35: 1.5 | G35: 0
A36: კარაქი | B36: 10 | C36: =100%*B36 -> 10 | D36: =0.5%*C36 -> 0.05 | E36: =82.5%*C36 -> 8.25 | F36: =0.8%*C36 -> 0.08 | G36: =4*(D36+F36)+9*E36 -> 74.77
A37: გამოსავალი | B37: 150 | D37: =SUM(D31:D36) -> 38.646 | E37: =SUM(E31:E36) -> 50.3044 | F37: =SUM(F31:F36) -> 1.98 | G37: =SUM(G31:G36) -> 615.2436
A40: წიწიბურას გარნირი
A41: პროდუქტის დასახელება | B41: რაოდენობა, გ | D41: ცილები, გ | E41: ცხიმები, გ | F41: ნახშირწყლები | G41: ენერგეტიკული ღირებულება
B42: ბრუტო | C42: ნეტო | G42: კკალ
A43: წიწიბურა | B43: 250 | C43: =72%*B43 -> 180 | D43: =2.1%*C43 -> 3.78 | E43: =0.4%*C43 -> 0.72 | F43: =15.6%*C43 -> 28.08 | G43: =4*(D43+F43)+9*E43 -> 133.92
A44: კარაქი | B44: 5 | C44: =100%*B44 -> 5 | D44: =0.5%*C44 -> 0.025 | E44: =82.5%*C44 -> 4.125 | F44: =0.8%*C44 -> 0.04 | G44: =4*(D44+F44)+9*E44 -> 37.385
A45: წყალი | B45: 120 | C45: 120
A46: მარილი | B46: 2 | C46: =100%*B46 -> 2 | G46: =4*(D46+F46)+9*E46 -> 0
A47: გამოსავალი | B47: 150 | D47: =SUM(D43:D46) -> 3.805 | E47: =SUM(E43:E46) -> 4.845 | F47: =SUM(F43:F46) -> 28.12 | G47: =SUM(G43:G46) -> 171.305
A48: პური თეთრი | B48: 250 | C48: 250 | D48: =C48*7.9% -> 19.75 | E48: =C48*1% -> 2.5 | F48: =C48*49.6% -> 124 | G48: =4*(D48+F48)+9*E48 -> 597.5
A50: პროდუქტის დასახელება | B50: რაოდენობა, გ | D50: ცილები, გ | E50: ცხიმები, გ | F50: ნახშირწყლები | G50: ენერგეტიკული ღირებულება
B51: ბრუტო | C51: ნეტო | G51: კკალ
A52: ხილის წვენი | B52: 200 | C52: =100%*B52 -> 200 | D52: =0.66%*C52 -> 1.32 | F52: =17.3%*C52 -> 34.6 | G52: =4*(D52+F52)+9*E52 -> 143.68
A53: გამოსავალი | B53: 200 | D53: =SUM(D52:D52) -> 1.32 | E53: =SUM(E52:E52) -> 0 | F53: =SUM(F52:F52) -> 34.6 | G53: =SUM(G52:G52) -> 143.68
A55: II კვება სულ | B55: =B53+C48+B47+B37 -> 750 | D55: =D53+D48+D47+D37 -> 63.521 | E55: =E53+E48+E47+E37 -> 57.6494 | F55: =F53+F48+F47+F37 -> 188.7 | G55: =G53+G48+G47+G37 -> 1527.7286
A57: III კვება
A59: თევზი შემწვარი
A60: პროდუქტის დასახელება | B60: რაოდენობა, გ | D60: ცილები, გ | E60: ცხიმები, გ | F60: ნახშირწყლები | G60: ენერგეტიკული ღირებულება
B61: ბრუტო | C61: ნეტო | G61: კკალ
A62: თევზი | B62: 200 | C62: =92%*B62 -> 184 | D62: =15.48%*C62 -> 28.4832 | E62: =8.69%*C62 -> 15.9896 | G62: =4*(D62+F62)+9*E62 -> 257.8392
A63: ფქვილი | B63: 10 | C63: =B63*100% -> 10 | D63: =C63*10% -> 1 | E63: =C63*1.3% -> 0.13 | F63: =C63*69% -> 6.9 | G63: =4*(D63+F63)+9*E63 -> 32.77
A64: მარილი | B64: 1 | C64: =100%*B64 -> 1 | G64: =4*(D64+F64)+9*E64 -> 0
A65: ზეთი | B65: 8 | C65: =100%*B65 -> 8 | E65: =99.9%*C65 -> 7.992 | G65: =4*(D65+F65)+9*E65 -> 71.928
A66: გამოსავალი | B66: 135 | D66: =SUM(D62:D65) -> 29.4832 | E66: =SUM(E62:E65) -> 24.1116 | F66: =SUM(F62:F65) -> 6.9 | G66: =SUM(G62:G65) -> 362.5372
A69: ბოსტნეულის გარნირი
A70: პროდუქტის დასახელება | B70: რაოდენობა, გ | D70: ცილები, გ | E70: ცხიმები, გ | F70: ნახშირწყლები | G70: ენერგეტიკული ღირებულება
B71: ბრუტო | C71: ნეტო | G71: კკალ
A72: სტაფილო | B72: 65 | C72: =80%*B72 -> 52 | D72: =1.77%*C72 -> 0.9204 | F72: =11%*C72 -> 5.72 | G72: =4*(D72+F72)+9*E72 -> 26.5616
A73: კარტოფილი | B73: 150 | C73: =72%*B73 -> 108 | D73: =2.1%*C73 -> 2.268 | E73: =0.4%*C73 -> 0.432 | F73: =15.6%*C73 -> 16.848 | G73: =4*(D73+F73)+9*E73 -> 80.352
A74: ბარდა | B74: 15 | C74: =B74*100% -> 15 | D74: =C74*20% -> 3 | E74: =C74*2% -> 0.3 | F74: =C74*48% -> 7.2 | G74: =4*(D74+F74)+9*E74 -> 43.5
A75: ზეთი | B75: 5 | C75: =100%*B75 -> 5 | E75: =99.9%*C75 -> 4.995 | G75: =4*(D75+F75)+9*E75 -> 44.955
A76: მწვანილი | B76: 14 | C76: =85%*B76 -> 11.9 | G76: =4*(D76+F76)+9*E76 -> 0
A77: მარილი | B77: 1 | C77: =100%*B77 -> 1 | G77: =4*(D77+F77)+9*E77 -> 0
A78: გამოსავალი | B78: 200 | D78: =SUM(D72:D77) -> 6.1884 | E78: =SUM(E72:E77) -> 5.727 | F78: =SUM(F72:F77) -> 29.768 | G78: =SUM(G72:G77) -> 195.3686
A79: პური თეთრი | B79: 250 | C79: 250 | D79: =C79*7.9% -> 19.75 | E79: =C79*1% -> 2.5 | F79: =C79*49.6% -> 124 | G79: =4*(D79+F79)+9*E79 -> 597.5
A82: IIკვება სულ | B82: =ოთხშაბათი!B17+C79+B78+B66 -> 735 | D82: =ოთხშაბათი!D17+D79+D78+D66 -> 62.95754 | E82: =ოთხშაბათი!E17+E79+E78+E66 -> 38.3872 | F82: =ოთხშაბათი!F17+F79+F78+F66 -> 217.2969 | G82: =ოთხშაბათი!G17+G79+G78+G66 -> 1466.5026
A83: III კვება სულ | B83: =C79+B78+B66 -> 585 | D83: =D79+D78+D66 -> 55.4216 | E83: =E79+E78+E66 -> 32.3386 | F83: =F79+F78+F66 -> 160.668 | G83: =G79+G78+G66 -> 1155.4058
A85: სულ დღეში | B85: =B83+B55+B24 -> 1735 | D85: =D83+D55+D24 -> 129.31324 | E85: =E83+E55+E24 -> 99.65 | F85: =F83+F55+F24 -> 400.874 | G85: =G83+G55+G24 -> 3017.599

Sheet ოთხშაბათი
A1: დანართი №11.2
A2: სამსახურის პენიტენციურ დაწესებულებებსა და მათ ტერიტორიაზე მყოფ და დეპარტამენტის გარე დაცვისა და ინფორმაციულ-ტექნიკური უსაფრთხოების მთავარი სამმართველოს წვევამდელთა მომზადების განყოფილების მოსამსახურეთა სამჯერადი კვების ერთკვირიანი მენიუ გაზაფხული - ზაფხული II კვირა
A3: ოთხშაბათი
A4: I კვება
A6: კარტოფილის ღვეზელი
A7: პროდუქტის დასახელება | B7: რაოდენობა, გ | D7: ცილები, გ | E7: ცხიმები, გ | F7: ნახშირწყლები | G7: ენერგეტიკული ღირებულება
B8: ბრუტო | C8: ნეტო | G8: კკალ
A9: ხორბლის ფქვილი I ხარისხის | B9: 60 | C9: =B9*100% -> 60 | D9: =C9*10% -> 6 | E9: =C9*1.3% -> 0.78 | F9: =C9*69% -> 41.4 | G9: =4*(D9+F9)+9*E9 -> 196.62
A10: შაქარი | B10: 4 | C10: =100%*B10 -> 4 | F10: =99%*C10 -> 3.96 | G10: =4*(D10+F10)+9*E10 -> 15.84
A11: ზეთი | B11: 5 | C11: =100%*B11 -> 5 | E11: =99.9%*C11 -> 4.995 | G11: =4*(D11+F11)+9*E11 -> 44.955
A12: მარილი | B12: 2 | C12: =100%*B12 -> 2 | G12: =4*(D12+F12)+9*E12 -> 0
A13: საფუარი | B13: 1 | C13: =100%*B13 -> 1
A14: კარტოფილი | B14: 95 | C14: =72%*B14 -> 68.4 | D14: =2.1%*C14 -> 1.4364 | E14: =0.4%*C14 -> 0.2736 | F14: =15.6%*C14 -> 10.6704 | G14: =4*(D14+F14)+9*E14 -> 50.8896
A15: ხახვი | B15: 7 | C15: =90%*B15 -> 6.3 | D15: =1.58%*C15 -> 0.09954 | F15: =9.5%*C15 -> 0.5985 | G15: =4*(D15+F15)+9*E15 -> 2.79216
A16: შავი პილპილი | B16: 1 | C16: =100%*B16 -> 1 | G16: =4*(D16+F16)+9*E16 -> 0
A17: გამოსავალი | B17: 150 | D17: =SUM(D9:D16) -> 7.53594 | E17: =SUM(E9:E16) -> 6.0486 | F17: =SUM(F9:F16) -> 56.6289 | G17: =SUM(G9:G16) -> 311.09676
A19: პროდუქტის დასახელება | B19: რაოდენობა, გ | D19: ცილები, გ | E19: ცხიმები, გ | F19: ნახშირწყლები, გ | G19: ენერგეტიკული ღირებულება
B20: ბრუტო | C20: ნეტო | G20: კკალ
A21: ყავა | B21: 5 | C21: =100%*B21 -> 5 | D21: =20%*C21 -> 1 | E21: =13%*C21 -> 0.65 | F21: =26.6%*C21 -> 1.33 | G21: =4*(D21+F21)+9*E21 -> 15.17
A22: შაქარი | B22: 10 | C22: =100%*B22 -> 10 | F22: =99%*C22 -> 9.9 | G22: =4*(D22+F22)+9*E22 -> 39.6
A23: გამოსავალი | B23: 200 | D23: =SUM(D21:D22) -> 1 | E23: =SUM(E21:E22) -> 0.65 | F23: =SUM(F21:F22) -> 11.23 | G23: =SUM(G21:G22) -> 54.77
A25: I კვება სულ | B25: =B23+B17 -> 350 | D25: =D23+D17 -> 8.53594 | E25: =E23+E17 -> 6.6986 | F25: =F23+F17 -> 67.8589 | G25: =G23+G17 -> 365.86676
A27: II კვება
A29: კომბოსტოს მწნილი
A30: პროდუქტის დასახელება | B30: რაოდენობა, გ | D30: ცილები, გ | E30: ცხიმები, გ | F30: ნახშირწყლები, გ | G30: ენერგეტიკული ღირებულება
B31: ბრუტო | C31: ნეტო | G31: კკალ
A32: კომბოსტო | B32: 180 | C32: =75%*B32 -> 135 | D32: =1.87%*C32 -> 2.5245 | F32: =4.16%*C32 -> 5.616 | G32: =4*(D32+F32)+9*E32 -> 32.562
A33: ჭარხალი | B33: 25 | C33: =90%*B33 -> 22.5 | D33: =1.66%*C33 -> 0.3735 | F33: =10%*C33 -> 2.25 | G33: =4*(D33+F33)+9*E33 -> 10.494
A34: ნიორი | B34: 0.2 | C34: =92%*B34 -> 0.184 | G34: =4*(D34+F34)+9*E34 -> 0
A35: წიწაკა | B35: 0.05 | C35: =100%*B35 -> 0.05 | G35: =4*(D35+F35)+9*E35 -> 0
A36: მარილი | B36: 1 | C36: =B36*100% -> 1 | D36: =C36*10% -> 0.1 | E36: =C36*1.3% -> 0.013 | F36: =C36*69% -> 0.69 | G36: =4*(D36+F36)+9*E36 -> 3.277
A37: მწვანილი | B37: 4 | C37: =85%*B37 -> 3.4 | G37: =4*(D37+F37)+9*E37 -> 0
A38: ზეთი | B38: 3 | C38: =100%*B38 -> 3 | E38: =99.9%*C38 -> 2.997 | G38: =4*(D38+F38)+9*E38 -> 26.973
A39: გამოსავალი | B39: 160 | D39: =SUM(D32:D38) -> 2.998 | E39: =SUM(E32:E38) -> 3.01 | F39: =SUM(F32:F38) -> 8.556 | G39: =SUM(G32:G38) -> 73.306
A41: ლობიო ამოლესილი
A42: პროდუქტის დასახელება | B42: რაოდენობა, გ | D42: ცილები, გ | E42: ცხიმები, გ | F42: ნახშირწყლები, გ | G42: ენერგეტიკული ღირებულება
B43: ბრუტო | C43: ნეტო | G43: კკალ
A44: ლობიო | B44: 100 | C44: =B44*100% -> 100 | D44: =C44*20.8% -> 20.8 | E44: =C44*2% -> 2 | F44: =C44*46.6% -> 46.6 | G44: =4*(D44+F44)+9*E44 -> 287.6
A45: ზეთი | B45: 8 | C45: =100%*B45 -> 8 | E45: =99.9%*C45 -> 7.992 | G45: =4*(D45+F45)+9*E45 -> 71.928
A46: მარილი | B46: 2 | C46: =100%*B46 -> 2 | G46: =4*(D46+F46)+9*E46 -> 0
A47: სანელებლები | B47: 0.25 | C47: =100%*B47 -> 0.25 | G47: =4*(D47+F47)+9*E47 -> 0
A48: წიწაკა | B48: 0.2 | C48: =100%*B48 -> 0.2 | G48: =4*(D48+F48)+9*E48 -> 0
A49: ხახვი | B49: 20 | C49: =90%*B49 -> 18 | D49: =1.58%*C49 -> 0.2844 | F49: =9.5%*C49 -> 1.71 | G49: =4*(D49+F49)+9*E49 -> 7.9776
A50: ნიორი | B50: 1 | C50: =92%*B50 -> 0.92 | G50: =4*(D50+F50)+9*E50 -> 0
A51: მწვანილი | B51: 8 | C51: =85%*B51 -> 6.8 | G51: =4*(D51+F51)+9*E51 -> 0
A52: გამოსავალი | B52: 450 | D52: =SUM(D44:D51) -> 21.0844 | E52: =SUM(E44:E51) -> 9.992 | F52: =SUM(F44:F51) -> 48.31 | G52: =SUM(G44:G51) -> 367.5056
A53: პური თეთრი | B53: 250 | C53: 250 | D53: =C53*7.9% -> 19.75 | E53: =C53*1% -> 2.5 | F53: =C53*49.6% -> 124 | G53: =4*(D53+F53)+9*E53 -> 597.5
A55: ხორცი ჩახრაკული ხახვით "გულიაში"
A56: პროდუქტის დასახელება | B56: რაოდენობა, გ | D56: ცილები, გ | E56: ცხიმები, გ | F56: ნახშირწყლები, გ | G56: ენერგეტიკული ღირებულება
B57: ბრუტო | C57: ნეტო | G57: კკალ
A58: ხორცი საქონლის | B58: 120 | C58: =B58*75% -> 90 | D58: =18.6%*C58 -> 16.74 | E58: =17.3%*C58 -> 15.57 | G58: =4*(D58+F58)+9*E58 -> 207.09
A59: კარაქი | B59: 10 | C59: =100%*B59 -> 10 | E59: =72.57%*C59 -> 7.257 | G59: =4*(D59+F59)+9*E59 -> 65.313
A60: ფქვილი | B60: 5 | C60: =B60*100% -> 5 | D60: =C60*10% -> 0.5 | E60: =C60*1.3% -> 0.065 | F60: =C60*69% -> 3.45 | G60: =4*(D60+F60)+9*E60 -> 16.385
A61: ხახვი | B61: 24 | C61: =90%*B61 -> 21.6 | D61: =1.58%*C61 -> 0.34128 | F61: =9.5%*C61 -> 2.052 | G61: =4*(D61+F61)+9*E61 -> 9.57312
A62: სანელებლები (წიწაკა) | B62: 0.5 | C62: =100%*B62 -> 0.5 | G62: =4*(D62+F62)+9*E62 -> 0
A63: ტომატ-პასტა | B63: 4 | C63: =100%*B63 -> 4 | F63: =17.7%*C63 -> 0.708 | G63: =4*(D63+F63)+9*E63 -> 2.832
A64: მწვანილი | B64: 7 | C64: =85%*B64 -> 5.95 | G64: =4*(D64+F64)+9*E64 -> 0
A65: ხორცის ბულიონი | B65: 100 | C65: =90%*B65 -> 90 | G65: =4*(D65+F65)+9*E65 -> 0
A66: მარილი | B66: 1 | C66: =100%*B66 -> 1 | G66: =4*(D66+F66)+9*E66 -> 0
A67: გამოსავალი | B67: 54/200 | D67: =SUM(D58:D66) -> 17.58128 | E67: =SUM(E58:E66) -> 22.892 | F67: =SUM(F58:F66) -> 6.21 | G67: =SUM(G58:G66) -> 301.19312
A69: II კვება სულ | B69: =B39+B52+B53+54+200 -> 1114 | D69: =D39+D52+D53+D67 -> 61.41368 | E69: =E39+E52+E53+E67 -> 38.394 | F69: =F39+F52+F53+F67 -> 187.076 | G69: =G39+G52+G53+G67 -> 1339.5047
A71: III კვება
A72: ქათამი მოხარშული, შებრაწული ნივრით და არაჟნით
A73: პროდუქტის დასახელება | B73: რაოდენობა, გ | D73: ცილები, გ | E73: ცხიმები, გ | F73: ნახშირწყლები, გ | G73: ენერგეტიკული ღირებულება
B74: ბრუტო | C74: ნეტო | G74: კკალ
A75: ქათმის ხორცი მოხარშული | B75: 280 | C75: =B75*72% -> 201.6 | D75: =18.5%*C75 -> 37.296 | E75: =15.9%*C75 -> 32.0544 | G75: =4*(D75+F75)+9*E75 -> 437.6736
A76: არაჟანი | B76: 60 | C76: =100%*B76 -> 60 | D76: =2.6%*C76 -> 1.56 | E76: =20%*C76 -> 12 | F76: =3.8%*C76 -> 2.28 | G76: =4*(D76+F76)+9*E76 -> 123.36
A77: სანელებლები | B77: 0.1 | C77: =100%*B77 -> 0.1 | G77: =4*(D77+F77)+9*E77 -> 0
A78: ნიორი | B78: 1.5 | C78: =85%*B78 -> 1.275 | G78: =4*(D78+F78)+9*E78 -> 0
A79: მარილი | B79: 1.5 | C79: 1.5 | G79: 0
A80: კარაქი | B80: 10 | C80: =100%*B80 -> 10 | D80: =0.5%*C80 -> 0.05 | E80: =82.5%*C80 -> 8.25 | F80: =0.8%*C80 -> 0.08 | G80: =4*(D80+F80)+9*E80 -> 74.77
A81: გამოსავალი | B81: 150 | D81: =SUM(D75:D80) -> 38.906 | E81: =SUM(E75:E80) -> 52.3044 | F81: =SUM(F75:F80) -> 2.36 | G81: =SUM(G75:G80) -> 635.8036
A83: წიწიბურას გარნირი
A84: პროდუქტის დასახელება | B84: რაოდენობა, გ | D84: ცილები, გ | E84: ცხიმები, გ | F84: ნახშირწყლები | G84: ენერგეტიკული ღირებულება
B85: ბრუტო | C85: ნეტო | G85: კკალ
A86: წიწიბურა | B86: 250 | C86: =72%*B86 -> 180 | D86: =2.1%*C86 -> 3.78 | E86: =0.4%*C86 -> 0.72 | F86: =15.6%*C86 -> 28.08 | G86: =4*(D86+F86)+9*E86 -> 133.92
A87: კარაქი | B87: 8 | C87: =100%*B87 -> 8 | D87: =0.5%*C87 -> 0.04 | E87: =82.5%*C87 -> 6.6 | F87: =0.8%*C87 -> 0.064 | G87: =4*(D87+F87)+9*E87 -> 59.816
A88: წყალი | B88: 120 | C88: 120
A89: მარილი | B89: 2 | C89: =100%*B89 -> 2 | G89: =4*(D89+F89)+9*E89 -> 0
A90: გამოსავალი | B90: 150 | D90: =SUM(D86:D89) -> 3.82 | E90: =SUM(E86:E89) -> 7.32 | F90: =SUM(F86:F89) -> 28.144 | G90: =SUM(G86:G89) -> 193.736
A91: პური თეთრი | B91: 250 | C91: 250 | D91: =C91*7.9% -> 19.75 | E91: =C91*1% -> 2.5 | F91: =C91*49.6% -> 124 | G91: =4*(D91+F91)+9*E91 -> 597.5
A93: III კვება სულ | B93: =ორშაბათი!B17+B91+B90+B81 -> 680 | D93: =ორშაბათი!D17+D91+D90+D81 -> 69.39 | E93: =ორშაბათი!E17+E91+E90+E81 -> 79.7143 | F93: =ორშაბათი!F17+F91+F90+F81 -> 177.944 | G93: =G91+G90+G81 -> 1427.0396
A96: სულ დღეში | B96: =B93+B69 -> 1794 | D96: =D93+D69+D25 -> 139.33962 | E96: =E93+E69+E25 -> 124.8069 | F96: =F93+F69+F25 -> 432.8789 | G96: =G93+G69+G25 -> 3132.4111

Sheet ხუთშაბათი
A1: დანართი №11.2
A2: სამსახურის პენიტენციურ დაწესებულებებსა და მათ ტერიტორიაზე მყოფ და დეპარტამენტის გარე დაცვისა და ინფორმაციულ-ტექნიკური უსაფრთხოების მთავარი სამმართველოს წვევამდელთა მომზადების განყოფილების მოსამსახურეთა სამჯერადი კვების ერთკვირიანი მენიუ გაზაფხული - ზაფხული II კვირა
A3: ხუთშაბათი
A5: I კვება
A6: ხაჭაპური
A7: პროდუქტის დასახელება | B7: რაოდენობა, გ | D7: ცილები, გ | E7: ცხიმები, გ | F7: ნახშირწყლები, გ | G7: ენერგეტიკული ღირებულება
B8: ბრუტო | C8: ნეტო | G8: კკალ
A9: ხორბლის ფქვილი | B9: 80 | C9: =B9*100% -> 80 | D9: =C9*10% -> 8 | E9: =C9*1.3% -> 1.04 | F9: =C9*69% -> 55.2 | G9: =4*(D9+F9)+9*E9 -> 262.16
A10: ყველი იმერული | B10: 72 | C10: =80%*B10 -> 57.6 | D10: =17.9%*C10 -> 10.3104 | E10: =14.3%*C10 -> 8.2368 | G10: =4*(D10+F10)+9*E10 -> 115.3728
A11: კვერცხი | B11: 0.25 | C11: =B11*48 -> 12 | D11: =12.7%*C11 -> 1.524 | E11: =11.5%*C11 -> 1.38 | G11: =4*(D11+F11)+9*E11 -> 18.516
A12: საფუარი | B12: 1 | C12: =100%*B12 -> 1 | G12: =4*(D12+F12)+9*E12 -> 0
A13: კარაქი ნაღების | B13: 3 | C13: =100%*B13 -> 3 | E13: =72.57%*C13 -> 2.1771 | G13: =4*(D13+F13)+9*E13 -> 19.5939
A14: მარილი | B14: 1 | C14: =100%*B14 -> 1 | G14: =4*(D14+F14)+9*E14 -> 0
A15: გამოსავალი | B15: 160 | D15: =SUM(D9:D14) -> 19.8344 | E15: =SUM(E9:E14) -> 12.8339 | F15: =SUM(F9:F14) -> 55.2 | G15: =SUM(G9:G14) -> 415.6427
A17: ყავა რძით
A18: პროდუქტის დასახელება | B18: რაოდენობა, გ | D18: ცილები, გ | E18: ცხიმები, გ | F18: ნახშირწყლები | G18: ენერგეტიკული ღირებულება
B19: ბრუტო | C19: ნეტო | G19: კკალ
A20: ყავა | B20: 5 | C20: =100%*B20 -> 5 | D20: =20%*C20 -> 1 | E20: =13%*C20 -> 0.65 | F20: =26.6%*C20 -> 1.33 | G20: =4*(D20+F20)+9*E20 -> 15.17
A21: რძე | B21: 50 | C21: =100%*B21 -> 50 | D21: =2.8%*C21 -> 1.4 | E21: =3.2%*C21 -> 1.6 | F21: =4.7%*C21 -> 2.35 | G21: =4*(D21+F21)+9*E21 -> 29.4
A22: შაქარი | B22: 10 | C22: =100%*B22 -> 10 | F22: =99%*C22 -> 9.9 | G22: =4*(D22+F22)+9*E22 -> 39.6
A23: გამოსავალი | B23: 20 | D23: =SUM(D20:D22) -> 2.4 | E23: =SUM(E20:E22) -> 2.25 | F23: =SUM(F20:F22) -> 13.58 | G23: =SUM(G20:G22) -> 84.17
A26: I კვება სულ | B26: =B23+B15 -> 180 | D26: =D23+D15 -> 22.2344 | E26: =E23+E15 -> 15.0839 | F26: =F23+F15 -> 68.78 | G26: =G23+G15 -> 499.8127
A29: II კვება
A30: ხორცი ჩაშუშული შავი ქლიავით
A31: პროდუქტის დასახელება | B31: რაოდენობა, გ | D31: ცილები, გ | E31: ცხიმები, გ | F31: ნახშირწყლები | G31: ენერგეტიკული ღირებულება
B32: ბრუტო | C32: ნეტო | G32: კკალ
A33: ხორცი საქონლის | B33: 170 | C33: =B33*75% -> 127.5 | D33: =18.6%*C33 -> 23.715 | E33: =17.3%*C33 -> 22.0575 | G33: =4*(D33+F33)+9*E33 -> 293.3775
A34: შავი ქლიავი | B34: 30 | C34: =100%*B34 -> 30 | D34: =1.6%*C34 -> 0.48 | F34: =40%*C34 -> 12 | G34: =4*(D34+F34)+9*E34 -> 49.92
A35: ტომატ–პასტა | B35: 5 | C35: =100%*B35 -> 5 | F35: =17.7%*C35 -> 0.885 | G35: =4*(D35+F35)+9*E35 -> 3.54
A36: ხახვი | B36: 24 | C36: =90%*B36 -> 21.6 | D36: =1.58%*C36 -> 0.34128 | F36: =9.5%*C36 -> 2.052 | G36: =4*(D36+F36)+9*E36 -> 9.57312
A37: მარილი | B37: 1 | C37: =100%*B37 -> 1 | G37: =4*(D37+F37)+9*E37 -> 0
A38: ნიორი | B38: 1 | C38: =92%*B38 -> 0.92 | G38: =4*(D38+F38)+9*E38 -> 0
A39: გამოსავალი | B39: 100 | D39: =SUM(D33:D38) -> 24.53628 | E39: =SUM(E33:E38) -> 22.0575 | F39: =SUM(F33:F38) -> 14.937 | G39: =SUM(G33:G38) -> 356.41062
A41: შემწვარი კარტოფილი გარნირი
A42: პროდუქტის დასახელება | B42: რაოდენობა, გ | D42: ცილები, გ | E42: ცხიმები, გ | F42: ნახშირწყლები | G42: ენერგეტიკული ღირებულება
B43: ბრუტო | C43: ნეტო | G43: კკალ
A44: კარტოფილი | B44: 350 | C44: =72%*B44 -> 252 | D44: =2.1%*C44 -> 5.292 | E44: =0.4%*C44 -> 1.008 | F44: =15.6%*C44 -> 39.312 | G44: =4*(D44+F44)+9*E44 -> 187.488
A45: ზეთი | B45: 8 | C45: =100%*B45 -> 8 | E45: =99.9%*C45 -> 7.992 | G45: =4*(D45+F45)+9*E45 -> 71.928
A46: მარილი | B46: 2 | C46: =100%*B46 -> 2 | G46: =4*(D46+F46)+9*E46 -> 0
A47: გამოსავალი | B47: 170 | D47: =SUM(D44:D46) -> 5.292 | E47: =SUM(E44:E46) -> 9 | F47: =SUM(F44:F46) -> 39.312 | G47: =SUM(G44:G46) -> 259.416
A48: პური თეთრი | B48: 250 | C48: 250 | D48: =C48*7.9% -> 19.75 | E48: =C48*1% -> 2.5 | F48: =C48*49.6% -> 124 | G48: =4*(D48+F48)+9*E48 -> 597.5
A51: უმი ბოსტნეულის სალათი
A52: პროდუქტის დასახელება | B52: რაოდენობა, გ | D52: ცილები, გ | E52: ცხიმები, გ | F52: ნახშირწყლები, გ | G52: ენერგეტიკული ღირებულება
B53: ბრუტო | C53: ნეტო | G53: კკალ
A54: სტაფილო | B54: 16 | C54: =80%*B54 -> 12.8 | D54: =1.77%*C54 -> 0.22656 | F54: =11%*C54 -> 1.408 | G54: =4*(D54+F54)+9*E54 -> 6.53824
A55: პომიდორი | B55: 27 | C55: =90%*B55 -> 24.3 | D55: =1.1%*C55 -> 0.2673 | E55: =0.2%*C55 -> 0.0486 | F55: =3.8%*C55 -> 0.9234 | G55: =4*(D55+F55)+9*E55 -> 5.2002
A56: კიტრი | B56: 28 | C56: =90%*B56 -> 25.2 | D56: =0.8%*C56 -> 0.2016 | F56: =2.6%*C56 -> 0.6552 | G56: =4*(D56+F56)+9*E56 -> 3.4272
A57: კომბოსტო | B57: 17 | C57: =75%*B57 -> 12.75 | D57: =1.87%*C57 -> 0.238425 | F57: =4.16%*C57 -> 0.5304 | G57: =4*(D57+F57)+9*E57 -> 3.0753
A58: მარილი | B58: 0.5 | C58: =100%*B58 -> 0.5 | G58: =4*(D58+F58)+9*E58 -> 0
A59: არაჟანი | B59: 15 | C59: =100%*B59 -> 15 | D59: =2.6%*C59 -> 0.39 | E59: =20%*C59 -> 3 | F59: =3.8%*C59 -> 0.57 | G59: =4*(D59+F59)+9*E59 -> 30.84
A60: მწვანილი | B60: 6 | C60: =85%*B60 -> 5.1 | G60: =4*(D60+F60)+9*E60 -> 0
A61: გამოსავალი | B61: 90 | D61: =SUM(D54:D60) -> 1.323885 | E61: =SUM(E54:E60) -> 3.0486 | F61: =SUM(F54:F60) -> 4.087 | G61: =SUM(G54:G60) -> 49.08094
A63: ყავა რძით
A64: პროდუქტის დასახელება | B64: რაოდენობა, გ | D64: ცილები, გ | E64: ცხიმები, გ | F64: ნახშირწყლები | G64: ენერგეტიკული ღირებულება
B65: ბრუტო | C65: ნეტო | G65: კკალ
A66: ყავა | B66: 5 | C66: =100%*B66 -> 5 | D66: =20%*C66 -> 1 | E66: =13%*C66 -> 0.65 | F66: =26.6%*C66 -> 1.33 | G66: =4*(D66+F66)+9*E66 -> 15.17
A67: რძე | B67: 50 | C67: =100%*B67 -> 50 | D67: =2.8%*C67 -> 1.4 | E67: =3.2%*C67 -> 1.6 | F67: =4.7%*C67 -> 2.35 | G67: =4*(D67+F67)+9*E67 -> 29.4
A68: შაქარი | B68: 10 | C68: =100%*B68 -> 10 | F68: =99%*C68 -> 9.9 | G68: =4*(D68+F68)+9*E68 -> 39.6
A69: გამოსავალი | B69: 20 | D69: =SUM(D66:D68) -> 2.4 | E69: =SUM(E66:E68) -> 2.25 | F69: =SUM(F66:F68) -> 13.58 | G69: =SUM(G66:G68) -> 84.17
A71: II კვება სულ | B71: =B69+B61+C48+B47+B39 -> 630 | D71: =D69+D61+D48+D47+D39 -> 53.302165 | E71: =E69+E61+E48+E47+E39 -> 38.8561 | F71: =F69+F61+F48+F47+F39 -> 195.916 | G71: =G69+G61+G48+G47+G39 -> 1346.5776
A73: III კვება
A75: ქათმის ჩახოხბილი
A76: პროდუქტის დასახელება | B76: რაოდენობა, გ | D76: ცილები, გ | E76: ცხიმები, გ | F76: ნახშირწყლები, გ | G76: ენერგეტიკული ღირებულება
B77: ბრუტო | C77: ნეტო | G77: კკალ
A78: ქათმის ხორცი | B78: 250 | C78: =B78*72% -> 180 | D78: =18.5%*C78 -> 33.3 | E78: =15.9%*C78 -> 28.62 | G78: =4*(D78+F78)+9*E78 -> 390.78
A79: კარაქი | B79: 3 | C79: =100%*B79 -> 3 | E79: =72.57%*C79 -> 2.1771 | G79: =4*(D79+F79)+9*E79 -> 19.5939
A80: სანელებლები | B80: 0.2 | C80: =100%*B80 -> 0.2 | G80: =4*(D80+F80)+9*E80 -> 0
A81: ხახვი | B81: 20 | C81: =90%*B81 -> 18 | D81: =1.58%*C81 -> 0.2844 | F81: =9.5%*C81 -> 1.71 | G81: =4*(D81+F81)+9*E81 -> 7.9776
A82: ნიორი | B82: 0.3 | C82: =92%*B82 -> 0.276 | G82: =4*(D82+F82)+9*E82 -> 0
A83: მწვანილი | B83: 4 | C83: =85%*B83 -> 3.4 | G83: =4*(D83+F83)+9*E83 -> 0
A84: პომიდორი | B84: 50 | C84: =90%*B84 -> 45 | D84: =1.1%*C84 -> 0.495 | E84: =0.2%*C84 -> 0.09 | F84: =3.8%*C84 -> 1.71 | G84: =4*(D84+F84)+9*E84 -> 9.63
A85: მარილი | B85: 1 | C85: =100%*B85 -> 1 | G85: =4*(D85+F85)+9*E85 -> 0
A86: გამოსავალი | B86: 149/220 | D86: =SUM(D78:D85) -> 34.0794 | E86: =SUM(E78:E85) -> 30.8871 | F86: =SUM(F78:F85) -> 3.42 | G86: =SUM(G78:G85) -> 427.9815
A87: პური თეთრი | B87: 250 | C87: 250 | D87: =C87*7.9% -> 19.75 | E87: =C87*1% -> 2.5 | F87: =C87*49.6% -> 124 | G87: =4*(D87+F87)+9*E87 -> 597.5
A89: მაკარონის გარნირი
A90: პროდუქტის დასახელება | B90: რაოდენობა, გ | D90: ცილები, გ | E90: ცხიმები, გ | F90: ნახშირწყლები, გ | G90: ენერგეტიკული ღირებულება
B91: ბრუტო | C91: ნეტო | G91: კკალ
A92: მაკარონი | B92: 50 | C92: =B92*100% -> 50 | D92: =9.15%*C92 -> 4.575 | E92: =0.8%*C92 -> 0.4 | F92: =60%*C92 -> 30 | G92: =4*(D92+F92)+9*E92 -> 141.9
A93: ზეთი | B93: 3 | C93: =100%*B93 -> 3 | E93: =99.9%*C93 -> 2.997 | G93: =4*(D93+F93)+9*E93 -> 26.973
A94: მარილი | B94: 1 | C94: =100%*B94 -> 1 | G94: =4*(D94+F94)+9*E94 -> 0
A95: გამოსავალი | B95: 200 | D95: =SUM(D92:D94) -> 4.575 | E95: =SUM(E92:E94) -> 3.397 | F95: =SUM(F92:F94) -> 30 | G95: =SUM(G92:G94) -> 168.873
A98: პროდუქტის დასახელება | B98: რაოდენობა, გ | D98: ცილები, გ | E98: ცხიმები, გ | F98: ნახშირწყლები, გ | G98: ენერგეტიკული ღირებულება
B99: ბრუტო | C99: ნეტო | G99: კკალ
A100: ხილის წვენი | B100: 200 | C100: =100%*B100 -> 200 | D100: =0.66%*C100 -> 1.32 | F100: =17.3%*C100 -> 34.6 | G100: =4*(D100+F100)+9*E100 -> 143.68
A101: გამოსავალი | B101: 200 | D101: =SUM(D100:D100) -> 1.32 | E101: =SUM(E100:E100) -> 0 | F101: =SUM(F100:F100) -> 34.6 | G101: =SUM(G100:G100) -> 143.68
A103: II კვება სულ | B103: =B101+B95+C87+149+220 -> 1019 | D103: =D101+D95+D87+D86 -> 59.7244 | E103: =E101+E95+E87+E86 -> 36.7841 | F103: =F101+F95+F87+F86 -> 192.02 | G103: =G101+G95+G87+G86 -> 1338.0345
A106: სულ დღეში | B106: =B103+B71+B26 -> 1829 | D106: =D103+D71+D26 -> 135.26096 | E106: =E103+E71+E26 -> 90.7241 | F106: =F103+F71+F26 -> 456.716 | G106: =G103+G71+G26 -> 3184.4248

Sheet პარასკევი
A1: დანართი №11.2
A2: სამსახურის პენიტენციურ დაწესებულებებსა და მათ ტერიტორიაზე მყოფ და დეპარტამენტის გარე დაცვისა და ინფორმაციულ-ტექნიკური უსაფრთხოების მთავარი სამმართველოს წვევამდელთა მომზადების განყოფილების მოსამსახურეთა სამჯერადი კვების ერთკვირიანი მენიუ გაზაფხული - ზაფხული II კვირა
A3: პარასკევი
A4: I კვება
A6: ლობიანი
A7: პროდუქტის დასახელება | B7: რაოდენობა, გ | D7: ცილები, გ | E7: ცხიმები, გ | F7: ნახშირწყლები | G7: ენერგეტიკული ღირებულება
B8: ბრუტო | C8: ნეტო | G8: კკალ
A9: ლობიო | B9: 25 | C9: =B9*100% -> 25 | D9: =C9*20.8% -> 5.2 | E9: =C9*2% -> 0.5 | F9: =C9*46.6% -> 11.65 | G9: =4*(D9+F9)+9*E9 -> 71.9
A10: ხორბლის ფქვილი I ხარისხის | B10: 35 | C10: =B10*100% -> 35 | D10: =C10*10% -> 3.5 | E10: =C10*1.3% -> 0.455 | F10: =C10*69% -> 24.15 | G10: =4*(D10+F10)+9*E10 -> 114.695
A11: საფუარი | B11: 1 | C11: =100%*B11 -> 1
A12: ზეთი | B12: 8 | C12: =100%*B12 -> 8 | E12: =99.9%*C12 -> 7.992 | G12: =4*(D12+F12)+9*E12 -> 71.928
A13: ხახვი | B13: 12 | C13: =90%*B13 -> 10.8 | D13: =1.58%*C13 -> 0.17064 | F13: =9.5%*C13 -> 1.026 | G13: =4*(D13+F13)+9*E13 -> 4.78656
A14: შავი წიწაკა | B14: 0.5 | C14: 0.5
A15: მარილი | B15: 1 | C15: 1
A16: გამოსავალი | B16: 200 | D16: =SUM(D9:D15) -> 8.87064 | E16: =SUM(E9:E15) -> 8.947 | F16: =SUM(F9:F15) -> 36.826 | G16: =SUM(G9:G15) -> 263.30956
A18: პროდუქტის დასახელება | B18: რაოდენობა, გ | D18: ცილები, გ | E18: ცხიმები, გ | F18: ნახშირწყლები | G18: ენერგეტიკული ღირებულება
B19: ბრუტო | C19: ნეტო | G19: კკალ
A20: ყავა | B20: 5 | C20: =100%*B20 -> 5 | D20: =20%*C20 -> 1 | E20: =13%*C20 -> 0.65 | F20: =26.6%*C20 -> 1.33 | G20: =4*(D20+F20)+9*E20 -> 15.17
A21: შაქარი | B21: 10 | C21: =100%*B21 -> 10 | F21: =99%*C21 -> 9.9 | G21: =4*(D21+F21)+9*E21 -> 39.6
A22: გამოსავალი | B22: 200 | D22: =SUM(D20:D21) -> 1 | E22: =SUM(E20:E21) -> 0.65 | F22: =SUM(F20:F21) -> 11.23 | G22: =SUM(G20:G21) -> 54.77
A24: I კვება სულ | B24: =B22+B16 -> 400 | D24: =D22+D16 -> 9.87064 | E24: =E22+E16 -> 9.597 | F24: =F22+F16 -> 48.056 | G24: =G22+G16 -> 318.07956
A26: II კვება
A28: შემწვარი თევზის ფილე კარტოფილის პიურეს გარნირით
A29: პროდუქტის დასახელება | B29: რაოდენობა, გ | D29: ცილები, გ | E29: ცხიმები, გ | F29: ნახშირწყლები, გ | G29: ენერგეტიკული ღირებულება
B30: ბრუტო | C30: ნეტო | G30: კკალ
A31: თევზის ფილე | B31: 150 | C31: =92%*B31 -> 138 | D31: =15.48%*C31 -> 21.3624 | E31: =8.69%*C31 -> 11.9922 | G31: =4*(D31+F31)+9*E31 -> 193.3794
A32: ზეთი | B32: 5 | C32: =100%*B32 -> 5 | E32: =99.9%*C32 -> 4.995 | G32: =4*(D32+F32)+9*E32 -> 44.955
A33: ხორბლის ფქვილი | B33: 10 | C33: =B33*100% -> 10 | D33: =C33*10% -> 1 | E33: =C33*1.3% -> 0.13 | F33: =C33*69% -> 6.9 | G33: =4*(D33+F33)+9*E33 -> 32.77
A34: მარილი | B34: 2 | C34: =100%*B34 -> 2 | G34: =4*(D34+F34)+9*E34 -> 0
A35: გამოსავალი | B35: 97 | D35: =SUM(D31:D34) -> 22.3624 | E35: =SUM(E31:E34) -> 17.1172 | F35: =SUM(F31:F34) -> 6.9 | G35: =SUM(G31:G34) -> 271.1044
A37: კარტოფილის პიურე (გარნირი)
A38: პროდუქტის დასახელება | B38: რაოდენობა, გ | D38: ცილები, გ | E38: ცხიმები, გ | F38: ნახშირწყლები, გ | G38: ენერგეტიკული ღირებულება
B39: ბრუტო | C39: ნეტო | G39: კკალ
A40: კარტოფილი | B40: 350 | C40: =72%*B40 -> 252 | D40: =2.1%*C40 -> 5.292 | E40: =0.4%*C40 -> 1.008 | F40: =15.6%*C40 -> 39.312 | G40: =4*(D40+F40)+9*E40 -> 187.488
A41: რძე | B41: 50 | C41: =100%*B41 -> 50 | D41: =2.8%*C41 -> 1.4 | E41: =3.2%*C41 -> 1.6 | F41: =4.7%*C41 -> 2.35 | G41: =4*(D41+F41)+9*E41 -> 29.4
A42: კარაქი | B42: 5 | C42: =100%*B42 -> 5 | E42: =72.57%*C42 -> 3.6285 | G42: =4*(D42+F42)+9*E42 -> 32.6565
A43: მარილი | B43: 2 | C43: =100%*B43 -> 2 | G43: =4*(D43+F43)+9*E43 -> 0
A44: გამოსავალი | B44: 250 | D44: =SUM(D40:D43) -> 6.692 | E44: =SUM(E40:E43) -> 6.2365 | F44: =SUM(F40:F43) -> 41.662 | G44: =SUM(G40:G43) -> 249.5445
A47: სალათი პომიდვრის მწვანე ხახვით
A48: პროდუქტის დასახელება | B48: რაოდენობა, გ | D48: ცილები, გ | E48: ცხიმები, გ | F48: ნახშირწყლები, გ | G48: ენერგეტიკული ღირებულება
B49: ბრუტო | C49: ნეტო | G49: კკალ
A50: პომიდორი | B50: 70 | C50: =90%*B50 -> 63 | D50: =1.1%*C50 -> 0.693 | E50: =0.2%*C50 -> 0.126 | F50: =3.8%*C50 -> 2.394 | G50: =4*(D50+F50)+9*E50 -> 13.482
A51: მწვანე ხახვი | B51: 14 | C51: =B51*80% -> 11.2 | D51: =1.3%*C51 -> 0.1456 | F51: =4.3%*C51 -> 0.4816 | G51: =4*(D51+F51)+9*E51 -> 2.5088
A52: ოხრახუში | B52: 14 | C52: =85%*B52 -> 11.9 | G52: =4*(D52+F52)+9*E52 -> 0
A53: ზეთი | B53: 3 | C53: =100%*B53 -> 3 | E53: =99.9%*C53 -> 2.997 | G53: =4*(D53+F53)+9*E53 -> 26.973
A54: მარილი | B54: 1 | C54: =100%*B54 -> 1 | G54: =4*(D54+F54)+9*E54 -> 0
A55: გამოსავალი | B55: 200 | D55: =SUM(D50:D54) -> 0.8386 | E55: =SUM(E50:E54) -> 3.123 | F55: =SUM(F50:F54) -> 2.8756 | G55: =SUM(G50:G54) -> 42.9638
A56: ხილის წვენი | B56: 200 | C56: =100%*B56 -> 200 | D56: =0.66%*C56 -> 1.32 | F56: =17.3%*C56 -> 34.6 | G56: =4*(D56+F56)+9*E56 -> 143.68
A57: პური თეთრი | B57: 250 | C57: 250 | D57: =C57*7.9% -> 19.75 | E57: =C57*1% -> 2.5 | F57: =C57*49.6% -> 124 | G57: =4*(D57+F57)+9*E57 -> 597.5
A60: ტყემლის საწებელი
A61: პროდუქტის დასახელება | B61: რაოდენობა, გ | D61: ცილები, გ | E61: ცხიმები, გ | F61: ნახშირწყლები | G61: ენერგეტიკული ღირებულება
B62: ბრუტო | C62: ნეტო | G62: კკალ
A63: ტყემლის საწებელი | B63: 30 | C63: =100%*B63 -> 30
A66: II კვება სულ | B66: =C63+C57+B55+B44+B35 -> 827 | D66: =D63+D57+D55+D44+D35+D56 -> 50.963 | E66: =E63+E57+E55+E44+E35+E56 -> 28.9767 | F66: =F63+F57+F55+F44+F35+F56 -> 210.0376 | G66: =G63+G57+G55+G44+G35+G56 -> 1304.7927
A68: III კვება
A70: სტაფილო-კარტოფილის გარნირი
A71: პროდუქტის დასახელება | B71: რაოდენობა, გ | D71: ცილები, გ | E71: ცხიმები, გ | F71: ნახშირწყლები, გ | G71: ენერგეტიკული ღირებულება
B72: ბრუტო | C72: ნეტო | G72: კკალ
A73: კარტოფილი | B73: 130 | C73: =72%*B73 -> 93.6 | D73: =2.1%*C73 -> 1.9656 | E73: =0.4%*C73 -> 0.3744 | F73: =15.6%*C73 -> 14.6016 | G73: =4*(D73+F73)+9*E73 -> 69.6384
A74: სტაფილო | B74: 60 | C74: =80%*B74 -> 48 | D74: =1.77%*C74 -> 0.8496 | F74: =11%*C74 -> 5.28 | G74: =4*(D74+F74)+9*E74 -> 24.5184
A75: კარაქი | B75: 3 | C75: =100%*B75 -> 3 | E75: =72.57%*C75 -> 2.1771 | G75: =4*(D75+F75)+9*E75 -> 19.5939
A76: გამოსავალი | B76: 150 | D76: =SUM(D73:D75) -> 2.8152 | E76: =SUM(E73:E75) -> 2.5515 | F76: =SUM(F73:F75) -> 19.8816 | G76: =SUM(G73:G75) -> 113.7507
A78: აჯაფსანდალი
A79: პროდუქტის დასახელება | B79: რაოდენობა, გ | D79: ცილები, გ | E79: ცხიმები, გ | F79: ნახშირწყლები, გ | G79: ენერგეტიკული ღირებულება
B80: ბრუტო | C80: ნეტო | G80: კკალ
A81: კარტოფილი | B81: 100 | C81: =72%*B81 -> 72 | D81: =2.1%*C81 -> 1.512 | E81: =0.4%*C81 -> 0.288 | F81: =15.6%*C81 -> 11.232 | G81: =4*(D81+F81)+9*E81 -> 53.568
A82: არაჟანი | B82: 30 | C82: =100%*B82 -> 30 | D82: =2.6%*C82 -> 0.78 | E82: =10%*C82 -> 3 | F82: =3.8%*C82 -> 1.14 | G82: =4*(D82+F82)+9*E82 -> 34.68
A83: ჭარხალი | B83: 50 | C83: =90%*B83 -> 45 | D83: =1.66%*C83 -> 0.747 | F83: =10%*C83 -> 4.5 | G83: =4*(D83+F83)+9*E83 -> 20.988
A84: სტაფილო | B84: 50 | C84: =80%*B84 -> 40 | D84: =1.77%*C84 -> 0.708 | F84: =11%*C84 -> 4.4 | G84: =4*(D84+F84)+9*E84 -> 20.432
A85: ხახვი | B85: 5 | C85: =90%*B85 -> 4.5 | D85: =1.58%*C85 -> 0.0711 | F85: =9.5%*C85 -> 0.4275 | G85: =4*(D85+F85)+9*E85 -> 1.9944
A86: მწვანილი | B86: 4 | C86: =85%*B86 -> 3.4 | G86: =4*(D86+F86)+9*E86 -> 0
A87: მარილი | B87: 1 | C87: =100%*B87 -> 1 | G87: =4*(D87+F87)+9*E87 -> 0
A88: გამოსავალი | B88: 180 | D88: =SUM(D81:D87) -> 3.8181 | E88: =SUM(E81:E87) -> 3.288 | F88: =SUM(F81:F87) -> 21.6995 | G88: =SUM(G81:G87) -> 131.6624
A91: კატლეტი საქონლის ხორცის
A92: პროდუქტის დასახელება | B92: რაოდენობა, გ | D92: ცილები, გ | E92: ცხიმები, გ | F92: ნახშირწყლები | G92: ენერგეტიკული ღირებულება
B93: ბრუტო | C93: ნეტო | G93: კკალ
A94: საქონლის ხორცი | B94: 220 | C94: =B94*75% -> 165 | D94: =18.6%*C94 -> 30.69 | E94: =17.3%*C94 -> 28.545 | G94: =4*(D94+F94)+9*E94 -> 379.665
A95: პური | B95: 20 | C95: =B95*100% -> 20 | D95: =C95*7.9% -> 1.58 | E95: =C95*1% -> 0.2 | F95: =C95*49.6% -> 9.92 | G95: =4*(D95+F95)+9*E95 -> 47.8
A96: მწვანილი | B96: 10 | C96: =85%*B96 -> 8.5 | G96: =4*(D96+F96)+9*E96 -> 0
A97: ხახვი | B97: 20 | C97: =90%*B97 -> 18 | D97: =1.58%*C97 -> 0.2844 | F97: =9.5%*C97 -> 1.71 | G97: =4*(D97+F97)+9*E97 -> 7.9776
A98: ნიორი | B98: 1 | C98: 0.9 | G98: 0
A99: ზეთი | B99: 7 | C99: =100%*B99 -> 7 | E99: =99.9%*C99 -> 6.993 | G99: =4*(D99+F99)+9*E99 -> 62.937
A100: მარილი | B100: 1 | C100: =100%*B100 -> 1 | G100: =4*(D100+F100)+9*E100 -> 0
A101: გამოსავალი | B101: 200 | D101: =SUM(D94:D100) -> 32.5544 | E101: =SUM(E94:E100) -> 35.738 | F101: =SUM(F94:F100) -> 11.63 | G101: =SUM(G94:G100) -> 498.3796
A103: პური თეთრი | B103: 250 | C103: 250 | D103: =C103*7.9% -> 19.75 | E103: =C103*1% -> 2.5 | F103: =C103*49.6% -> 124 | G103: =4*(D103+F103)+9*E103 -> 597.5
A105: კომპოტი ჩირის
A106: პროდუქტის დასახელება | B106: რაოდენობა, გ | D106: ცილები, გ | E106: ცხიმები, გ | F106: ნახშირწყლები, გ | G106: ენერგეტიკული ღირებულება
B107: ბრუტო | C107: ნეტო | G107: კკალ
A108: ჩირი სხვადახვა | B108: 25 | C108: =100%*B108 -> 25 | D108: =1.6%*C108 -> 0.4 | F108: =40%*C108 -> 10 | G108: =4*(D108+F108)+9*E108 -> 41.6
A109: შაქარი | B109: 10 | C109: =100%*B109 -> 10 | F109: =99%*C109 -> 9.9 | G109: =4*(D109+F109)+9*E109 -> 39.6
A110: გამოსავალი | B110: 200 | D110: =SUM(D108:D109) -> 0.4 | E110: =SUM(E108:E109) -> 0 | F110: =SUM(F108:F109) -> 19.9 | G110: =SUM(G108:G109) -> 81.2
A112: III კვება სულ | B112: =C103+B101+B88+B76+B110 -> 980 | D112: =D103+D101+D88+D76+D110 -> 59.3377 | E112: =E103+E101+E88+E76+E110 -> 44.0775 | F112: =F103+F101+F88+F76+F110 -> 197.1111 | G112: =G103+G101+G88+G76+G110 -> 1422.4927
A115: სულ დღეში | B115: =B112+B66+B24 -> 2207 | D115: =D112+D66+D24 -> 120.17134 | E115: =E112+E66+E24 -> 82.6512 | F115: =F112+F66+F24 -> 455.2047 | G115: =G112+G66+G24 -> 3045.365

Sheet შაბათი
A1: დანართი №11.2
A2: სამსახურის პენიტენციურ დაწესებულებებსა და მათ ტერიტორიაზე მყოფ და დეპარტამენტის გარე დაცვისა და ინფორმაციულ-ტექნიკური უსაფრთხოების მთავარი სამმართველოს წვევამდელთა მომზადების განყოფილების მოსამსახურეთა სამჯერადი კვების ერთკვირიანი მენიუ გაზაფხული - ზაფხული II კვირა
A3: შაბათი
A4: I კვება
A6: კარტოფილის ღვეზელი
A7: პროდუქტის დასახელება | B7: რაოდენობა, გ | D7: ცილები, გ | E7: ცხიმები, გ | F7: ნახშირწყლები | G7: ენერგეტიკული ღირებულება
B8: ბრუტო | C8: ნეტო | G8: კკალ
A9: ხორბლის ფქვილი I ხარისხის | B9: 80 | C9: =B9*100% -> 80 | D9: =C9*10% -> 8 | E9: =C9*1.3% -> 1.04 | F9: =C9*69% -> 55.2 | G9: =4*(D9+F9)+9*E9 -> 262.16
A10: შაქარი | B10: 4 | C10: =100%*B10 -> 4 | F10: =99%*C10 -> 3.96 | G10: =4*(D10+F10)+9*E10 -> 15.84
A11: ზეთი | B11: 5 | C11: =100%*B11 -> 5 | E11: =99.9%*C11 -> 4.995 | G11: =4*(D11+F11)+9*E11 -> 44.955
A12: მარილი | B12: 2 | C12: =100%*B12 -> 2 | G12: =4*(D12+F12)+9*E12 -> 0
A13: საფუარი | B13: 1 | C13: =100%*B13 -> 1
A14: კარტოფილი | B14: 105 | C14: =72%*B14 -> 75.6 | D14: =2.1%*C14 -> 1.5876 | E14: =0.4%*C14 -> 0.3024 | F14: =15.6%*C14 -> 11.7936 | G14: =4*(D14+F14)+9*E14 -> 56.2464
A15: ხახვი | B15: 7 | C15: =90%*B15 -> 6.3 | D15: =1.58%*C15 -> 0.09954 | F15: =9.5%*C15 -> 0.5985 | G15: =4*(D15+F15)+9*E15 -> 2.79216
A16: შავი პილპილი | B16: 1 | C16: =100%*B16 -> 1 | G16: =4*(D16+F16)+9*E16 -> 0
A17: გამოსავალი | B17: 150 | D17: =SUM(D9:D16) -> 9.68714 | E17: =SUM(E9:E16) -> 6.3374 | F17: =SUM(F9:F16) -> 71.5521 | G17: =SUM(G9:G16) -> 381.99356
A19: ყავა რძით
A20: პროდუქტის დასახელება | B20: რაოდენობა, გ | D20: ცილები, გ | E20: ცხიმები, გ | F20: ნახშირწყლები | G20: ენერგეტიკული ღირებულება
B21: ბრუტო | C21: ნეტო | G21: კკალ
A22: ყავა | B22: 5 | C22: =100%*B22 -> 5 | D22: =20%*C22 -> 1 | E22: =13%*C22 -> 0.65 | F22: =26.6%*C22 -> 1.33 | G22: =4*(D22+F22)+9*E22 -> 15.17
A23: რძე | B23: 50 | C23: =100%*B23 -> 50 | D23: =2.8%*C23 -> 1.4 | E23: =3.2%*C23 -> 1.6 | F23: =4.7%*C23 -> 2.35 | G23: =4*(D23+F23)+9*E23 -> 29.4
A24: შაქარი | B24: 10 | C24: =100%*B24 -> 10 | F24: =99%*C24 -> 9.9 | G24: =4*(D24+F24)+9*E24 -> 39.6
A25: გამოსავალი | B25: 20 | D25: =SUM(D22:D24) -> 2.4 | E25: =SUM(E22:E24) -> 2.25 | F25: =SUM(F22:F24) -> 13.58 | G25: =SUM(G22:G24) -> 84.17
A28: I კვება სულ | B28: =B25+B17 -> 170 | D28: =D25+D17 -> 12.08714 | E28: =E25+E17 -> 8.5874 | F28: =F25+F17 -> 85.1321 | G28: =G25+G17 -> 466.16356
A30: II კვება
A31: ხორცი ჩახრაკული ხახვით "გულიაში"
A32: პროდუქტის დასახელება | B32: რაოდენობა, გ | D32: ცილები, გ | E32: ცხიმები, გ | F32: ნახშირწყლები, გ | G32: ენერგეტიკული ღირებულება
B33: ბრუტო | C33: ნეტო | G33: კკალ
A34: ხორცი საქონლის | B34: 120 | C34: =B34*75% -> 90 | D34: =18.6%*C34 -> 16.74 | E34: =17.3%*C34 -> 15.57 | G34: =4*(D34+F34)+9*E34 -> 207.09
A35: კარაქი | B35: 10 | C35: =100%*B35 -> 10 | E35: =72.57%*C35 -> 7.257 | G35: =4*(D35+F35)+9*E35 -> 65.313
A36: ფქვილი | B36: 5 | C36: =B36*100% -> 5 | D36: =C36*10% -> 0.5 | E36: =C36*1.3% -> 0.065 | F36: =C36*69% -> 3.45 | G36: =4*(D36+F36)+9*E36 -> 16.385
A37: ხახვი | B37: 24 | C37: =90%*B37 -> 21.6 | D37: =1.58%*C37 -> 0.34128 | F37: =9.5%*C37 -> 2.052 | G37: =4*(D37+F37)+9*E37 -> 9.57312
A38: სანელებლები (წიწაკა) | B38: 0.5 | C38: =100%*B38 -> 0.5 | G38: =4*(D38+F38)+9*E38 -> 0
A39: ტომატ-პასტა | B39: 4 | C39: =100%*B39 -> 4 | F39: =17.7%*C39 -> 0.708 | G39: =4*(D39+F39)+9*E39 -> 2.832
A40: მწვანილი | B40: 7 | C40: =85%*B40 -> 5.95 | G40: =4*(D40+F40)+9*E40 -> 0
A41: ხორცის ბულიონი | B41: 100 | C41: =90%*B41 -> 90 | G41: =4*(D41+F41)+9*E41 -> 0
A42: მარილი | B42: 1 | C42: =100%*B42 -> 1 | G42: =4*(D42+F42)+9*E42 -> 0
A43: გამოსავალი | B43: 54/200 | D43: =SUM(D34:D42) -> 17.58128 | E43: =SUM(E34:E42) -> 22.892 | F43: =SUM(F34:F42) -> 6.21 | G43: =SUM(G34:G42) -> 301.19312
A44: პური თეთრი | B44: 250 | C44: 250 | D44: =C44*7.9% -> 19.75 | E44: =C44*1% -> 2.5 | F44: =C44*49.6% -> 124 | G44: =4*(D44+F44)+9*E44 -> 597.5
A46: მაკარონი გახეხილი ყველით
A47: პროდუქტის დასახელება | B47: რაოდენობა, გ | D47: ცილები, გ | E47: ცხიმები, გ | F47: ნახშირწყლები, გ | G47: ენერგეტიკული ღირებულება
B48: ბრუტო | C48: ნეტო | G48: კკალ
A49: მაკარონი | B49: 80 | C49: =B49*100% -> 80 | D49: =9.15%*C49 -> 7.32 | E49: =0.8%*C49 -> 0.64 | F49: =60%*C49 -> 48 | G49: =4*(D49+F49)+9*E49 -> 227.04
A50: კარაქი | B50: 10 | C50: =100%*B50 -> 10 | E50: =72.57%*C50 -> 7.257 | G50: =4*(D50+F50)+9*E50 -> 65.313
A51: მარილი | B51: 2 | C51: =100%*B51 -> 2 | G51: =4*(D51+F51)+9*E51 -> 0
A52: ყველი | B52: 28 | C52: =80%*B52 -> 22.4 | D52: =17.9%*C52 -> 4.0096 | E52: =14.3%*C52 -> 3.2032 | G52: =4*(D52+F52)+9*E52 -> 44.8672
A53: გამოსავალი | B53: 250 | D53: =SUM(D49:D52) -> 11.3296 | E53: =SUM(E49:E52) -> 11.1002 | F53: =SUM(F49:F52) -> 48 | G53: =SUM(G49:G52) -> 337.2202
A55: კიტრის და პომიდვრის სალათი ზეთით
A56: პროდუქტის დასახელება | B56: რაოდენობა, გ | D56: ცილები, გ | E56: ცხიმები, გ | F56: ნახშირწყლები, გ | G56: ენერგეტიკული ღირებულება
B57: ბრუტო | C57: ნეტო | G57: კკალ
A58: კიტრი | B58: 100 | C58: =90%*B58 -> 90 | D58: =0.8%*C58 -> 0.72 | F58: =2.6%*C58 -> 2.34 | G58: =4*(D58+F58)+9*E58 -> 12.24
A59: პომიდორი | B59: 50 | C59: =90%*B59 -> 45 | D59: =1.1%*C59 -> 0.495 | E59: =0.2%*C59 -> 0.09 | F59: =3.8%*C59 -> 1.71 | G59: =4*(D59+F59)+9*E59 -> 9.63
A60: ზეთი | B60: 3 | C60: =100%*B60 -> 3 | E60: =99.9%*C60 -> 2.997 | G60: =4*(D60+F60)+9*E60 -> 26.973
A61: მარილი | B61: 1 | C61: =100%*B61 -> 1 | G61: =4*(D61+F61)+9*E61 -> 0
A62: გამოსავალი | B62: 150 | D62: =SUM(D58:D61) -> 1.215 | E62: =SUM(E58:E61) -> 3.087 | F62: =SUM(F58:F61) -> 4.05 | G62: =SUM(G58:G61) -> 48.843
A64: კომპოტი ჩირის
A65: პროდუქტის დასახელება | B65: რაოდენობა, გ | D65: ცილები, გ | E65: ცხიმები, გ | F65: ნახშირწყლები, გ | G65: ენერგეტიკული ღირებულება
B66: ბრუტო | C66: ნეტო | G66: კკალ
A67: ჩირი სხვადახვა | B67: 25 | C67: =100%*B67 -> 25 | D67: =1.6%*C67 -> 0.4 | F67: =40%*C67 -> 10 | G67: =4*(D67+F67)+9*E67 -> 41.6
A68: შაქარი | B68: 10 | C68: =100%*B68 -> 10 | F68: =99%*C68 -> 9.9 | G68: =4*(D68+F68)+9*E68 -> 39.6
A69: გამოსავალი | B69: 200 | D69: =SUM(D67:D68) -> 0.4 | E69: =SUM(E67:E68) -> 0 | F69: =SUM(F67:F68) -> 19.9 | G69: =SUM(G67:G68) -> 81.2
A71: II კვება სულ | B71: =B69+B62+B53+C44+54+200 -> 1104 | D71: =D69+D62+D53+D44+D43 -> 50.27588 | E71: =E69+E62+E53+E44+E43 -> 39.5792 | F71: =F69+F62+F53+F44+F43 -> 202.16 | G71: =G69+G62+G53+G44+G43 -> 1365.9563
A73: III კვება
A74: ქათმის ჩახოხბილი
A75: პროდუქტის დასახელება | B75: რაოდენობა, გ | D75: ცილები, გ | E75: ცხიმები, გ | F75: ნახშირწყლები | G75: ენერგეტიკული ღირებულება
B76: ბრუტო | C76: ნეტო | G76: კკალ
A77: ქათმის ხორცი | B77: 160 | C77: =B77*72% -> 115.2 | D77: =18.5%*C77 -> 21.312 | E77: =15.9%*C77 -> 18.3168 | G77: =4*(D77+F77)+9*E77 -> 250.0992
A78: ტომატ–პასტა | B78: 5 | C78: =100%*B78 -> 5 | F78: =17.7%*C78 -> 0.885 | G78: =4*(D78+F78)+9*E78 -> 3.54
A79: მწვანილი | B79: 14 | C79: =85%*B79 -> 11.9 | G79: =4*(D79+F79)+9*E79 -> 0
A80: ხახვი | B80: 10 | C80: =90%*B80 -> 9 | D80: =1.58%*C80 -> 0.1422 | F80: =9.5%*C80 -> 0.855 | G80: =4*(D80+F80)+9*E80 -> 3.9888
A81: კარაქი | B81: 7 | C81: =100%*B81 -> 7 | D81: =0.5%*C81 -> 0.035 | E81: =82.5%*C81 -> 5.775 | F81: =0.8%*C81 -> 0.056 | G81: =4*(D81+F81)+9*E81 -> 52.339
A82: მარილი | B82: 1 | C82: =100%*B82 -> 1 | G82: =4*(D82+F82)+9*E82 -> 0
A83: გამოსავალი | B83: 150 | D83: =SUM(D77:D82) -> 21.4892 | E83: =SUM(E77:E82) -> 24.0918 | F83: =SUM(F77:F82) -> 1.796 | G83: =SUM(G77:G82) -> 309.967
A86: ვინეგრეტი
A87: პროდუქტის დასახელება | B87: რაოდენობა, გ | D87: ცილები, გ | E87: ცხიმები, გ | F87: ნახშირწყლები, გ | G87: ენერგეტიკული ღირებულება
B88: ბრუტო | C88: ნეტო | G88: კკალ
A89: კარტოფილი | B89: 200 | C89: =72%*B89 -> 144 | D89: =2.1%*C89 -> 3.024 | E89: =0.4%*C89 -> 0.576 | F89: =15.6%*C89 -> 22.464 | G89: =4*(D89+F89)+9*E89 -> 107.136
A90: ჭარხალი | B90: 50 | C90: =90%*B90 -> 45 | D90: =1.66%*C90 -> 0.747 | F90: =10%*C90 -> 4.5 | G90: =4*(D90+F90)+9*E90 -> 20.988
A91: სტაფილო | B91: 50 | C91: =80%*B91 -> 40 | D91: =1.77%*C91 -> 0.708 | F91: =11%*C91 -> 4.4 | G91: =4*(D91+F91)+9*E91 -> 20.432
A92: ხახვი | B92: 14 | C92: =90%*B92 -> 12.6 | D92: =1.58%*C92 -> 0.19908 | F92: =9.5%*C92 -> 1.197 | G92: =4*(D92+F92)+9*E92 -> 5.58432
A93: ბარდა | B93: 15 | C93: =B93*100% -> 15 | D93: =C93*20% -> 3 | E93: =C93*2% -> 0.3 | F93: =C93*48% -> 7.2 | G93: =4*(D93+F93)+9*E93 -> 43.5
A94: მჟავე კიტრი ან მჟავე კომბოსტო | B94: 35 | C94: =100%*B94 -> 35 | D94: =0.8%*C94 -> 0.28 | F94: =9.3%*C94 -> 3.255 | G94: =4*(D94+F94)+9*E94 -> 14.14
A95: მწვანილი | B95: 4 | C95: =85%*B95 -> 3.4 | G95: =4*(D95+F95)+9*E95 -> 0
A96: ზეთი | B96: 7 | C96: =100%*B96 -> 7 | E96: =99.9%*C96 -> 6.993 | G96: =4*(D96+F96)+9*E96 -> 62.937
A97: მარილი | B97: 1 | C97: =100%*B97 -> 1 | G97: =4*(D97+F97)+9*E97 -> 0
A98: გამოსავალი | B98: 115 | D98: =SUM(D89:D97) -> 7.95808 | E98: =SUM(E89:E97) -> 7.869 | F98: =SUM(F89:F97) -> 43.016 | G98: =SUM(G89:G97) -> 274.71732
A99: პური თეთრი | B99: 250 | C99: 250 | D99: =C99*7.9% -> 19.75 | E99: =C99*1% -> 2.5 | F99: =C99*49.6% -> 124 | G99: =4*(D99+F99)+9*E99 -> 597.5
A102: II კვება სულ | B102: =C99+B98+B83 -> 515 | D102: =D99+D98+D83 -> 49.19728 | E102: =E99+E98+E83 -> 34.4608 | F102: =F99+F98+F83 -> 168.812 | G102: =G99+G98+G83 -> 1182.1843
A105: სულ დღეში | B105: =B102+B71+B28 -> 1789 | D105: =D102+D71+D28 -> 111.5603 | E105: =E102+E71+E28 -> 82.6274 | F105: =F102+F71+F28 -> 456.1041 | G105: =G102+G71+G28 -> 3014.3042

Sheet კვირა
A1: დანართი №11.2
A2: სამსახურის პენიტენციურ დაწესებულებებსა და მათ ტერიტორიაზე მყოფ და დეპარტამენტის გარე დაცვისა და ინფორმაციულ-ტექნიკური უსაფრთხოების მთავარი სამმართველოს წვევამდელთა მომზადების განყოფილების მოსამსახურეთა სამჯერადი კვების ერთკვირიანი მენიუ გაზაფხული - ზაფხული II კვირა
A3: კვირა
A4: I კვება
A5: ხაჭაპური
A6: პროდუქტის დასახელება | B6: რაოდენობა, გ | D6: ცილები, გ | E6: ცხიმები, გ | F6: ნახშირწყლები, გ | G6: ენერგეტიკული ღირებულება
B7: ბრუტო | C7: ნეტო | G7: კკალ
A8: ხორბლის ფქვილი | B8: 70 | C8: =B8*100% -> 70 | D8: =C8*10% -> 7 | E8: =C8*1.3% -> 0.91 | F8: =C8*69% -> 48.3 | G8: =4*(D8+F8)+9*E8 -> 229.39
A9: ყველი იმერული | B9: 65 | C9: =80%*B9 -> 52 | D9: =17.9%*C9 -> 9.308 | E9: =14.3%*C9 -> 7.436 | G9: =4*(D9+F9)+9*E9 -> 104.156
A10: კვერცხი | B10: 0.25 | C10: =B10*48 -> 12 | D10: =12.7%*C10 -> 1.524 | E10: =11.5%*C10 -> 1.38 | G10: =4*(D10+F10)+9*E10 -> 18.516
A11: საფუარი | B11: 1 | C11: =100%*B11 -> 1 | G11: =4*(D11+F11)+9*E11 -> 0
A12: კარაქი ნაღების | B12: 3 | C12: =100%*B12 -> 3 | E12: =72.57%*C12 -> 2.1771 | G12: =4*(D12+F12)+9*E12 -> 19.5939
A13: მარილი | B13: 1 | C13: =100%*B13 -> 1 | G13: =4*(D13+F13)+9*E13 -> 0
A14: გამოსავალი | B14: 160 | D14: =SUM(D8:D13) -> 17.832 | E14: =SUM(E8:E13) -> 11.9031 | F14: =SUM(F8:F13) -> 48.3 | G14: =SUM(G8:G13) -> 371.6559
A16: პროდუქტის დასახელება | B16: რაოდენობა, გ | D16: ცილები, გ | E16: ცხიმები, გ | F16: ნახშირწყლები, გ | G16: ენერგეტიკული ღირებულება
B17: ბრუტო | C17: ნეტო | G17: კკალ
A18: ყავა | B18: 5 | C18: =100%*B18 -> 5 | D18: =20%*C18 -> 1 | E18: =13%*C18 -> 0.65 | F18: =26.6%*C18 -> 1.33 | G18: =4*(D18+F18)+9*E18 -> 15.17
A19: შაქარი | B19: 10 | C19: =100%*B19 -> 10 | F19: =99%*C19 -> 9.9 | G19: =4*(D19+F19)+9*E19 -> 39.6
A20: გამოსავალი | B20: 200 | D20: =SUM(D18:D19) -> 1 | E20: =SUM(E18:E19) -> 0.65 | F20: =SUM(F18:F19) -> 11.23 | G20: =SUM(G18:G19) -> 54.77
A22: I კვება სულ | B22: =B20+B14 -> 360 | D22: =D20+D14 -> 18.832 | E22: =E20+E14 -> 12.5531 | F22: =F20+F14 -> 59.53 | G22: =G20+G14 -> 426.4259
A24: II კვება
A25: ბოსტნეულის სალათი
A26: პროდუქტის დასახელება | B26: რაოდენობა, გ | D26: ცილები, გ | E26: ცხიმები, გ | F26: ნახშირწყლები | G26: ენერგეტიკული ღირებულება
B27: ბრუტო | C27: ნეტო | G27: კკალ
A28: კარტოფილი | B28: 100 | C28: =72%*B28 -> 72 | D28: =2.1%*C28 -> 1.512 | E28: =0.4%*C28 -> 0.288 | F28: =15.6%*C28 -> 11.232 | G28: =4*(D28+F28)+9*E28 -> 53.568
A29: კიტრი | B29: 50 | C29: =90%*B29 -> 45 | D29: =0.8%*C29 -> 0.36 | F29: =2.6%*C29 -> 1.17 | G29: =4*(D29+F29)+9*E29 -> 6.12
A30: სტაფილო | B30: 64 | C30: =80%*B30 -> 51.2 | D30: =1.77%*C30 -> 0.90624 | F30: =11%*C30 -> 5.632 | G30: =4*(D30+F30)+9*E30 -> 26.15296
A31: ზეთი | B31: 5 | C31: =100%*B31 -> 5 | E31: =99.9%*C31 -> 4.995 | G31: =4*(D31+F31)+9*E31 -> 44.955
A32: მწვანილი | B32: 14 | C32: =85%*B32 -> 11.9 | G32: =4*(D32+F32)+9*E32 -> 0
A33: მარილი | B33: 1 | C33: =100%*B33 -> 1 | G33: =4*(D33+F33)+9*E33 -> 0
A34: გამოსავალი | B34: 200 | D34: =SUM(D28:D33) -> 2.77824 | E34: =SUM(E28:E33) -> 5.283 | F34: =SUM(F28:F33) -> 18.034 | G34: =SUM(G28:G33) -> 130.79596
A36: ხორცის რაგუ "ოჯახური"
A37: პროდუქტის დასახელება | B37: რაოდენობა, გ | D37: ცილები, გ | E37: ცხიმები, გ | F37: ნახშირწყლები | G37: ენერგეტიკული ღირებულება
B38: ბრუტო | C38: ნეტო | G38: კკალ
A39: საქონლის ხორცი (I კატეგორიის) | B39: 200 | C39: =B39*75% -> 150 | D39: =18.6%*C39 -> 27.9 | E39: =17.3%*C39 -> 25.95 | G39: =4*(D39+F39)+9*E39 -> 345.15
A40: სტაფილო | B40: 60 | C40: =80%*B40 -> 48 | D40: =1.77%*C40 -> 0.8496 | F40: =11%*C40 -> 5.28 | G40: =4*(D40+F40)+9*E40 -> 24.5184
A41: ხახვი | B41: 25 | C41: =90%*B41 -> 22.5 | D41: =1.58%*C41 -> 0.3555 | F41: =9.5%*C41 -> 2.1375 | G41: =4*(D41+F41)+9*E41 -> 9.972
A42: ტომატ-პასტა | B42: 5 | C42: =100%*B42 -> 5 | F42: =17.7%*C42 -> 0.885 | G42: =4*(D42+F42)+9*E42 -> 3.54
A43: ზეთი | B43: 2 | C43: =100%*B43 -> 2 | E43: =99.9%*C43 -> 1.998 | G43: =4*(D43+F43)+9*E43 -> 17.982
A44: მწვანილი | B44: 18 | C44: =85%*B44 -> 15.3 | G44: =4*(D44+F44)+9*E44 -> 0
A45: ნიორი | B45: 1 | C45: =92%*B45 -> 0.92 | G45: =4*(D45+F45)+9*E45 -> 0
A46: მარილი | B46: 2 | C46: =100%*B46 -> 2 | G46: =4*(D46+F46)+9*E46 -> 0
A47: გამოსავალი | B47: 300 | D47: =SUM(D39:D46) -> 29.1051 | E47: =SUM(E39:E46) -> 27.948 | F47: =SUM(F39:F46) -> 8.3025 | G47: =SUM(G39:G46) -> 401.1624
A49: შემწვარი კარტოფილი
A50: პროდუქტის დასახელება | B50: რაოდენობა, გ | D50: ცილები, გ | E50: ცხიმები, გ | F50: ნახშირწყლები, გ | G50: ენერგეტიკული ღირებულება
B51: ბრუტო | C51: ნეტო | G51: კკალ
A52: კარტოფილი | B52: 210 | C52: =72%*B52 -> 151.2 | D52: =2.1%*C52 -> 3.1752 | E52: =0.4%*C52 -> 0.6048 | F52: =15.6%*C52 -> 23.5872 | G52: =4*(D52+F52)+9*E52 -> 112.4928
A53: ზეთი | B53: 8 | C53: =100%*B53 -> 8 | E53: =99.9%*C53 -> 7.992 | G53: =4*(D53+F53)+9*E53 -> 71.928
A54: მარილი | B54: 1 | C54: =100%*B54 -> 1 | G54: =4*(D54+F54)+9*E54 -> 0
A55: გამოსავალი | B55: 150 | D55: =SUM(D52:D53) -> 3.1752 | E55: =SUM(E52:E53) -> 8.5968 | F55: =SUM(F52:F53) -> 23.5872 | G55: =SUM(G52:G54) -> 184.4208
A56: პური თეთრი | B56: 250 | C56: =B56*100% -> 250 | D56: =C56*7.9% -> 19.75 | E56: =C56*1% -> 2.5 | F56: =C56*49.6% -> 124 | G56: =4*(D56+F56)+9*E56 -> 597.5
A59: პროდუქტის დასახელება | B59: რაოდენობა, გ | D59: ცილები, გ | E59: ცხიმები, გ | F59: ნახშირწყლები, გ | G59: ენერგეტიკული ღირებულება
B60: ბრუტო | C60: ნეტო | G60: კკალ
A61: ხილის წვენი | B61: 200 | C61: =100%*B61 -> 200 | D61: =0.66%*C61 -> 1.32 | F61: =17.3%*C61 -> 34.6 | G61: =4*(D61+F61)+9*E61 -> 143.68
A62: გამოსავალი | B62: 200 | D62: =SUM(D61:D61) -> 1.32 | E62: =SUM(E61:E61) -> 0 | F62: =SUM(F61:F61) -> 34.6 | G62: =SUM(G61:G61) -> 143.68
A64: II კვება სულ | B64: =B62+C56+B55+B47+B34 -> 1100 | D64: =D62+D56+D55+D47+D34 -> 56.12854 | E64: =E62+E56+E55+E47+E34 -> 44.3278 | F64: =F62+F56+F55+F47+F34 -> 208.5237 | G64: =G62+G56+G55+G47+G34 -> 1457.5592
A66: III კვება
A67: სალათი "ზაფხული"
A68: პროდუქტის დასახელება | B68: რაოდენობა, გ | D68: ცილები, გ | E68: ცხიმები, გ | F68: ნახშირწყლები, გ | G68: ენერგეტიკული ღირებულება
B69: ბრუტო | C69: ნეტო | G69: კკალ
A70: კარტოფილი (შეიძლება ახალი) | B70: 60 | C70: =72%*B70 -> 43.2 | D70: =2.1%*C70 -> 0.9072 | E70: =0.4%*C70 -> 0.1728 | F70: =15.6%*C70 -> 6.7392 | G70: =4*(D70+F70)+9*E70 -> 32.1408
A71: კიტრი | B71: 50 | C71: =90%*B71 -> 45 | D71: =0.8%*C71 -> 0.36 | F71: =2.6%*C71 -> 1.17 | G71: =4*(D71+F71)+9*E71 -> 6.12
A72: პომიდორი | B72: 40 | C72: =90%*B72 -> 36 | D72: =1.1%*C72 -> 0.396 | E72: =0.2%*C72 -> 0.072 | F72: =3.8%*C72 -> 1.368 | G72: =4*(D72+F72)+9*E72 -> 7.704
A73: მწვანე ხახვი | B73: 24 | C73: =B73*80% -> 19.2 | D73: =1.3%*C73 -> 0.2496 | F73: =4.3%*C73 -> 0.8256 | G73: =4*(D73+F73)+9*E73 -> 4.3008
A74: კვერცხი | B74: 1 | C74: =B74*48 -> 48 | D74: =12.7%*C74 -> 6.096 | E74: =11.5%*C74 -> 5.52 | G74: =4*(D74+F74)+9*E74 -> 74.064
A75: არაჟანი | B75: 35 | C75: =100%*B75 -> 35 | D75: =2.6%*C75 -> 0.91 | E75: =20%*C75 -> 7 | F75: =3.8%*C75 -> 1.33 | G75: =4*(D75+F75)+9*E75 -> 71.96
A76: მარილი | B76: 0.5 | C76: =100%*B76 -> 0.5 | G76: =4*(D76+F76)+9*E76 -> 0
A77: გამოსავალი | B77: 200 | D77: =SUM(D70:D76) -> 8.9188 | E77: =SUM(E70:E76) -> 12.7648 | F77: =SUM(F70:F76) -> 11.4328 | G77: =SUM(G70:G76) -> 196.2896
A80: ხორცი ჩახრაკული ხახვით "გულიაში"
A81: პროდუქტის დასახელება | B81: რაოდენობა, გ | D81: ცილები, გ | E81: ცხიმები, გ | F81: ნახშირწყლები, გ | G81: ენერგეტიკული ღირებულება
B82: ბრუტო | C82: ნეტო | G82: კკალ
A83: ხორცი საქონლის | B83: 120 | C83: =B83*75% -> 90 | D83: =18.6%*C83 -> 16.74 | E83: =17.3%*C83 -> 15.57 | G83: =4*(D83+F83)+9*E83 -> 207.09
A84: კარაქი | B84: 5 | C84: =100%*B84 -> 5 | E84: =72.57%*C84 -> 3.6285 | G84: =4*(D84+F84)+9*E84 -> 32.6565
A85: ფქვილი | B85: 3 | C85: =B85*100% -> 3 | D85: =C85*10% -> 0.3 | E85: =C85*1.3% -> 0.039 | F85: =C85*69% -> 2.07 | G85: =4*(D85+F85)+9*E85 -> 9.831
A86: ხახვი | B86: 24 | C86: =90%*B86 -> 21.6 | D86: =1.58%*C86 -> 0.34128 | F86: =9.5%*C86 -> 2.052 | G86: =4*(D86+F86)+9*E86 -> 9.57312
A87: სანელებლები (წიწაკა) | B87: 0.5 | C87: =100%*B87 -> 0.5 | G87: =4*(D87+F87)+9*E87 -> 0
A88: ტომატ-პასტა | B88: 4 | C88: =100%*B88 -> 4 | F88: =17.7%*C88 -> 0.708 | G88: =4*(D88+F88)+9*E88 -> 2.832
A89: მწვანილი | B89: 7 | C89: =85%*B89 -> 5.95 | G89: =4*(D89+F89)+9*E89 -> 0
A90: ხორცის ბულიონი | B90: 100 | C90: =90%*B90 -> 90 | G90: =4*(D90+F90)+9*E90 -> 0
A91: მარილი | B91: 1 | C91: =100%*B91 -> 1 | G91: =4*(D91+F91)+9*E91 -> 0
A92: გამოსავალი | B92: 54/200 | D92: =SUM(D83:D91) -> 17.38128 | E92: =SUM(E83:E91) -> 19.2375 | F92: =SUM(F83:F91) -> 4.83 | G92: =SUM(G83:G91) -> 261.98262
A95: აჯაფსანდალი
A96: პროდუქტის დასახელება | B96: რაოდენობა, გ | D96: ცილები, გ | E96: ცხიმები, გ | F96: ნახშირწყლები, გ | G96: ენერგეტიკული ღირებულება
B97: ბრუტო | C97: ნეტო | G97: კკალ
A98: კარტოფილი | B98: 100 | C98: =72%*B98 -> 72 | D98: =2.1%*C98 -> 1.512 | E98: =0.4%*C98 -> 0.288 | F98: =15.6%*C98 -> 11.232 | G98: =4*(D98+F98)+9*E98 -> 53.568
A99: არაჟანი | B99: 30 | C99: =100%*B99 -> 30 | D99: =2.6%*C99 -> 0.78 | E99: =10%*C99 -> 3 | F99: =3.8%*C99 -> 1.14 | G99: =4*(D99+F99)+9*E99 -> 34.68
A100: ჭარხალი | B100: 50 | C100: =90%*B100 -> 45 | D100: =1.66%*C100 -> 0.747 | F100: =10%*C100 -> 4.5 | G100: =4*(D100+F100)+9*E100 -> 20.988
A101: სტაფილო | B101: 50 | C101: =80%*B101 -> 40 | D101: =1.77%*C101 -> 0.708 | F101: =11%*C101 -> 4.4 | G101: =4*(D101+F101)+9*E101 -> 20.432
A102: ხახვი | B102: 5 | C102: =90%*B102 -> 4.5 | D102: =1.58%*C102 -> 0.0711 | F102: =9.5%*C102 -> 0.4275 | G102: =4*(D102+F102)+9*E102 -> 1.9944
A103: მწვანილი | B103: 4 | C103: =85%*B103 -> 3.4 | G103: =4*(D103+F103)+9*E103 -> 0
A104: მარილი | B104: 1 | C104: =100%*B104 -> 1 | G104: =4*(D104+F104)+9*E104 -> 0
A105: გამოსავალი | B105: 180 | D105: =SUM(D98:D104) -> 3.8181 | E105: =SUM(E98:E104) -> 3.288 | F105: =SUM(F98:F104) -> 21.6995 | G105: =SUM(G98:G104) -> 131.6624
A106: პური თეთრი | B106: 250 | C106: 250 | D106: =C106*7.9% -> 19.75 | E106: =C106*1% -> 2.5 | F106: =C106*49.6% -> 124 | G106: =4*(D106+F106)+9*E106 -> 597.5
A109: III კვება სულ | B109: =C106+B105+54+200+B77 -> 884 | D109: =D106+D105+D92+D77 -> 49.86818 | E109: =E106+E105+E92+E77 -> 37.7903 | F109: =F106+F105+F92+F77 -> 161.9623 | G109: =G106+G105+G92+G77 -> 1187.4346
A112: სულ დღეში | B112: =B109+B64+B22 -> 2344 | D112: =D109+D64+D22 -> 124.82872 | E112: =E109+E64+E22 -> 94.6712 | F112: =F109+F64+F22 -> 430.016 | G112: =G109+G64+G22 -> 3071.4197
