Workbook

Sheet ორშაბათი
A1: დანართი №11.2
A2: სამსახურის პენიტენციურ დაწესებულებებსა და მათ ტერიტორიაზე მყოფ და დეპარტამენტის გარე დაცვისა და ინფორმაციულ-ტექნიკური უსაფრთხოების მთავარი სამმართველოს წვევამდელთა მომზადების განყოფილების მოსამსახურეთა სამჯერადი კვების ერთკვირიანი მენიუ გაზაფხული - ზაფხული II კვირა
A3: ორშაბათი
A4: I კვება
A6: ხაჭოს მობრაწულა
A7: პროდუქტის დასახელება | B7: რაოდენობა, გ | D7: ცილები, გ | E7: ცხიმები, გ | F7: ნახშირწყლები | G7: ენერგეტიკული ღირებულება
B8: ბრუტო | C8: ნეტო | G8: კკალ
A9: ხაჭო | B9: 40 | C9: =100%*B9 -> 40 | D9: =10%*C9 -> 4 | E9: =20%*C9 -> 8 | F9: =2.8%*C9 -> 1.12 | G9: =4*(D9+F9)+9*E9 -> 92.48
A10: არაჟანი | B10: 15 | C10: =100%*B10 -> 15 | D10: =2.6%*C10 -> 0.39 | E10: =20%*C10 -> 3 | F10: =3.8%*C10 -> 0.57 | G10: =4*(D10+F10)+9*E10 -> 30.84
A11: კვერცხი (ცალობით) | B11: 0.25 | C11: =B11*48 -> 12 | D11: =12.7%*C11 -> 1.524 | E11: =11.5%*C11 -> 1.38 | G11: =4*(D11+F11)+9*E11 -> 18.516
A12: შაქარი | B12: 15 | C12: =100%*B12 -> 15 | F12: =99%*C12 -> 14.85 | G12: =4*(D12+F12)+9*E12 -> 59.4
A13: კარაქი | B13: 7 | C13: =100%*B13 -> 7 | E13: =72.57%*C13 -> 5.0799 | G13: =4*(D13+F13)+9*E13 -> 45.7191
A14: ვანილი | B14: 0.05 | C14: 0.05 | G14: 0
A15: მარილი | B15: 0.5 | C15: 0.5 | G15: 0
A16: ხორბლის ფქვილი | B16: 10 | C16: =B16*100% -> 10 | D16: =C16*10% -> 1 | E16: =C16*1.3% -> 0.13 | F16: =C16*69% -> 6.9 | G16: =4*(D16+F16)+9*E16 -> 32.77
A17: გამოსავალი | B17: 130 | D17: =SUM(D9:D16) -> 6.914 | E17: =SUM(E9:E16) -> 17.5899 | F17: =SUM(F9:F16) -> 23.44 | G17: =SUM(G9:G16) -> 279.7251
A19: ყავა რძით
A20: პროდუქტის დასახელება | B20: რაოდენობა, გ | D20: ცილები, გ | E20: ცხიმები, გ | F20: ნახშირწყლები | G20: ენერგეტიკული ღირებულება
B21: ბრუტო | C21: ნეტო | G21: კკალ
A22: ყავა | B22: 5 | C22: =100%*B22 -> 5 | D22: =20%*C22 -> 1 | E22: =13%*C22 -> 0.65 | F22: =26.6%*C22 -> 1.33 | G22: =4*(D22+F22)+9*E22 -> 15.17
A23: რძე | B23: 50 | C23: =100%*B23 -> 50 | D23: =2.8%*C23 -> 1.4 | E23: =3.2%*C23 -> 1.6 | F23: =4.7%*C23 -> 2.35 | G23: =4*(D23+F23)+9*E23 -> 29.4
A24: შაქარი | B24: 10 | C24: =100%*B24 -> 10 | F24: =99%*C24 -> 9.9 | G24: =4*(D24+F24)+9*E24 -> 39.6
A25: გამოსავალი | B25: 20 | D25: =SUM(D22:D24) -> 2.4 | E25: =SUM(E22:E24) -> 2.25 | F25: =SUM(F22:F24) -> 13.58 | G25: =SUM(G22:G24) -> 84.17
A28: I კვება სულ | B28: =სამშაბათი!B22+B17 -> 330 | D28: =სამშაბათი!D22+D17 -> 7.914 | E28: =სამშაბათი!E22+E17 -> 18.2399 | F28: =სამშაბათი!F22+F17 -> 34.67 | G28: =G25+G17 -> 363.8951
A31: II კვება
A32: ზაფხულის ტოლმა საქონლის ხორცით
A33: პროდუქტის დასახელება | B33: რაოდენობა, გ | D33: ცილები, გ | E33: ცხიმები, გ | F33: ნახშირწყლები, გ | G33: ენერგეტიკული ღირებულება
B34: ბრუტო | C34: ნეტო | G34: კკალ
A35: ხორცი საქონლის | B35: 80 | C35: =B35*75% -> 60 | D35: =18.6%*C35 -> 11.16 | E35: =17.3%*C35 -> 10.38 | G35: =4*(D35+F35)+9*E35 -> 138.06
A36: კარაქი | B36: 3 | C36: =100%*B36 -> 3 | E36: =72.57%*C36 -> 2.1771 | G36: =4*(D36+F36)+9*E36 -> 19.5939
A37: მარილი | B37: 2 | C37: =100%*B37 -> 2 | G37: =4*(D37+F37)+9*E37 -> 0
A38: ბრინჯი | B38: 10 | C38: =B38*100% -> 10 | D38: =7.4%*C38 -> 0.74 | E38: =3.14%*C38 -> 0.314 | F38: =62.3%*C38 -> 6.23 | G38: =4*(D38+F38)+9*E38 -> 30.706
A39: პომიდორი | B39: 80 | C39: =90%*B39 -> 72 | D39: =1.1%*C39 -> 0.792 | E39: =0.2%*C39 -> 0.144 | F39: =3.8%*C39 -> 2.736 | G39: =4*(D39+F39)+9*E39 -> 15.408
A40: მწვანე ბულგარული წიწაკა | B40: 80 | C40: =85%*B40 -> 68 | D40: =1.5%*C40 -> 1.02 | F40: =6.2%*C40 -> 4.216 | G40: =4*(D40+F40)+9*E40 -> 20.944
A41: არაჟანი | B41: 10 | C41: =100%*B41 -> 10 | D41: =2.6%*C41 -> 0.26 | E41: =10%*C41 -> 1 | F41: =3.8%*C41 -> 0.38 | G41: =4*(D41+F41)+9*E41 -> 11.56
A42: ხახვი | B42: 5 | C42: =90%*B42 -> 4.5 | D42: =1.58%*C42 -> 0.0711 | F42: =9.5%*C42 -> 0.4275 | G42: =4*(D42+F42)+9*E42 -> 1.9944
A43: ნიორი | B43: 0.5 | C43: =92%*B43 -> 0.46 | G43: =4*(D43+F43)+9*E43 -> 0
A44: მწვანილი | B44: 6 | C44: =85%*B44 -> 5.1 | G44: =4*(D44+F44)+9*E44 -> 0
A45: გამოსავალი | B45: 50/250 | D45: =SUM(D35:D44) -> 14.0431 | E45: =SUM(E35:E44) -> 14.0151 | F45: =SUM(F35:F44) -> 13.9895 | G45: =SUM(G35:G44) -> 238.2663
A47: ბოსტნეულის სალათი
...

Sheet სამშაბათი
A1: დანართი №11.2
A2: სამსახურის პენიტენციურ დაწესებულებებსა და მათ ტერიტორიაზე მყოფ და დეპარტამენტის გარე დაცვისა და ინფორმაციულ-ტექნიკური უსაფრთხოების მთავარი სამმართველოს წვევამდელთა მომზადების განყოფილების მოსამსახურეთა სამჯერადი კვების ერთკვირიანი მენიუ გაზაფხული - ზაფხული II კვირა
A3: სამშაბათი
A4: I კვება
A5: ლობიანი
A6: პროდუქტის დასახელება | B6: რაოდენობა, გ | D6: ცილები, გ | E6: ცხიმები, გ | F6: ნახშირწყლები | G6: ენერგეტიკული ღირებულება
B7: ბრუტო | C7: ნეტო | G7: კკალ
A8: ლობიო | B8: 25 | C8: =B8*100% -> 25 | D8: =C8*20.8% -> 5.2 | E8: =C8*2% -> 0.5 | F8: =C8*46.6% -> 11.65 | G8: =4*(D8+F8)+9*E8 -> 71.9
A9: ხორბლის ფქვილი I ხარისხის | B9: 40 | C9: =B9*100% -> 40 | D9: =C9*10% -> 4 | E9: =C9*1.3% -> 0.52 | F9: =C9*69% -> 27.6 | G9: =4*(D9+F9)+9*E9 -> 131.08
A10: საფუარი | B10: 1 | C10: =100%*B10 -> 1
A11: ზეთი | B11: 8 | C11: =100%*B11 -> 8 | E11: =99.9%*C11 -> 7.992 | G11: =4*(D11+F11)+9*E11 -> 71.928
A12: ხახვი | B12: 12 | C12: =90%*B12 -> 10.8 | D12: =1.58%*C12 -> 0.17064 | F12: =9.5%*C12 -> 1.026 | G12: =4*(D12+F12)+9*E12 -> 4.78656
A13: შავი წიწაკა | B13: 0.5 | C13: 0.5
A14: მარილი | B14: 1 | C14: 1
A15: გამოსავალი | B15: 200 | D15: =SUM(D8:D14) -> 9.37064 | E15: =SUM(E8:E14) -> 9.012 | F15: =SUM(F8:F14) -> 40.276 | G15: =SUM(G8:G14) -> 279.69456
A18: პროდუქტის დასახელება | B18: რაოდენობა, გ | D18: ცილები, გ | E18: ცხიმები, გ | F18: ნახშირწყლები, გ | G18: ენერგეტიკული ღირებულება
B19: ბრუტო | C19: ნეტო | G19: კკალ
A20: ყავა | B20: 5 | C20: =100%*B20 -> 5 | D20: =20%*C20 -> 1 | E20: =13%*C20 -> 0.65 | F20: =26.6%*C20 -> 1.33 | G20: =4*(D20+F20)+9*E20 -> 15.17
A21: შაქარი | B21: 10 | C21: =100%*B21 -> 10 | F21: =99%*C21 -> 9.9 | G21: =4*(D21+F21)+9*E21 -> 39.6
A22: გამოსავალი | B22: 200 | D22: =SUM(D20:D21) -> 1 | E22: =SUM(E20:E21) -> 0.65 | F22: =SUM(F20:F21) -> 11.23 | G22: =SUM(G20:G21) -> 54.77
A24: I კვება სულ | B24: =B22+B15 -> 400 | D24: =D22+D15 -> 10.37064 | E24: =E22+E15 -> 9.662 | F24: =F22+F15 -> 51.506 | G24: =G22+G15 -> 334.46456
A26: II კვება
A28: ქათამი მოხარშული, შებრაწული ნივრით და არაჟნით
A29: პროდუქტის დასახელება | B29: რაოდენობა, გ | D29: ცილები, გ | E29: ცხიმები, გ | F29: ნახშირწყლები | G29: ენერგეტიკული ღირებულება
B30: ბრუტო | C30: ნეტო | G30: კკალ
A31: ქათმის ხორცი მოხარშული | B31: 280 | C31: =B31*72% -> 201.6 | D31: =18.5%*C31 -> 37.296 | E31: =15.9%*C31 -> 32.0544 | G31: =4*(D31+F31)+9*E31 -> 437.6736
A32: არაჟანი | B32: 50 | C32: =100%*B32 -> 50 | D32: =2.6%*C32 -> 1.3 | E32: =20%*C32 -> 10 | F32: =3.8%*C32 -> 1.9 | G32: =4*(D32+F32)+9*E32 -> 102.8
A33: სანელებლები | B33: 0.1 | C33: =100%*B33 -> 0.1 | G33: =4*(D33+F33)+9*E33 -> 0
A34: ნიორი | B34: 1.5 | C34: =85%*B34 -> 1.275 | G34: =4*(D34+F34)+9*E34 -> 0
A35: მარილი | B35: 1.5 | C35: 1.5 | G35: 0
A36: კარაქი | B36: 10 | C36: =100%*B36 -> 10 | D36: =0.5%*C36 -> 0.05 | E36: =82.5%*C36 -> 8.25 | F36: =0.8%*C36 -> 0.08 | G36: =4*(D36+F36)+9*E36 -> 74.77
A37: გამოსავალი | B37: 150 | D37: =SUM(D31:D36) -> 38.646 | E37: =SUM(E31:E36) -> 50.3044 | F37: =SUM(F31:F36) -> 1.98 | G37: =SUM(G31:G36) -> 615.2436
A40: წიწიბურას გარნირი
A41: პროდუქტის დასახელება | B41: რაოდენობა, გ | D41: ცილები, გ | E41: ცხიმები, გ | F41: ნახშირწყლები | G41: ენერგეტიკული ღირებულება
B42: ბრუტო | C42: ნეტო | G42: კკალ
A43: წიწიბურა | B43: 250 | C43: =72%*B43 -> 180 | D43: =2.1%*C43 -> 3.78 | E43: =0.4%*C43 -> 0.72 | F43: =15.6%*C43 -> 28.08 | G43: =4*(D43+F43)+9*E43 -> 133.92
A44: კარაქი | B44: 5 | C44: =100%*B44 -> 5 | D44: =0.5%*C44 -> 0.025 | E44: =82.5%*C44 -> 4.125 | F44: =0.8%*C44 -> 0.04 | G44: =4*(D44+F44)+9*E44 -> 37.385
A45: წყალი | B45: 120 | C45: 120
A46: მარილი | B46: 2 | C46: =100%*B46 -> 2 | G46: =4*(D46+F46)+9*E46 -> 0
A47: გამოსავალი | B47: 150 | D47: =SUM(D43:D46) -> 3.805 | E47: =SUM(E43:E46) -> 4.845 | F47: =SUM(F43:F46) -> 28.12 | G47: =SUM(G43:G46) -> 171.305
...

Sheet ოთხშაბათი
A1: დანართი №11.2
A2: სამსახურის პენიტენციურ დაწესებულებებსა და მათ ტერიტორიაზე მყოფ და დეპარტამენტის გარე დაცვისა და ინფორმაციულ-ტექნიკური უსაფრთხოების მთავარი სამმართველოს წვევამდელთა მომზადების განყოფილების მოსამსახურეთა სამჯერადი კვების ერთკვირიანი მენიუ გაზაფხული - ზაფხული II კვირა
A3: ოთხშაბათი
A4: I კვება
A6: კარტოფილის ღვეზელი
A7: პროდუქტის დასახელება | B7: რაოდენობა, გ | D7: ცილები, გ | E7: ცხიმები, გ | F7: ნახშირწყლები | G7: ენერგეტიკული ღირებულება
B8: ბრუტო | C8: ნეტო | G8: კკალ
A9: ხორბლის ფქვილი I ხარისხის | B9: 60 | C9: =B9*100% -> 60 | D9: =C9*10% -> 6 | E9: =C9*1.3% -> 0.78 | F9: =C9*69% -> 41.4 | G9: =4*(D9+F9)+9*E9 -> 196.62
A10: შაქარი | B10: 4 | C10: =100%*B10 -> 4 | F10: =99%*C10 -> 3.96 | G10: =4*(D10+F10)+9*E10 -> 15.84
A11: ზეთი | B11: 5 | C11: =100%*B11 -> 5 | E11: =99.9%*C11 -> 4.995 | G11: =4*(D11+F11)+9*E11 -> 44.955
A12: მარილი | B12: 2 | C12: =100%*B12 -> 2 | G12: =4*(D12+F12)+9*E12 -> 0
A13: საფუარი | B13: 1 | C13: =100%*B13 -> 1
A14: კარტოფილი | B14: 95 | C14: =72%*B14 -> 68.4 | D14: =2.1%*C14 -> 1.4364 | E14: =0.4%*C14 -> 0.2736 | F14: =15.6%*C14 -> 10.6704 | G14: =4*(D14+F14)+9*E14 -> 50.8896
A15: ხახვი | B15: 7 | C15: =90%*B15 -> 6.3 | D15: =1.58%*C15 -> 0.09954 | F15: =9.5%*C15 -> 0.5985 | G15: =4*(D15+F15)+9*E15 -> 2.79216
A16: შავი პილპილი | B16: 1 | C16: =100%*B16 -> 1 | G16: =4*(D16+F16)+9*E16 -> 0
A17: გამოსავალი | B17: 150 | D17: =SUM(D9:D16) -> 7.53594 | E17: =SUM(E9:E16) -> 6.0486 | F17: =SUM(F9:F16) -> 56.6289 | G17: =SUM(G9:G16) -> 311.09676
A19: პროდუქტის დასახელება | B19: რაოდენობა, გ | D19: ცილები, გ | E19: ცხიმები, გ | F19: ნახშირწყლები, გ | G19: ენერგეტიკული ღირებულება
B20: ბრუტო | C20: ნეტო | G20: კკალ
A21: ყავა | B21: 5 | C21: =100%*B21 -> 5 | D21: =20%*C21 -> 1 | E21: =13%*C21 -> 0.65 | F21: =26.6%*C21 -> 1.33 | G21: =4*(D21+F21)+9*E21 -> 15.17
A22: შაქარი | B22: 10 | C22: =100%*B22 -> 10 | F22: =99%*C22 -> 9.9 | G22: =4*(D22+F22)+9*E22 -> 39.6
A23: გამოსავალი | B23: 200 | D23: =SUM(D21:D22) -> 1 | E23: =SUM(E21:E22) -> 0.65 | F23: =SUM(F21:F22) -> 11.23 | G23: =SUM(G21:G22) -> 54.77
A25: I კვება სულ | B25: =B23+B17 -> 350 | D25: =D23+D17 -> 8.53594 | E25: =E23+E17 -> 6.6986 | F25: =F23+F17 -> 67.8589 | G25: =G23+G17 -> 365.86676
A27: II კვება
A29: კომბოსტოს მწნილი
A30: პროდუქტის დასახელება | B30: რაოდენობა, გ | D30: ცილები, გ | E30: ცხიმები, გ | F30: ნახშირწყლები, გ | G30: ენერგეტიკული ღირებულება
B31: ბრუტო | C31: ნეტო | G31: კკალ
A32: კომბოსტო | B32: 180 | C32: =75%*B32 -> 135 | D32: =1.87%*C32 -> 2.5245 | F32: =4.16%*C32 -> 5.616 | G32: =4*(D32+F32)+9*E32 -> 32.562
A33: ჭარხალი | B33: 25 | C33: =90%*B33 -> 22.5 | D33: =1.66%*C33 -> 0.3735 | F33: =10%*C33 -> 2.25 | G33: =4*(D33+F33)+9*E33 -> 10.494
A34: ნიორი | B34: 0.2 | C34: =92%*B34 -> 0.184 | G34: =4*(D34+F34)+9*E34 -> 0
A35: წიწაკა | B35: 0.05 | C35: =100%*B35 -> 0.05 | G35: =4*(D35+F35)+9*E35 -> 0
A36: მარილი | B36: 1 | C36: =B36*100% -> 1 | D36: =C36*10% -> 0.1 | E36: =C36*1.3% -> 0.013 | F36: =C36*69% -> 0.69 | G36: =4*(D36+F36)+9*E36 -> 3.277
A37: მწვანილი | B37: 4 | C37: =85%*B37 -> 3.4 | G37: =4*(D37+F37)+9*E37 -> 0
A38: ზეთი | B38: 3 | C38: =100%*B38 -> 3 | E38: =99.9%*C38 -> 2.997 | G38: =4*(D38+F38)+9*E38 -> 26.973
A39: გამოსავალი | B39: 160 | D39: =SUM(D32:D38) -> 2.998 | E39: =SUM(E32:E38) -> 3.01 | F39: =SUM(F32:F38) -> 8.556 | G39: =SUM(G32:G38) -> 73.306
A41: ლობიო ამოლესილი
A42: პროდუქტის დასახელება | B42: რაოდენობა, გ | D42: ცილები, გ | E42: ცხიმები, გ | F42: ნახშირწყლები, გ | G42: ენერგეტიკული ღირებულება
B43: ბრუტო | C43: ნეტო | G43: კკალ
A44: ლობიო | B44: 100 | C44: =B44*100% -> 100 | D44: =C44*20.8% -> 20.8 | E44: =C44*2% -> 2 | F44: =C44*46.6% -> 46.6 | G44: =4*(D44+F44)+9*E44 -> 287.6
A45: ზეთი | B45: 8 | C45: =100%*B45 -> 8 | E45: =99.9%*C45 -> 7.992 | G45: =4*(D45+F45)+9*E45 -> 71.928
A46: მარილი | B46: 2 | C46: =100%*B46 -> 2 | G46: =4*(D46+F46)+9*E46 -> 0
...

Sheet ხუთშაბათი
A1: დანართი №11.2
A2: სამსახურის პენიტენციურ დაწესებულებებსა და მათ ტერიტორიაზე მყოფ და დეპარტამენტის გარე დაცვისა და ინფორმაციულ-ტექნიკური უსაფრთხოების მთავარი სამმართველოს წვევამდელთა მომზადების განყოფილების მოსამსახურეთა სამჯერადი კვების ერთკვირიანი მენიუ გაზაფხული - ზაფხული II კვირა
A3: ხუთშაბათი
A5: I კვება
A6: ხაჭაპური
A7: პროდუქტის დასახელება | B7: რაოდენობა, გ | D7: ცილები, გ | E7: ცხიმები, გ | F7: ნახშირწყლები, გ | G7: ენერგეტიკული ღირებულება
B8: ბრუტო | C8: ნეტო | G8: კკალ
A9: ხორბლის ფქვილი | B9: 80 | C9: =B9*100% -> 80 | D9: =C9*10% -> 8 | E9: =C9*1.3% -> 1.04 | F9: =C9*69% -> 55.2 | G9: =4*(D9+F9)+9*E9 -> 262.16
A10: ყველი იმერული | B10: 72 | C10: =80%*B10 -> 57.6 | D10: =17.9%*C10 -> 10.3104 | E10: =14.3%*C10 -> 8.2368 | G10: =4*(D10+F10)+9*E10 -> 115.3728
A11: კვერცხი | B11: 0.25 | C11: =B11*48 -> 12 | D11: =12.7%*C11 -> 1.524 | E11: =11.5%*C11 -> 1.38 | G11: =4*(D11+F11)+9*E11 -> 18.516
A12: საფუარი | B12: 1 | C12: =100%*B12 -> 1 | G12: =4*(D12+F12)+9*E12 -> 0
A13: კარაქი ნაღების | B13: 3 | C13: =100%*B13 -> 3 | E13: =72.57%*C13 -> 2.1771 | G13: =4*(D13+F13)+9*E13 -> 19.5939
A14: მარილი | B14: 1 | C14: =100%*B14 -> 1 | G14: =4*(D14+F14)+9*E14 -> 0
A15: გამოსავალი | B15: 160 | D15: =SUM(D9:D14) -> 19.8344 | E15: =SUM(E9:E14) -> 12.8339 | F15: =SUM(F9:F14) -> 55.2 | G15: =SUM(G9:G14) -> 415.6427
A17: ყავა რძით
A18: პროდუქტის დასახელება | B18: რაოდენობა, გ | D18: ცილები, გ | E18: ცხიმები, გ | F18: ნახშირწყლები | G18: ენერგეტიკული ღირებულება
B19: ბრუტო | C19: ნეტო | G19: კკალ
A20: ყავა | B20: 5 | C20: =100%*B20 -> 5 | D20: =20%*C20 -> 1 | E20: =13%*C20 -> 0.65 | F20: =26.6%*C20 -> 1.33 | G20: =4*(D20+F20)+9*E20 -> 15.17
A21: რძე | B21: 50 | C21: =100%*B21 -> 50 | D21: =2.8%*C21 -> 1.4 | E21: =3.2%*C21 -> 1.6 | F21: =4.7%*C21 -> 2.35 | G21: =4*(D21+F21)+9*E21 -> 29.4
A22: შაქარი | B22: 10 | C22: =100%*B22 -> 10 | F22: =99%*C22 -> 9.9 | G22: =4*(D22+F22)+9*E22 -> 39.6
A23: გამოსავალი | B23: 20 | D23: =SUM(D20:D22) -> 2.4 | E23: =SUM(E20:E22) -> 2.25 | F23: =SUM(F20:F22) -> 13.58 | G23: =SUM(G20:G22) -> 84.17
A26: I კვება სულ | B26: =B23+B15 -> 180 | D26: =D23+D15 -> 22.2344 | E26: =E23+E15 -> 15.0839 | F26: =F23+F15 -> 68.78 | G26: =G23+G15 -> 499.8127
A29: II კვება
A30: ხორცი ჩაშუშული შავი ქლიავით
A31: პროდუქტის დასახელება | B31: რაოდენობა, გ | D31: ცილები, გ | E31: ცხიმები, გ | F31: ნახშირწყლები | G31: ენერგეტიკული ღირებულება
B32: ბრუტო | C32: ნეტო | G32: კკალ
A33: ხორცი საქონლის | B33: 170 | C33: =B33*75% -> 127.5 | D33: =18.6%*C33 -> 23.715 | E33: =17.3%*C33 -> 22.0575 | G33: =4*(D33+F33)+9*E33 -> 293.3775
A34: შავი ქლიავი | B34: 30 | C34: =100%*B34 -> 30 | D34: =1.6%*C34 -> 0.48 | F34: =40%*C34 -> 12 | G34: =4*(D34+F34)+9*E34 -> 49.92
A35: ტომატ–პასტა | B35: 5 | C35: =100%*B35 -> 5 | F35: =17.7%*C35 -> 0.885 | G35: =4*(D35+F35)+9*E35 -> 3.54
A36: ხახვი | B36: 24 | C36: =90%*B36 -> 21.6 | D36: =1.58%*C36 -> 0.34128 | F36: =9.5%*C36 -> 2.052 | G36: =4*(D36+F36)+9*E36 -> 9.57312
A37: მარილი | B37: 1 | C37: =100%*B37 -> 1 | G37: =4*(D37+F37)+9*E37 -> 0
A38: ნიორი | B38: 1 | C38: =92%*B38 -> 0.92 | G38: =4*(D38+F38)+9*E38 -> 0
A39: გამოსავალი | B39: 100 | D39: =SUM(D33:D38) -> 24.53628 | E39: =SUM(E33:E38) -> 22.0575 | F39: =SUM(F33:F38) -> 14.937 | G39: =SUM(G33:G38) -> 356.41062
A41: შემწვარი კარტოფილი გარნირი
A42: პროდუქტის დასახელება | B42: რაოდენობა, გ | D42: ცილები, გ | E42: ცხიმები, გ | F42: ნახშირწყლები | G42: ენერგეტიკული ღირებულება
B43: ბრუტო | C43: ნეტო | G43: კკალ
A44: კარტოფილი | B44: 350 | C44: =72%*B44 -> 252 | D44: =2.1%*C44 -> 5.292 | E44: =0.4%*C44 -> 1.008 | F44: =15.6%*C44 -> 39.312 | G44: =4*(D44+F44)+9*E44 -> 187.488
A45: ზეთი | B45: 8 | C45: =100%*B45 -> 8 | E45: =99.9%*C45 -> 7.992 | G45: =4*(D45+F45)+9*E45 -> 71.928
A46: მარილი | B46: 2 | C46: =100%*B46 -> 2 | G46: =4*(D46+F46)+9*E46 -> 0
A47: გამოსავალი | B47: 170 | D47: =SUM(D44:D46) -> 5.292 | E47: =SUM(E44:E46) -> 9 | F47: =SUM(F44:F46) -> 39.312 | G47: =SUM(G44:G46) -> 259.416
...

Sheet პარასკევი
A1: დანართი №11.2
A2: სამსახურის პენიტენციურ დაწესებულებებსა და მათ ტერიტორიაზე მყოფ და დეპარტამენტის გარე დაცვისა და ინფორმაციულ-ტექნიკური უსაფრთხოების მთავარი სამმართველოს წვევამდელთა მომზადების განყოფილების მოსამსახურეთა სამჯერადი კვების ერთკვირიანი მენიუ გაზაფხული - ზაფხული II კვირა
A3: პარასკევი
A4: I კვება
A6: ლობიანი
A7: პროდუქტის დასახელება | B7: რაოდენობა, გ | D7: ცილები, გ | E7: ცხიმები, გ | F7: ნახშირწყლები | G7: ენერგეტიკული ღირებულება
B8: ბრუტო | C8: ნეტო | G8: კკალ
A9: ლობიო | B9: 25 | C9: =B9*100% -> 25 | D9: =C9*20.8% -> 5.2 | E9: =C9*2% -> 0.5 | F9: =C9*46.6% -> 11.65 | G9: =4*(D9+F9)+9*E9 -> 71.9
A10: ხორბლის ფქვილი I ხარისხის | B10: 35 | C10: =B10*100% -> 35 | D10: =C10*10% -> 3.5 | E10: =C10*1.3% -> 0.455 | F10: =C10*69% -> 24.15 | G10: =4*(D10+F10)+9*E10 -> 114.695
A11: საფუარი | B11: 1 | C11: =100%*B11 -> 1
A12: ზეთი | B12: 8 | C12: =100%*B12 -> 8 | E12: =99.9%*C12 -> 7.992 | G12: =4*(D12+F12)+9*E12 -> 71.928
A13: ხახვი | B13: 12 | C13: =90%*B13 -> 10.8 | D13: =1.58%*C13 -> 0.17064 | F13: =9.5%*C13 -> 1.026 | G13: =4*(D13+F13)+9*E13 -> 4.78656
A14: შავი წიწაკა | B14: 0.5 | C14: 0.5
A15: მარილი | B15: 1 | C15: 1
A16: გამოსავალი | B16: 200 | D16: =SUM(D9:D15) -> 8.87064 | E16: =SUM(E9:E15) -> 8.947 | F16: =SUM(F9:F15) -> 36.826 | G16: =SUM(G9:G15) -> 263.30956
A18: პროდუქტის დასახელება | B18: რაოდენობა, გ | D18: ცილები, გ | E18: ცხიმები, გ | F18: ნახშირწყლები | G18: ენერგეტიკული ღირებულება
B19: ბრუტო | C19: ნეტო | G19: კკალ
A20: ყავა | B20: 5 | C20: =100%*B20 -> 5 | D20: =20%*C20 -> 1 | E20: =13%*C20 -> 0.65 | F20: =26.6%*C20 -> 1.33 | G20: =4*(D20+F20)+9*E20 -> 15.17
A21: შაქარი | B21: 10 | C21: =100%*B21 -> 10 | F21: =99%*C21 -> 9.9 | G21: =4*(D21+F21)+9*E21 -> 39.6
A22: გამოსავალი | B22: 200 | D22: =SUM(D20:D21) -> 1 | E22: =SUM(E20:E21) -> 0.65 | F22: =SUM(F20:F21) -> 11.23 | G22: =SUM(G20:G21) -> 54.77
A24: I კვება სულ | B24: =B22+B16 -> 400 | D24: =D22+D16 -> 9.87064 | E24: =E22+E16 -> 9.597 | F24: =F22+F16 -> 48.056 | G24: =G22+G16 -> 318.07956
A26: II კვება
A28: შემწვარი თევზის ფილე კარტოფილის პიურეს გარნირით
A29: პროდუქტის დასახელება | B29: რაოდენობა, გ | D29: ცილები, გ | E29: ცხიმები, გ | F29: ნახშირწყლები, გ | G29: ენერგეტიკული ღირებულება
B30: ბრუტო | C30: ნეტო | G30: კკალ
A31: თევზის ფილე | B31: 150 | C31: =92%*B31 -> 138 | D31: =15.48%*C31 -> 21.3624 | E31: =8.69%*C31 -> 11.9922 | G31: =4*(D31+F31)+9*E31 -> 193.3794
A32: ზეთი | B32: 5 | C32: =100%*B32 -> 5 | E32: =99.9%*C32 -> 4.995 | G32: =4*(D32+F32)+9*E32 -> 44.955
A33: ხორბლის ფქვილი | B33: 10 | C33: =B33*100% -> 10 | D33: =C33*10% -> 1 | E33: =C33*1.3% -> 0.13 | F33: =C33*69% -> 6.9 | G33: =4*(D33+F33)+9*E33 -> 32.77
A34: მარილი | B34: 2 | C34: =100%*B34 -> 2 | G34: =4*(D34+F34)+9*E34 -> 0
A35: გამოსავალი | B35: 97 | D35: =SUM(D31:D34) -> 22.3624 | E35: =SUM(E31:E34) -> 17.1172 | F35: =SUM(F31:F34) -> 6.9 | G35: =SUM(G31:G34) -> 271.1044
A37: კარტოფილის პიურე (გარნირი)
A38: პროდუქტის დასახელება | B38: რაოდენობა, გ | D38: ცილები, გ | E38: ცხიმები, გ | F38: ნახშირწყლები, გ | G38: ენერგეტიკული ღირებულება
B39: ბრუტო | C39: ნეტო | G39: კკალ
A40: კარტოფილი | B40: 350 | C40: =72%*B40 -> 252 | D40: =2.1%*C40 -> 5.292 | E40: =0.4%*C40 -> 1.008 | F40: =15.6%*C40 -> 39.312 | G40: =4*(D40+F40)+9*E40 -> 187.488
A41: რძე | B41: 50 | C41: =100%*B41 -> 50 | D41: =2.8%*C41 -> 1.4 | E41: =3.2%*C41 -> 1.6 | F41: =4.7%*C41 -> 2.35 | G41: =4*(D41+F41)+9*E41 -> 29.4
A42: კარაქი | B42: 5 | C42: =100%*B42 -> 5 | E42: =72.57%*C42 -> 3.6285 | G42: =4*(D42+F42)+9*E42 -> 32.6565
A43: მარილი | B43: 2 | C43: =100%*B43 -> 2 | G43: =4*(D43+F43)+9*E43 -> 0
A44: გამოსავალი | B44: 250 | D44: =SUM(D40:D43) -> 6.692 | E44: =SUM(E40:E43) -> 6.2365 | F44: =SUM(F40:F43) -> 41.662 | G44: =SUM(G40:G43) -> 249.5445
A47: სალათი პომიდვრის მწვანე ხახვით
A48: პროდუქტის დასახელება | B48: რაოდენობა, გ | D48: ცილები, გ | E48: ცხიმები, გ | F48: ნახშირწყლები, გ | G48: ენერგეტიკული ღირებულება
...

Sheet შაბათი
A1: დანართი №11.2
A2: სამსახურის პენიტენციურ დაწესებულებებსა და მათ ტერიტორიაზე მყოფ და დეპარტამენტის გარე დაცვისა და ინფორმაციულ-ტექნიკური უსაფრთხოების მთავარი სამმართველოს წვევამდელთა მომზადების განყოფილების მოსამსახურეთა სამჯერადი კვების ერთკვირიანი მენიუ გაზაფხული - ზაფხული II კვირა
A3: შაბათი
A4: I კვება
A6: კარტოფილის ღვეზელი
A7: პროდუქტის დასახელება | B7: რაოდენობა, გ | D7: ცილები, გ | E7: ცხიმები, გ | F7: ნახშირწყლები | G7: ენერგეტიკული ღირებულება
B8: ბრუტო | C8: ნეტო | G8: კკალ
A9: ხორბლის ფქვილი I ხარისხის | B9: 80 | C9: =B9*100% -> 80 | D9: =C9*10% -> 8 | E9: =C9*1.3% -> 1.04 | F9: =C9*69% -> 55.2 | G9: =4*(D9+F9)+9*E9 -> 262.16
A10: შაქარი | B10: 4 | C10: =100%*B10 -> 4 | F10: =99%*C10 -> 3.96 | G10: =4*(D10+F10)+9*E10 -> 15.84
A11: ზეთი | B11: 5 | C11: =100%*B11 -> 5 | E11: =99.9%*C11 -> 4.995 | G11: =4*(D11+F11)+9*E11 -> 44.955
A12: მარილი | B12: 2 | C12: =100%*B12 -> 2 | G12: =4*(D12+F12)+9*E12 -> 0
A13: საფუარი | B13: 1 | C13: =100%*B13 -> 1
A14: კარტოფილი | B14: 105 | C14: =72%*B14 -> 75.6 | D14: =2.1%*C14 -> 1.5876 | E14: =0.4%*C14 -> 0.3024 | F14: =15.6%*C14 -> 11.7936 | G14: =4*(D14+F14)+9*E14 -> 56.2464
A15: ხახვი | B15: 7 | C15: =90%*B15 -> 6.3 | D15: =1.58%*C15 -> 0.09954 | F15: =9.5%*C15 -> 0.5985 | G15: =4*(D15+F15)+9*E15 -> 2.79216
A16: შავი პილპილი | B16: 1 | C16: =100%*B16 -> 1 | G16: =4*(D16+F16)+9*E16 -> 0
A17: გამოსავალი | B17: 150 | D17: =SUM(D9:D16) -> 9.68714 | E17: =SUM(E9:E16) -> 6.3374 | F17: =SUM(F9:F16) -> 71.5521 | G17: =SUM(G9:G16) -> 381.99356
A19: ყავა რძით
A20: პროდუქტის დასახელება | B20: რაოდენობა, გ | D20: ცილები, გ | E20: ცხიმები, გ | F20: ნახშირწყლები | G20: ენერგეტიკული ღირებულება
B21: ბრუტო | C21: ნეტო | G21: კკალ
A22: ყავა | B22: 5 | C22: =100%*B22 -> 5 | D22: =20%*C22 -> 1 | E22: =13%*C22 -> 0.65 | F22: =26.6%*C22 -> 1.33 | G22: =4*(D22+F22)+9*E22 -> 15.17
A23: რძე | B23: 50 | C23: =100%*B23 -> 50 | D23: =2.8%*C23 -> 1.4 | E23: =3.2%*C23 -> 1.6 | F23: =4.7%*C23 -> 2.35 | G23: =4*(D23+F23)+9*E23 -> 29.4
A24: შაქარი | B24: 10 | C24: =100%*B24 -> 10 | F24: =99%*C24 -> 9.9 | G24: =4*(D24+F24)+9*E24 -> 39.6
A25: გამოსავალი | B25: 20 | D25: =SUM(D22:D24) -> 2.4 | E25: =SUM(E22:E24) -> 2.25 | F25: =SUM(F22:F24) -> 13.58 | G25: =SUM(G22:G24) -> 84.17
A28: I კვება სულ | B28: =B25+B17 -> 170 | D28: =D25+D17 -> 12.08714 | E28: =E25+E17 -> 8.5874 | F28: =F25+F17 -> 85.1321 | G28: =G25+G17 -> 466.16356
A30: II კვება
A31: ხორცი ჩახრაკული ხახვით "გულიაში"
A32: პროდუქტის დასახელება | B32: რაოდენობა, გ | D32: ცილები, გ | E32: ცხიმები, გ | F32: ნახშირწყლები, გ | G32: ენერგეტიკული ღირებულება
B33: ბრუტო | C33: ნეტო | G33: კკალ
A34: ხორცი საქონლის | B34: 120 | C34: =B34*75% -> 90 | D34: =18.6%*C34 -> 16.74 | E34: =17.3%*C34 -> 15.57 | G34: =4*(D34+F34)+9*E34 -> 207.09
A35: კარაქი | B35: 10 | C35: =100%*B35 -> 10 | E35: =72.57%*C35 -> 7.257 | G35: =4*(D35+F35)+9*E35 -> 65.313
A36: ფქვილი | B36: 5 | C36: =B36*100% -> 5 | D36: =C36*10% -> 0.5 | E36: =C36*1.3% -> 0.065 | F36: =C36*69% -> 3.45 | G36: =4*(D36+F36)+9*E36 -> 16.385
A37: ხახვი | B37: 24 | C37: =90%*B37 -> 21.6 | D37: =1.58%*C37 -> 0.34128 | F37: =9.5%*C37 -> 2.052 | G37: =4*(D37+F37)+9*E37 -> 9.57312
A38: სანელებლები (წიწაკა) | B38: 0.5 | C38: =100%*B38 -> 0.5 | G38: =4*(D38+F38)+9*E38 -> 0
A39: ტომატ-პასტა | B39: 4 | C39: =100%*B39 -> 4 | F39: =17.7%*C39 -> 0.708 | G39: =4*(D39+F39)+9*E39 -> 2.832
A40: მწვანილი | B40: 7 | C40: =85%*B40 -> 5.95 | G40: =4*(D40+F40)+9*E40 -> 0
A41: ხორცის ბულიონი | B41: 100 | C41: =90%*B41 -> 90 | G41: =4*(D41+F41)+9*E41 -> 0
A42: მარილი | B42: 1 | C42: =100%*B42 -> 1 | G42: =4*(D42+F42)+9*E42 -> 0
A43: გამოსავალი | B43: 54/200 | D43: =SUM(D34:D42) -> 17.58128 | E43: =SUM(E34:E42) -> 22.892 | F43: =SUM(F34:F42) -> 6.21 | G43: =SUM(G34:G42) -> 301.19312
A44: პური თეთრი | B44: 250 | C44: 250 | D44: =C44*7.9% -> 19.75 | E44: =C44*1% -> 2.5 | F44: =C44*49.6% -> 124 | G44: =4*(D44+F44)+9*E44 -> 597.5
A46: მაკარონი გახეხილი ყველით
...

Sheet კვირა
A1: დანართი №11.2
A2: სამსახურის პენიტენციურ დაწესებულებებსა და მათ ტერიტორიაზე მყოფ და დეპარტამენტის გარე დაცვისა და ინფორმაციულ-ტექნიკური უსაფრთხოების მთავარი სამმართველოს წვევამდელთა მომზადების განყოფილების მოსამსახურეთა სამჯერადი კვების ერთკვირიანი მენიუ გაზაფხული - ზაფხული II კვირა
A3: კვირა
A4: I კვება
A5: ხაჭაპური
A6: პროდუქტის დასახელება | B6: რაოდენობა, გ | D6: ცილები, გ | E6: ცხიმები, გ | F6: ნახშირწყლები, გ | G6: ენერგეტიკული ღირებულება
B7: ბრუტო | C7: ნეტო | G7: კკალ
A8: ხორბლის ფქვილი | B8: 70 | C8: =B8*100% -> 70 | D8: =C8*10% -> 7 | E8: =C8*1.3% -> 0.91 | F8: =C8*69% -> 48.3 | G8: =4*(D8+F8)+9*E8 -> 229.39
A9: ყველი იმერული | B9: 65 | C9: =80%*B9 -> 52 | D9: =17.9%*C9 -> 9.308 | E9: =14.3%*C9 -> 7.436 | G9: =4*(D9+F9)+9*E9 -> 104.156
A10: კვერცხი | B10: 0.25 | C10: =B10*48 -> 12 | D10: =12.7%*C10 -> 1.524 | E10: =11.5%*C10 -> 1.38 | G10: =4*(D10+F10)+9*E10 -> 18.516
A11: საფუარი | B11: 1 | C11: =100%*B11 -> 1 | G11: =4*(D11+F11)+9*E11 -> 0
A12: კარაქი ნაღების | B12: 3 | C12: =100%*B12 -> 3 | E12: =72.57%*C12 -> 2.1771 | G12: =4*(D12+F12)+9*E12 -> 19.5939
A13: მარილი | B13: 1 | C13: =100%*B13 -> 1 | G13: =4*(D13+F13)+9*E13 -> 0
A14: გამოსავალი | B14: 160 | D14: =SUM(D8:D13) -> 17.832 | E14: =SUM(E8:E13) -> 11.9031 | F14: =SUM(F8:F13) -> 48.3 | G14: =SUM(G8:G13) -> 371.6559
A16: პროდუქტის დასახელება | B16: რაოდენობა, გ | D16: ცილები, გ | E16: ცხიმები, გ | F16: ნახშირწყლები, გ | G16: ენერგეტიკული ღირებულება
B17: ბრუტო | C17: ნეტო | G17: კკალ
A18: ყავა | B18: 5 | C18: =100%*B18 -> 5 | D18: =20%*C18 -> 1 | E18: =13%*C18 -> 0.65 | F18: =26.6%*C18 -> 1.33 | G18: =4*(D18+F18)+9*E18 -> 15.17
A19: შაქარი | B19: 10 | C19: =100%*B19 -> 10 | F19: =99%*C19 -> 9.9 | G19: =4*(D19+F19)+9*E19 -> 39.6
A20: გამოსავალი | B20: 200 | D20: =SUM(D18:D19) -> 1 | E20: =SUM(E18:E19) -> 0.65 | F20: =SUM(F18:F19) -> 11.23 | G20: =SUM(G18:G19) -> 54.77
A22: I კვება სულ | B22: =B20+B14 -> 360 | D22: =D20+D14 -> 18.832 | E22: =E20+E14 -> 12.5531 | F22: =F20+F14 -> 59.53 | G22: =G20+G14 -> 426.4259
A24: II კვება
A25: ბოსტნეულის სალათი
A26: პროდუქტის დასახელება | B26: რაოდენობა, გ | D26: ცილები, გ | E26: ცხიმები, გ | F26: ნახშირწყლები | G26: ენერგეტიკული ღირებულება
B27: ბრუტო | C27: ნეტო | G27: კკალ
A28: კარტოფილი | B28: 100 | C28: =72%*B28 -> 72 | D28: =2.1%*C28 -> 1.512 | E28: =0.4%*C28 -> 0.288 | F28: =15.6%*C28 -> 11.232 | G28: =4*(D28+F28)+9*E28 -> 53.568
A29: კიტრი | B29: 50 | C29: =90%*B29 -> 45 | D29: =0.8%*C29 -> 0.36 | F29: =2.6%*C29 -> 1.17 | G29: =4*(D29+F29)+9*E29 -> 6.12
A30: სტაფილო | B30: 64 | C30: =80%*B30 -> 51.2 | D30: =1.77%*C30 -> 0.90624 | F30: =11%*C30 -> 5.632 | G30: =4*(D30+F30)+9*E30 -> 26.15296
A31: ზეთი | B31: 5 | C31: =100%*B31 -> 5 | E31: =99.9%*C31 -> 4.995 | G31: =4*(D31+F31)+9*E31 -> 44.955
A32: მწვანილი | B32: 14 | C32: =85%*B32 -> 11.9 | G32: =4*(D32+F32)+9*E32 -> 0
A33: მარილი | B33: 1 | C33: =100%*B33 -> 1 | G33: =4*(D33+F33)+9*E33 -> 0
A34: გამოსავალი | B34: 200 | D34: =SUM(D28:D33) -> 2.77824 | E34: =SUM(E28:E33) -> 5.283 | F34: =SUM(F28:F33) -> 18.034 | G34: =SUM(G28:G33) -> 130.79596
A36: ხორცის რაგუ "ოჯახური"
A37: პროდუქტის დასახელება | B37: რაოდენობა, გ | D37: ცილები, გ | E37: ცხიმები, გ | F37: ნახშირწყლები | G37: ენერგეტიკული ღირებულება
B38: ბრუტო | C38: ნეტო | G38: კკალ
A39: საქონლის ხორცი (I კატეგორიის) | B39: 200 | C39: =B39*75% -> 150 | D39: =18.6%*C39 -> 27.9 | E39: =17.3%*C39 -> 25.95 | G39: =4*(D39+F39)+9*E39 -> 345.15
A40: სტაფილო | B40: 60 | C40: =80%*B40 -> 48 | D40: =1.77%*C40 -> 0.8496 | F40: =11%*C40 -> 5.28 | G40: =4*(D40+F40)+9*E40 -> 24.5184
A41: ხახვი | B41: 25 | C41: =90%*B41 -> 22.5 | D41: =1.58%*C41 -> 0.3555 | F41: =9.5%*C41 -> 2.1375 | G41: =4*(D41+F41)+9*E41 -> 9.972
A42: ტომატ-პასტა | B42: 5 | C42: =100%*B42 -> 5 | F42: =17.7%*C42 -> 0.885 | G42: =4*(D42+F42)+9*E42 -> 3.54
A43: ზეთი | B43: 2 | C43: =100%*B43 -> 2 | E43: =99.9%*C43 -> 1.998 | G43: =4*(D43+F43)+9*E43 -> 17.982
A44: მწვანილი | B44: 18 | C44: =85%*B44 -> 15.3 | G44: =4*(D44+F44)+9*E44 -> 0
...
