Workbook

Sheet ხელმძღვანელობა
A1: დანართი №4
A2: კომპეტენციების შესაბამისი პროცენტული მაჩვენებლები (წონები)
A3: პოზიცია | B3: ხარისხის, რისკებისა და ოპერაციების მართვა | C3: ლიდერობა და მართვა | D3: გუნდურობა | E3: პროაქტიურობა / ინიციატივა | F3: პრობლემის გადაჭრა / გადაწყვეტილების მიღება | G3: ზეპირი და წერილობითი კომუნიკაცია | H3: ანალიტიკური აზროვნება | I3: საბაზისო კომპიუტერული კომპეტენციები | J3: სტრატეგია და ხედვა | K3: სპეციფიური პროგრამული კომპეტენციები | L3: კანონმდებლობა
A5: სამსახურის უფროსის პირველი მოადგილე | B5: 0.2 | C5: 0.2 | D5: 0.05 | E5: 0.05 | F5: 0.1 | G5: 0.05 | H5: 0.1 | I5: 0.05 | J5: 0.15 | K5: 0 | L5: 0.05 | M5: =SUM(B5:L5) -> 1
A6: სამსახურის უფროსის მოადგილე | B6: 0.2 | C6: 0.2 | D6: 0.05 | E6: 0.05 | F6: 0.1 | G6: 0.05 | H6: 0.1 | I6: 0.05 | J6: 0.15 | K6: 0 | L6: 0.05 | M6: =SUM(B6:L6) -> 1
A7: მრჩეველი | B7: 0.15 | C7: 0.1 | D7: 0.05 | E7: 0.1 | F7: 0.15 | G7: 0.05 | H7: 0.15 | I7: 0.05 | J7: 0.1 | K7: 0.05 | L7: 0.05 | M7: =SUM(B7:L7) -> 1
A8: მთავარი სპეციალისტი | B8: 0.25 | C8: 0.05 | D8: 0.1 | E8: 0.05 | F8: 0.1 | G8: 0.15 | H8: 0.05 | I8: 0.1 | J8: 0.05 | K8: 0.05 | L8: 0.05 | M8: =SUM(B8:L8) -> 1

Sheet PR და მარკეტინგი
A1: პოზიცია | B1: ხარისხის, რისკებისა და ოპერაციების მართვა | C1: ლიდერობა და მართვა | D1: გუნდურობა | E1: პროაქტიურობა / ინიციატივა | F1: პრობლემის გადაჭრა / გადაწყვეტილების მიღება | G1: ზეპირი და წერილობითი კომუნიკაცია | H1: ანალიტიკური აზროვნება | I1: საბაზისო კომპიუტერული კომპეტენციები | J1: სტრატეგია და ხედვა | K1: სპეციფიური პროგრამული კომპეტენციები
A2: საზოგადოებასთან ურთიერთობის და მარკეტინგის დეპარტამენტი
A3: დეპარტამენტის უფროსი | B3: 0.15 | C3: 0.15 | D3: 0.1 | E3: 0.1 | F3: 0.15 | G3: 0.1 | H3: 0.05 | I3: 0.05 | J3: 0.1 | K3: 0.05 | M3: =B3+C3+D3+E3+F3+G3+H3+I3+J3+K3+L3 -> 1
A4: დეპარტამენტის უფროსის მოადგილე | B4: 0.15 | C4: 0.15 | D4: 0.1 | E4: 0.1 | F4: 0.15 | G4: 0.1 | H4: 0.05 | I4: 0.05 | J4: 0.1 | K4: 0.05 | M4: =B4+C4+D4+E4+F4+G4+H4+I4+J4+K4+L4 -> 1
A5: მრჩეველი | B5: 0.1 | C5: 0.1 | D5: 0.1 | E5: 0.1 | F5: 0.15 | G5: 0.15 | H5: 0.1 | I5: 0.05 | J5: 0.1 | K5: 0.05 | M5: =B5+C5+D5+E5+F5+G5+H5+I5+J5+K5+L5 -> 1
A6: მარკეტინგის სამმართველო
A7: სამმართველოს უფროსი | B7: 0.1 | C7: 0.1 | D7: 0.1 | E7: 0.1 | F7: 0.15 | G7: 0.15 | H7: 0.1 | I7: 0.05 | J7: 0.1 | K7: 0.05 | M7: =B7+C7+D7+E7+F7+G7+H7+I7+J7+K7+L7 -> 1
A8: მთავარი სპეციალისტი | B8: 0.1 | C8: 0.05 | D8: 0.1 | E8: 0.1 | F8: 0.15 | G8: 0.2 | H8: 0.1 | I8: 0.05 | J8: 0.1 | K8: 0.05 | M8: =B8+C8+D8+E8+F8+G8+H8+I8+J8+K8+L8 -> 1
A9: უფროსი სპეციალისტი | B9: 0.1 | C9: 0.05 | D9: 0.1 | E9: 0.1 | F9: 0.15 | G9: 0.2 | H9: 0.1 | I9: 0.05 | J9: 0.1 | K9: 0.05 | M9: =B9+C9+D9+E9+F9+G9+H9+I9+J9+K9+L9 -> 1
A10: სპეციალისტი | B10: 0.1 | C10: 0.05 | D10: 0.1 | E10: 0.1 | F10: 0.15 | G10: 0.2 | H10: 0.1 | I10: 0.05 | J10: 0.1 | K10: 0.05 | M10: =B10+C10+D10+E10+F10+G10+H10+I10+J10+K10+L10 -> 1
A11: საზოგადოებასთან ურთიერთობის სამმართველო
A12: სამმართველოს უფროსი | B12: 0.1 | C12: 0.1 | D12: 0.1 | E12: 0.1 | F12: 0.15 | G12: 0.15 | H12: 0.1 | I12: 0.05 | J12: 0.1 | K12: 0.05 | M12: =B12+C12+D12+E12+F12+G12+H12+I12+J12+K12+L12 -> 1
A13: მთავარი სპეციალისტი | B13: 0.1 | C13: 0.05 | D13: 0.1 | E13: 0.1 | F13: 0.15 | G13: 0.2 | H13: 0.1 | I13: 0.05 | J13: 0.1 | K13: 0.05 | M13: =B13+C13+D13+E13+F13+G13+H13+I13+J13+K13+L13 -> 1
A14: უფროსი სპეციალისტი | B14: 0.1 | C14: 0.05 | D14: 0.1 | E14: 0.1 | F14: 0.15 | G14: 0.2 | H14: 0.1 | I14: 0.05 | J14: 0.1 | K14: 0.05 | M14: =B14+C14+D14+E14+F14+G14+H14+I14+J14+K14+L14 -> 1
A15: სპეციალისტი | B15: 0.1 | C15: 0.05 | D15: 0.1 | E15: 0.1 | F15: 0.15 | G15: 0.2 | H15: 0.1 | I15: 0.05 | J15: 0.1 | K15: 0.05 | M15: =B15+C15+D15+E15+F15+G15+H15+I15+J15+K15+L15 -> 1

Sheet არმ დეპარტამენტი
A1: პოზიცია | B1: ხარისხის, რისკებისა და ოპერაციების მართვა | C1: ლიდერობა და მართვა | D1: გუნდურობა | E1: პროაქტიურობა/ინიციატივა | F1: პრობლემის გადაჭრა/გადაწყვეტილების მიღება | G1: ზეპირი და წერილობითი კომუნიკაცია | H1: ანალიტიკური აზროვნება | I1: საბაზისო კომპიუტერული კომპეტენციები | J1: სტრატეგია და ხედვა | K1: სპეციფიური პროგრამული კომპეტენციები | L1: კანონმდებლობა
A2: ადამიანური რესურსების მართვისა და განვითარების დეპარტამენტი
A3: დეპარტამენტის უფროსი | B3: 0.15 | C3: 0.15 | D3: 0.05 | E3: 0.1 | F3: 0.15 | G3: 0.1 | H3: 0.05 | I3: 0.05 | J3: 0.1 | K3: 0.05 | L3: 0.05 | M3: =B3+C3+D3+E3+F3+G3+H3+I3+J3+K3+L3 -> 1
A4: დეპარტამენტის უფროსის მოადგილე | B4: 0.15 | C4: 0.15 | D4: 0.05 | E4: 0.1 | F4: 0.15 | G4: 0.1 | H4: 0.05 | I4: 0.05 | J4: 0.1 | K4: 0.05 | L4: 0.05 | M4: =B4+C4+D4+E4+F4+G4+H4+I4+J4+K4+L4 -> 1
A5: ადამიანური რესურსების განვითარების სამმართველო
A6: სამმართველოს უფროსი | B6: 0.1 | C6: 0.1 | D6: 0.1 | E6: 0.05 | F6: 0.1 | G6: 0.15 | H6: 0.1 | I6: 0.1 | J6: 0.1 | K6: 0.05 | L6: 0.05 | M6: =B6+C6+D6+E6+F6+G6+H6+I6+J6+K6+L6 -> 1
A7: მთავარი სპეციალისტი | B7: 0.1 | C7: 0.05 | D7: 0.1 | E7: 0.05 | F7: 0.15 | G7: 0.15 | H7: 0.1 | I7: 0.1 | J7: 0.1 | K7: 0.05 | L7: 0.05 | M7: =B7+C7+D7+E7+F7+G7+H7+I7+J7+K7+L7 -> 1
A8: შერჩევის და საკადრო ადმინისტრირების სამმართველო
A9: სამმართველოს უფროსი | B9: 0.1 | C9: 0.1 | D9: 0.05 | E9: 0.05 | F9: 0.1 | G9: 0.1 | H9: 0.1 | I9: 0.1 | J9: 0.1 | K9: 0.1 | L9: 0.1 | M9: =B9+C9+D9+E9+F9+G9+H9+I9+J9+K9+L9 -> 1
A10: მთავარი სპეციალისტი | B10: 0.1 | C10: 0.05 | D10: 0.1 | E10: 0.05 | F10: 0.05 | G10: 0.1 | H10: 0.1 | I10: 0.1 | J10: 0.05 | K10: 0.15 | L10: 0.15 | M10: =B10+C10+D10+E10+F10+G10+H10+I10+J10+K10+L10 -> 1
A11: უფროსი სპეციალისტი | B11: 0.1 | C11: 0.05 | D11: 0.1 | E11: 0.05 | F11: 0.05 | G11: 0.1 | H11: 0.1 | I11: 0.1 | J11: 0.05 | K11: 0.15 | L11: 0.15 | M11: =B11+C11+D11+E11+F11+G11+H11+I11+J11+K11+L11 -> 1
A12: დამხმარე მოსამსახურე | B12: 0.1 | C12: 0.05 | D12: 0.1 | E12: 0.05 | F12: 0.05 | G12: 0.1 | H12: 0.1 | I12: 0.1 | J12: 0.05 | K12: 0.15 | L12: 0.15 | M12: =B12+C12+D12+E12+F12+G12+H12+I12+J12+K12+L12 -> 1

Sheet საერთაშორისო ურთიერთ. დეპარტამე
A1: პოზიცია | B1: ხარისხის, რისკებისა და ოპერაციების მართვა | C1: ლიდერობა და მართვა | D1: გუნდურობა | E1: პროაქტიურობა/ინიციატივა | F1: პრობლემის გადაჭრა/გადაწყვეტილების მიღება | G1: ზეპირი და წერილობითი კომუნიკაცია | H1: ანალიტიკური აზროვნება | I1: საბაზისო კომპიუტერული კომპეტენციები | J1: სტრატეგია და ხედვა | K1: უცნო ენა | L1: კანონმდებლობა
A2: საერთაშორისო ურთიერთობათა დეპარტამენტი
A3: დეპარტამენტის უფროსი | B3: 0.15 | C3: 0.15 | D3: 0.05 | E3: 0.1 | F3: 0.15 | G3: 0.1 | H3: 0.05 | I3: 0.05 | J3: 0.1 | K3: 0.05 | L3: 0.05 | M3: =B3+C3+D3+E3+F3+G3+H3+I3+J3+K3+L3 -> 1
A4: დეპარტამენტის უფროსის მოადგილე | B4: 0.15 | C4: 0.15 | D4: 0.05 | E4: 0.1 | F4: 0.15 | G4: 0.1 | H4: 0.05 | I4: 0.05 | J4: 0.1 | K4: 0.05 | L4: 0.05 | M4: =B4+C4+D4+E4+F4+G4+H4+I4+J4+K4+L4 -> 1
A5: საერთაშორისო საბაჟო, სანიტარიულ-ფიტოსანიტარიული სასაზღვრო კონტროლის თანამშრომლობის სამმართველო
A6: სამმართველოს უფროსი | B6: 0.1 | C6: 0.1 | D6: 0.1 | E6: 0.1 | F6: 0.1 | G6: 0.15 | H6: 0.1 | I6: 0.02 | J6: 0.03 | K6: 0.1 | L6: 0.1 | M6: =B6+C6+D6+E6+F6+G6+H6+I6+J6+K6+L6 -> 1
A7: მრჩეველი | B7: 0.1 | C7: 0.05 | D7: 0.1 | E7: 0.15 | F7: 0.1 | G7: 0.15 | H7: 0.1 | I7: 0.02 | J7: 0.03 | K7: 0.1 | L7: 0.1 | M7: =B7+C7+D7+E7+F7+G7+H7+I7+J7+K7+L7 -> 1
A8: მთავარი სპეციალისტი | B8: 0.1 | C8: 0.05 | D8: 0.1 | E8: 0.15 | F8: 0.1 | G8: 0.15 | H8: 0.1 | I8: 0.02 | J8: 0.03 | K8: 0.1 | L8: 0.1 | M8: =B8+C8+D8+E8+F8+G8+H8+I8+J8+K8+L8 -> 1
A9: უფროსი სპეციალისტი | B9: 0.1 | C9: 0.05 | D9: 0.1 | E9: 0.15 | F9: 0.1 | G9: 0.15 | H9: 0.1 | I9: 0.02 | J9: 0.03 | K9: 0.1 | L9: 0.1 | M9: =B9+C9+D9+E9+F9+G9+H9+I9+J9+K9+L9 -> 1
A10: საერთაშორისო საგადასახადო თანამშრომლობის სამმართველო
A11: სამმართველოს უფროსი | B11: 0.1 | C11: 0.1 | D11: 0.1 | E11: 0.1 | F11: 0.1 | G11: 0.15 | H11: 0.1 | I11: 0.02 | J11: 0.03 | K11: 0.1 | L11: 0.1 | M11: =B11+C11+D11+E11+F11+G11+H11+I11+J11+K11+L11 -> 1
A12: მრჩეველი | B12: 0.1 | C12: 0.05 | D12: 0.1 | E12: 0.15 | F12: 0.1 | G12: 0.15 | H12: 0.1 | I12: 0.02 | J12: 0.03 | K12: 0.1 | L12: 0.1 | M12: =B12+C12+D12+E12+F12+G12+H12+I12+J12+K12+L12 -> 1
A13: მთავარი სპეციალისტი | B13: 0.1 | C13: 0.05 | D13: 0.1 | E13: 0.15 | F13: 0.1 | G13: 0.15 | H13: 0.1 | I13: 0.02 | J13: 0.03 | K13: 0.1 | L13: 0.1 | M13: =B13+C13+D13+E13+F13+G13+H13+I13+J13+K13+L13 -> 1
A14: სპეციალისტი | B14: 0.1 | C14: 0.05 | D14: 0.15 | E14: 0.15 | F14: 0.1 | G14: 0.1 | H14: 0.1 | I14: 0.02 | J14: 0.03 | K14: 0.1 | L14: 0.1 | M14: =B14+C14+D14+E14+F14+G14+H14+I14+J14+K14+L14 -> 1

Sheet მომსახურების დეპარტამენტი
A1: პოზიცია | B1: ხარისხის, რისკებისა და ოპერაციების მართვა | C1: ლიდერობა და მართვა | D1: გუნდურობა | E1: პროაქტიურობა/ინიციატივა | F1: პრობლემის გადაჭრა/გადაწყვეტილების მიღება | G1: ზეპირი და წერილობითი კომუნიკაცია | H1: ანალიტიკური აზროვნება | I1: საბაზისო კომპიუტერული კომპეტენციები | J1: სტრატეგია და ხედვა | K1: სპეციფიური პროგრამული კომპეტენციები | L1: კანონმდებლობა | M1: უცხო ენა
A2: მომსახურების დეპარტამენტი
A3: დეპარტამენტის უფროსი | B3: 0.15 | C3: 0.15 | D3: 0.05 | E3: 0.1 | F3: 0.15 | G3: 0.1 | H3: 0.05 | I3: 0.05 | J3: 0.1 | K3: 0.05 | L3: 0.05 | M3: 0 | N3: =B3+C3+D3+E3+F3+G3+H3+I3+J3+K3+L3+M3 -> 1
A4: დეპარტამენტის უფროსის მოადგილე | B4: 0.15 | C4: 0.15 | D4: 0.05 | E4: 0.1 | F4: 0.15 | G4: 0.1 | H4: 0.05 | I4: 0.05 | J4: 0.1 | K4: 0.05 | L4: 0.05 | M4: 0 | N4: =B4+C4+D4+E4+F4+G4+H4+I4+J4+K4+L4+M4 -> 1
A5: მრჩეველი | B5: 0.15 | C5: 0.05 | D5: 0.1 | E5: 0.1 | F5: 0.15 | G5: 0.1 | H5: 0.1 | I5: 0.05 | J5: 0.05 | K5: 0.05 | L5: 0.1 | M5: 0 | N5: =B5+C5+D5+E5+F5+G5+H5+I5+J5+K5+L5+M5 -> 1
A6: თანაშემწე | B6: 0.1 | C6: 0.05 | D6: 0.05 | E6: 0.05 | F6: 0.15 | G6: 0.15 | H6: 0.1 | I6: 0.1 | J6: 0.05 | K6: 0.1 | L6: 0.05 | M6: 0.05 | N6: =B6+C6+D6+E6+F6+G6+H6+I6+J6+K6+L6+M6 -> 1
A7: დამხმარე მოსამსახურე | B7: 0.1 | C7: 0.05 | D7: 0.25 | E7: 0.15 | F7: 0.15 | G7: 0.05 | H7: 0.05 | I7: 0.05 | J7: 0.05 | K7: 0.05 | L7: 0.05 | M7: 0 | N7: =B7+C7+D7+E7+F7+G7+H7+I7+J7+K7+L7+M7 -> 1
A8: გადამხდელთა მომსახურების სამმართველო
A9: სამმართველოს უფროსი | B9: 0.1 | C9: 0.1 | D9: 0.1 | E9: 0.1 | F9: 0.1 | G9: 0.1 | H9: 0.1 | I9: 0.05 | J9: 0.1 | K9: 0.05 | L9: 0.1 | M9: 0 | N9: =B9+C9+D9+E9+F9+G9+H9+I9+J9+K9+L9+M9 -> 1
A10: სამმართველოს უფროსის მოადგილე | B10: 0.1 | C10: 0.1 | D10: 0.1 | E10: 0.1 | F10: 0.1 | G10: 0.1 | H10: 0.1 | I10: 0.05 | J10: 0.1 | K10: 0.05 | L10: 0.1 | M10: 0 | N10: =B10+C10+D10+E10+F10+G10+H10+I10+J10+K10+L10+M10 -> 1
A11: აქციზური და არააქციზური საქონლის მარკირების ორგანიზების განყოფილება
A12: განყოფილების უფროსი | B12: 0.1 | C12: 0.1 | D12: 0.1 | E12: 0.1 | F12: 0.1 | G12: 0.1 | H12: 0.1 | I12: 0.05 | J12: 0.1 | K12: 0.05 | L12: 0.1 | M12: 0 | N12: =B12+C12+D12+E12+F12+G12+H12+I12+J12+K12+L12+M12 -> 1
A13: მთავარი ოფიცერი | B13: 0.08 | C13: 0.08 | D13: 0.1 | E13: 0.1 | F13: 0.07 | G13: 0.1 | H13: 0.1 | I13: 0.1 | J13: 0.07 | K13: 0.1 | L13: 0.1 | M13: 0 | N13: =B13+C13+D13+E13+F13+G13+H13+I13+J13+K13+L13+M13 -> 1
A14: ოფიცერი | B14: 0.08 | C14: 0.08 | D14: 0.1 | E14: 0.1 | F14: 0.07 | G14: 0.1 | H14: 0.1 | I14: 0.1 | J14: 0.07 | K14: 0.1 | L14: 0.1 | M14: 0 | N14: =B14+C14+D14+E14+F14+G14+H14+I14+J14+K14+L14+M14 -> 1
A15: შეღავათიანი დაბეგვრის რეგულირების განყოფილება
A16: განყოფილების უფროსი | B16: 0.1 | C16: 0.1 | D16: 0.1 | E16: 0.05 | F16: 0.1 | G16: 0.1 | H16: 0.1 | I16: 0.05 | J16: 0.1 | K16: 0.05 | L16: 0.1 | M16: 0.05 | N16: =B16+C16+D16+E16+F16+G16+H16+I16+J16+K16+L16+M16 -> 1
A17: მთავარი ოფიცერი | B17: 0.08 | C17: 0.08 | D17: 0.1 | E17: 0.05 | F17: 0.07 | G17: 0.1 | H17: 0.1 | I17: 0.1 | J17: 0.07 | K17: 0.1 | L17: 0.1 | M17: 0.05 | N17: =B17+C17+D17+E17+F17+G17+H17+I17+J17+K17+L17+M17 -> 1
A18: სერვისების მიწოდების და განვითარების განყოფილება
A19: განყოფილების უფროსი | B19: 0.1 | C19: 0.1 | D19: 0.1 | E19: 0.1 | F19: 0.1 | G19: 0.1 | H19: 0.1 | I19: 0.05 | J19: 0.1 | K19: 0.05 | L19: 0.1 | M19: 0 | N19: =B19+C19+D19+E19+F19+G19+H19+I19+J19+K19+L19+M19 -> 1
A20: მთავარი სპეციალისტი | B20: 0.08 | C20: 0.08 | D20: 0.1 | E20: 0.1 | F20: 0.07 | G20: 0.1 | H20: 0.1 | I20: 0.1 | J20: 0.07 | K20: 0.1 | L20: 0.1 | M20: 0 | N20: =B20+C20+D20+E20+F20+G20+H20+I20+J20+K20+L20+M20 -> 1
A21: მთავარი ოფიცერი | B21: 0.08 | C21: 0.08 | D21: 0.1 | E21: 0.1 | F21: 0.07 | G21: 0.1 | H21: 0.1 | I21: 0.1 | J21: 0.07 | K21: 0.1 | L21: 0.1 | M21: 0 | N21: =B21+C21+D21+E21+F21+G21+H21+I21+J21+K21+L21+M21 -> 1
A22: უფროსი ოფიცერი | B22: 0.08 | C22: 0.08 | D22: 0.1 | E22: 0.1 | F22: 0.07 | G22: 0.1 | H22: 0.1 | I22: 0.1 | J22: 0.07 | K22: 0.1 | L22: 0.1 | M22: 0 | N22: =B22+C22+D22+E22+F22+G22+H22+I22+J22+K22+L22+M22 -> 1
A23: ოფიცერი | B23: 0.08 | C23: 0.08 | D23: 0.1 | E23: 0.1 | F23: 0.07 | G23: 0.1 | H23: 0.1 | I23: 0.1 | J23: 0.07 | K23: 0.1 | L23: 0.1 | M23: 0 | N23: =B23+C23+D23+E23+F23+G23+H23+I23+J23+K23+L23+M23 -> 1
A24: საკონსულტაციო სამმართველო
A25: სამმართველოს უფროსი | B25: 0.07 | C25: 0.09 | D25: 0.07 | E25: 0.11 | F25: 0.11 | G25: 0.1 | H25: 0.15 | I25: 0.05 | J25: 0.08 | K25: 0.02 | L25: 0.15 | M25: 0 | N25: =B25+C25+D25+E25+F25+G25+H25+I25+J25+K25+L25+M25 -> 1
A26: სამმართველოს უფროსის მოადგილე | B26: 0.07 | C26: 0.09 | D26: 0.07 | E26: 0.11 | F26: 0.11 | G26: 0.1 | H26: 0.15 | I26: 0.05 | J26: 0.08 | K26: 0.02 | L26: 0.15 | M26: 0 | N26: =B26+C26+D26+E26+F26+G26+H26+I26+J26+K26+L26+M26 -> 1
A27: მთავარი ოფიცერი | B27: 0.07 | C27: 0.05 | D27: 0.08 | E27: 0.1 | F27: 0.1 | G27: 0.11 | H27: 0.15 | I27: 0.05 | J27: 0.06 | K27: 0.05 | L27: 0.15 | M27: 0.03 | N27: =B27+C27+D27+E27+F27+G27+H27+I27+J27+K27+L27+M27 -> 1
A28: უფროსი ოფიცერი | B28: 0.07 | C28: 0.05 | D28: 0.08 | E28: 0.1 | F28: 0.1 | G28: 0.11 | H28: 0.15 | I28: 0.05 | J28: 0.06 | K28: 0.05 | L28: 0.15 | M28: 0.03 | N28: =B28+C28+D28+E28+F28+G28+H28+I28+J28+K28+L28+M28 -> 1
A29: ოფიცერი | B29: 0.07 | C29: 0.05 | D29: 0.08 | E29: 0.1 | F29: 0.1 | G29: 0.11 | H29: 0.15 | I29: 0.05 | J29: 0.06 | K29: 0.05 | L29: 0.15 | M29: 0.03 | N29: =B29+C29+D29+E29+F29+G29+H29+I29+J29+K29+L29+M29 -> 1
A30: პირადი საგადასახადო მრჩევლების სამმართველო
A31: სამმართველოს უფროსი | B31: 0.09 | C31: 0.1 | D31: 0.1 | E31: 0.09 | F31: 0.09 | G31: 0.09 | H31: 0.09 | I31: 0.03 | J31: 0.09 | K31: 0.03 | L31: 0.15 | M31: 0.05 | N31: =B31+C31+D31+E31+F31+G31+H31+I31+J31+K31+L31+M31 -> 1
A32: სამმართველოს უფროსის მოადგილე | B32: 0.09 | C32: 0.1 | D32: 0.1 | E32: 0.09 | F32: 0.09 | G32: 0.09 | H32: 0.09 | I32: 0.03 | J32: 0.09 | K32: 0.03 | L32: 0.15 | M32: 0.05 | N32: =B32+C32+D32+E32+F32+G32+H32+I32+J32+K32+L32+M32 -> 1
A33: პირადი საგადასახადო მრჩეველი | B33: 0.09 | C33: 0.08 | D33: 0.09 | E33: 0.08 | F33: 0.08 | G33: 0.09 | H33: 0.09 | I33: 0.05 | J33: 0.05 | K33: 0.05 | L33: 0.2 | M33: 0.05 | N33: =B33+C33+D33+E33+F33+G33+H33+I33+J33+K33+L33+M33 -> 1
A34: მონაცემთა დამუშავების სამმართველო
A35: სამმართველოს უფროსი | B35: 0.1 | C35: 0.15 | D35: 0.05 | E35: 0.05 | F35: 0.1 | G35: 0.1 | H35: 0.1 | I35: 0.05 | J35: 0.05 | K35: 0.15 | L35: 0.1 | M35: 0 | N35: =B35+C35+D35+E35+F35+G35+H35+I35+J35+K35+L35+M35 -> 1
A36: სამმართველოს უფროსის მოადგილე | B36: 0.1 | C36: 0.15 | D36: 0.05 | E36: 0.05 | F36: 0.1 | G36: 0.1 | H36: 0.1 | I36: 0.05 | J36: 0.05 | K36: 0.15 | L36: 0.1 | M36: 0 | N36: =B36+C36+D36+E36+F36+G36+H36+I36+J36+K36+L36+M36 -> 1
A37: მთავარი ოფიცერი | B37: 0.1 | C37: 0.05 | D37: 0.05 | E37: 0.05 | F37: 0.1 | G37: 0.1 | H37: 0.1 | I37: 0.1 | J37: 0.05 | K37: 0.15 | L37: 0.15 | M37: 0 | N37: =B37+C37+D37+E37+F37+G37+H37+I37+J37+K37+L37+M37 -> 1
A38: უფროსი ოფიცერი | B38: 0.1 | C38: 0.05 | D38: 0.05 | E38: 0.05 | F38: 0.1 | G38: 0.1 | H38: 0.1 | I38: 0.1 | J38: 0.05 | K38: 0.15 | L38: 0.15 | M38: 0 | N38: =B38+C38+D38+E38+F38+G38+H38+I38+J38+K38+L38+M38 -> 1
A39: ოფიცერი | B39: 0.1 | C39: 0.05 | D39: 0.05 | E39: 0.05 | F39: 0.1 | G39: 0.1 | H39: 0.1 | I39: 0.1 | J39: 0.05 | K39: 0.15 | L39: 0.15 | M39: 0 | N39: =B39+C39+D39+E39+F39+G39+H39+I39+J39+K39+L39+M39 -> 1
A40: აღრიცხვის და სტატისტიკის სამმართველო
A41: სამმართველოს უფროსი | B41: 0.1 | C41: 0.15 | D41: 0.05 | E41: 0.05 | F41: 0.1 | G41: 0.1 | H41: 0.1 | I41: 0.05 | J41: 0.05 | K41: 0.15 | L41: 0.1 | M41: 0 | N41: =B41+C41+D41+E41+F41+G41+H41+I41+J41+K41+L41+M41 -> 1
A42: სამმართველოს უფროსის მოადგილე | B42: 0.1 | C42: 0.15 | D42: 0.05 | E42: 0.05 | F42: 0.1 | G42: 0.1 | H42: 0.1 | I42: 0.05 | J42: 0.05 | K42: 0.15 | L42: 0.1 | M42: 0 | N42: =B42+C42+D42+E42+F42+G42+H42+I42+J42+K42+L42+M42 -> 1
A43: მთავარი ოფიცერი | B43: 0.1 | C43: 0.05 | D43: 0.05 | E43: 0.05 | F43: 0.1 | G43: 0.1 | H43: 0.1 | I43: 0.1 | J43: 0.05 | K43: 0.15 | L43: 0.15 | M43: 0 | N43: =B43+C43+D43+E43+F43+G43+H43+I43+J43+K43+L43+M43 -> 1
A44: უფროსი ოფიცერი | B44: 0.1 | C44: 0.05 | D44: 0.05 | E44: 0.07 | F44: 0.08 | G44: 0.1 | H44: 0.1 | I44: 0.1 | J44: 0.05 | K44: 0.15 | L44: 0.15 | M44: 0 | N44: =B44+C44+D44+E44+F44+G44+H44+I44+J44+K44+L44+M44 -> 1
A45: ოფიცერი | B45: 0.1 | C45: 0.05 | D45: 0.05 | E45: 0.07 | F45: 0.08 | G45: 0.1 | H45: 0.1 | I45: 0.1 | J45: 0.05 | K45: 0.15 | L45: 0.15 | M45: 0 | N45: =B45+C45+D45+E45+F45+G45+H45+I45+J45+K45+L45+M45 -> 1
A46: უბნის ოფიცერთა სამმართველო
A47: სამმართველოს უფროსი | B47: 0.1 | C47: 0.1 | D47: 0.1 | E47: 0.1 | F47: 0.1 | G47: 0.1 | H47: 0.1 | I47: 0.05 | J47: 0.05 | K47: 0.1 | L47: 0.1 | M47: 0 | N47: =B47+C47+D47+E47+F47+G47+H47+I47+J47+K47+L47+M47 -> 1
A48: სამმართველოს უფროსის მოადგილე | B48: 0.1 | C48: 0.1 | D48: 0.1 | E48: 0.1 | F48: 0.1 | G48: 0.1 | H48: 0.1 | I48: 0.05 | J48: 0.05 | K48: 0.1 | L48: 0.1 | M48: 0 | N48: =B48+C48+D48+E48+F48+G48+H48+I48+J48+K48+L48+M48 -> 1
A49: თბილისის №1 სექტორი
A50: სექტორის უფროსი | B50: 0.1 | C50: 0.1 | D50: 0.1 | E50: 0.05 | F50: 0.1 | G50: 0.1 | H50: 0.1 | I50: 0.05 | J50: 0.05 | K50: 0.15 | L50: 0.1 | M50: 0 | N50: =B50+C50+D50+E50+F50+G50+H50+I50+J50+K50+L50+M50 -> 1
A51: მთავარი ოფიცერი | B51: 0.1 | C51: 0.05 | D51: 0.1 | E51: 0.05 | F51: 0.1 | G51: 0.1 | H51: 0.1 | I51: 0.05 | J51: 0.05 | K51: 0.15 | L51: 0.15 | M51: 0 | N51: =B51+C51+D51+E51+F51+G51+H51+I51+J51+K51+L51+M51 -> 1
A52: ოფიცერი | B52: 0.1 | C52: 0.05 | D52: 0.15 | E52: 0.05 | F52: 0.1 | G52: 0.1 | H52: 0.05 | I52: 0.05 | J52: 0.05 | K52: 0.15 | L52: 0.15 | M52: 0 | N52: =B52+C52+D52+E52+F52+G52+H52+I52+J52+K52+L52+M52 -> 1
A53: თბილისის №2 სექტორი
A54: სექტორის უფროსი | B54: 0.1 | C54: 0.1 | D54: 0.1 | E54: 0.05 | F54: 0.1 | G54: 0.1 | H54: 0.1 | I54: 0.05 | J54: 0.05 | K54: 0.15 | L54: 0.1 | M54: 0 | N54: =B54+C54+D54+E54+F54+G54+H54+I54+J54+K54+L54+M54 -> 1
A55: უბნის საგადასახადო ოფიცერი | B55: 0.1 | C55: 0.05 | D55: 0.1 | E55: 0.05 | F55: 0.1 | G55: 0.1 | H55: 0.1 | I55: 0.05 | J55: 0.05 | K55: 0.15 | L55: 0.15 | M55: 0 | N55: =B55+C55+D55+E55+F55+G55+H55+I55+J55+K55+L55+M55 -> 1
A56: თბილისის №3 სექტორი
A57: სექტორის უფროსი | B57: 0.1 | C57: 0.1 | D57: 0.1 | E57: 0.05 | F57: 0.1 | G57: 0.1 | H57: 0.1 | I57: 0.05 | J57: 0.05 | K57: 0.15 | L57: 0.1 | M57: 0 | N57: =B57+C57+D57+E57+F57+G57+H57+I57+J57+K57+L57+M57 -> 1
A58: უბნის საგადასახადო ოფიცერი | B58: 0.1 | C58: 0.05 | D58: 0.1 | E58: 0.05 | F58: 0.1 | G58: 0.1 | H58: 0.1 | I58: 0.05 | J58: 0.05 | K58: 0.15 | L58: 0.15 | M58: 0 | N58: =B58+C58+D58+E58+F58+G58+H58+I58+J58+K58+L58+M58 -> 1
A59: თბილისის №4 სექტორი
A60: სექტორის უფროსი | B60: 0.1 | C60: 0.1 | D60: 0.1 | E60: 0.05 | F60: 0.1 | G60: 0.1 | H60: 0.1 | I60: 0.05 | J60: 0.05 | K60: 0.15 | L60: 0.1 | M60: 0 | N60: =B60+C60+D60+E60+F60+G60+H60+I60+J60+K60+L60+M60 -> 1
A61: უბნის საგადასახადო ოფიცერი | B61: 0.1 | C61: 0.05 | D61: 0.1 | E61: 0.05 | F61: 0.1 | G61: 0.1 | H61: 0.1 | I61: 0.05 | J61: 0.05 | K61: 0.15 | L61: 0.15 | M61: 0 | N61: =B61+C61+D61+E61+F61+G61+H61+I61+J61+K61+L61+M61 -> 1
A62: თბილისის №5 სექტორი
A63: სექტორის უფროსი | B63: 0.1 | C63: 0.1 | D63: 0.1 | E63: 0.05 | F63: 0.1 | G63: 0.1 | H63: 0.1 | I63: 0.05 | J63: 0.05 | K63: 0.15 | L63: 0.1 | M63: 0 | N63: =B63+C63+D63+E63+F63+G63+H63+I63+J63+K63+L63+M63 -> 1
A64: უბნის საგადასახადო ოფიცერი | B64: 0.1 | C64: 0.05 | D64: 0.1 | E64: 0.05 | F64: 0.1 | G64: 0.1 | H64: 0.1 | I64: 0.05 | J64: 0.05 | K64: 0.15 | L64: 0.15 | M64: 0 | N64: =B64+C64+D64+E64+F64+G64+H64+I64+J64+K64+L64+M64 -> 1
A65: თბილისის №6 სექტორი
A66: სექტორის უფროსი | B66: 0.1 | C66: 0.1 | D66: 0.1 | E66: 0.05 | F66: 0.1 | G66: 0.1 | H66: 0.1 | I66: 0.05 | J66: 0.05 | K66: 0.15 | L66: 0.1 | M66: 0 | N66: =B66+C66+D66+E66+F66+G66+H66+I66+J66+K66+L66+M66 -> 1
A67: უბნის საგადასახადო ოფიცერი | B67: 0.1 | C67: 0.05 | D67: 0.1 | E67: 0.05 | F67: 0.1 | G67: 0.1 | H67: 0.1 | I67: 0.05 | J67: 0.05 | K67: 0.15 | L67: 0.15 | M67: 0 | N67: =B67+C67+D67+E67+F67+G67+H67+I67+J67+K67+L67+M67 -> 1
A68: მცხეთა-მთიანეთის სექტორი
A69: სექტორის უფროსი | B69: 0.1 | C69: 0.1 | D69: 0.1 | E69: 0.05 | F69: 0.1 | G69: 0.1 | H69: 0.1 | I69: 0.05 | J69: 0.05 | K69: 0.15 | L69: 0.1 | M69: 0 | N69: =B69+C69+D69+E69+F69+G69+H69+I69+J69+K69+L69+M69 -> 1
A70: უბნის საგადასახადო ოფიცერი | B70: 0.1 | C70: 0.05 | D70: 0.1 | E70: 0.05 | F70: 0.1 | G70: 0.1 | H70: 0.1 | I70: 0.05 | J70: 0.05 | K70: 0.15 | L70: 0.15 | M70: 0 | N70: =B70+C70+D70+E70+F70+G70+H70+I70+J70+K70+L70+M70 -> 1
A71: ქვემო ქართლის სექტორი
A72: სექტორის უფროსი | B72: 0.1 | C72: 0.1 | D72: 0.1 | E72: 0.05 | F72: 0.1 | G72: 0.1 | H72: 0.1 | I72: 0.05 | J72: 0.05 | K72: 0.15 | L72: 0.1 | M72: 0 | N72: =B72+C72+D72+E72+F72+G72+H72+I72+J72+K72+L72+M72 -> 1
A73: უბნის საგადასახადო ოფიცერი | B73: 0.1 | C73: 0.05 | D73: 0.1 | E73: 0.05 | F73: 0.1 | G73: 0.1 | H73: 0.1 | I73: 0.05 | J73: 0.05 | K73: 0.15 | L73: 0.15 | M73: 0 | N73: =B73+C73+D73+E73+F73+G73+H73+I73+J73+K73+L73+M73 -> 1
A74: შიდა ქართლის სექტორი
A75: სექტორის უფროსი | B75: 0.1 | C75: 0.1 | D75: 0.1 | E75: 0.05 | F75: 0.1 | G75: 0.1 | H75: 0.1 | I75: 0.05 | J75: 0.05 | K75: 0.15 | L75: 0.1 | M75: 0 | N75: =B75+C75+D75+E75+F75+G75+H75+I75+J75+K75+L75+M75 -> 1
A76: უბნის საგადასახადო ოფიცერი | B76: 0.1 | C76: 0.05 | D76: 0.1 | E76: 0.05 | F76: 0.1 | G76: 0.1 | H76: 0.1 | I76: 0.05 | J76: 0.05 | K76: 0.15 | L76: 0.15 | M76: 0 | N76: =B76+C76+D76+E76+F76+G76+H76+I76+J76+K76+L76+M76 -> 1
A77: კახეთის სექტორი
A78: სექტორის უფროსი | B78: 0.1 | C78: 0.1 | D78: 0.1 | E78: 0.05 | F78: 0.1 | G78: 0.1 | H78: 0.1 | I78: 0.05 | J78: 0.05 | K78: 0.15 | L78: 0.1 | M78: 0 | N78: =B78+C78+D78+E78+F78+G78+H78+I78+J78+K78+L78+M78 -> 1
A79: უბნის საგადასახადო ოფიცერი | B79: 0.1 | C79: 0.05 | D79: 0.1 | E79: 0.05 | F79: 0.1 | G79: 0.1 | H79: 0.1 | I79: 0.05 | J79: 0.05 | K79: 0.15 | L79: 0.15 | M79: 0 | N79: =B79+C79+D79+E79+F79+G79+H79+I79+J79+K79+L79+M79 -> 1
A80: სამცხე-ჯავახეთის სექტორი
A81: სექტორის უფროსი | B81: 0.1 | C81: 0.1 | D81: 0.1 | E81: 0.05 | F81: 0.1 | G81: 0.1 | H81: 0.1 | I81: 0.05 | J81: 0.05 | K81: 0.15 | L81: 0.1 | M81: 0 | N81: =B81+C81+D81+E81+F81+G81+H81+I81+J81+K81+L81+M81 -> 1
A82: უბნის საგადასახადო ოფიცერი | B82: 0.1 | C82: 0.05 | D82: 0.1 | E82: 0.05 | F82: 0.1 | G82: 0.1 | H82: 0.1 | I82: 0.05 | J82: 0.05 | K82: 0.15 | L82: 0.15 | M82: 0 | N82: =B82+C82+D82+E82+F82+G82+H82+I82+J82+K82+L82+M82 -> 1
A83: იმერეთისა და რაჭა-ლეჩხუმის სექტორი
A84: სექტორის უფროსი | B84: 0.1 | C84: 0.1 | D84: 0.1 | E84: 0.05 | F84: 0.1 | G84: 0.1 | H84: 0.1 | I84: 0.05 | J84: 0.05 | K84: 0.15 | L84: 0.1 | M84: 0 | N84: =B84+C84+D84+E84+F84+G84+H84+I84+J84+K84+L84+M84 -> 1
A85: უბნის საგადასახადო ოფიცერი | B85: 0.1 | C85: 0.05 | D85: 0.1 | E85: 0.05 | F85: 0.1 | G85: 0.1 | H85: 0.1 | I85: 0.05 | J85: 0.05 | K85: 0.15 | L85: 0.15 | M85: 0 | N85: =B85+C85+D85+E85+F85+G85+H85+I85+J85+K85+L85+M85 -> 1
A86: სამეგრელო-ზემო სვანეთის სექტორი
A87: სექტორის უფროსი | B87: 0.1 | C87: 0.1 | D87: 0.1 | E87: 0.05 | F87: 0.1 | G87: 0.1 | H87: 0.1 | I87: 0.05 | J87: 0.05 | K87: 0.15 | L87: 0.1 | M87: 0 | N87: =B87+C87+D87+E87+F87+G87+H87+I87+J87+K87+L87+M87 -> 1
A88: უბნის საგადასახადო ოფიცერი | B88: 0.1 | C88: 0.05 | D88: 0.1 | E88: 0.05 | F88: 0.1 | G88: 0.1 | H88: 0.1 | I88: 0.05 | J88: 0.05 | K88: 0.15 | L88: 0.15 | M88: 0 | N88: =B88+C88+D88+E88+F88+G88+H88+I88+J88+K88+L88+M88 -> 1
A89: გურიის სექტორი
A90: სექტორის უფროსი | B90: 0.1 | C90: 0.1 | D90: 0.1 | E90: 0.05 | F90: 0.1 | G90: 0.1 | H90: 0.1 | I90: 0.05 | J90: 0.05 | K90: 0.15 | L90: 0.1 | M90: 0 | N90: =B90+C90+D90+E90+F90+G90+H90+I90+J90+K90+L90+M90 -> 1
A91: უბნის საგადასახადო ოფიცერი | B91: 0.1 | C91: 0.05 | D91: 0.1 | E91: 0.05 | F91: 0.1 | G91: 0.1 | H91: 0.1 | I91: 0.05 | J91: 0.05 | K91: 0.15 | L91: 0.15 | M91: 0 | N91: =B91+C91+D91+E91+F91+G91+H91+I91+J91+K91+L91+M91 -> 1
A92: ფოთის სექტორი
A93: სექტორის უფროსი | B93: 0.1 | C93: 0.1 | D93: 0.1 | E93: 0.05 | F93: 0.1 | G93: 0.1 | H93: 0.1 | I93: 0.05 | J93: 0.05 | K93: 0.15 | L93: 0.1 | M93: 0 | N93: =B93+C93+D93+E93+F93+G93+H93+I93+J93+K93+L93+M93 -> 1
A94: უბნის საგადასახადო ოფიცერი | B94: 0.1 | C94: 0.05 | D94: 0.1 | E94: 0.05 | F94: 0.1 | G94: 0.1 | H94: 0.1 | I94: 0.05 | J94: 0.05 | K94: 0.15 | L94: 0.15 | M94: 0 | N94: =B94+C94+D94+E94+F94+G94+H94+I94+J94+K94+L94+M94 -> 1
A95: აჭარის სექტორი
A96: სექტორის უფროსი | B96: 0.1 | C96: 0.1 | D96: 0.1 | E96: 0.05 | F96: 0.1 | G96: 0.1 | H96: 0.1 | I96: 0.05 | J96: 0.05 | K96: 0.15 | L96: 0.1 | M96: 0 | N96: =B96+C96+D96+E96+F96+G96+H96+I96+J96+K96+L96+M96 -> 1
A97: უბნის საგადასახადო ოფიცერი | B97: 0.1 | C97: 0.05 | D97: 0.1 | E97: 0.05 | F97: 0.1 | G97: 0.1 | H97: 0.1 | I97: 0.05 | J97: 0.05 | K97: 0.15 | L97: 0.15 | M97: 0 | N97: =B97+C97+D97+E97+F97+G97+H97+I97+J97+K97+L97+M97 -> 1
A98: სათამაშო ბიზნესის რეგულირების სამმართველო
A99: სამმართველოს უფროსი | B99: 0.1 | C99: 0.1 | D99: 0.1 | E99: 0.05 | F99: 0.1 | G99: 0.1 | H99: 0.05 | I99: 0.05 | J99: 0.1 | K99: 0.1 | L99: 0.15 | M99: 0 | N99: =B99+C99+D99+E99+F99+G99+H99+I99+J99+K99+L99+M99 -> 1
A100: ნებართვების გაცემის განყოფილება
...

Sheet პროფესიული ეთიკისა მონიტორინგის
A1: პოზიცია | B1: ხარისხის, რისკებისა და ოპერაციების მართვა | C1: ლიდერობა და მართვა | D1: გუნდურობა | E1: პროაქტიურობა/ინიციატივა | F1: პრობლემის გადაჭრა/გადაწყვეტილების მიღება | G1: ზეპირი და წერილობითი კომუნიკაცია | H1: ანალიტიკური აზროვნება | I1: საბაზისო კომპიუტერული კომპეტენციები | J1: სტრატეგია და ხედვა | K1: სპეციფიური პროგრამული კომპეტენციები | L1: კანონმდებლობა
A2: პროფესიული ეთიკის და მონიტორინგის დეპარტამენტი
A3: დეპარტამენტის უფროსი | B3: 0.15 | C3: 0.15 | D3: 0.05 | E3: 0.1 | F3: 0.15 | G3: 0.1 | H3: 0.05 | I3: 0.05 | J3: 0.1 | K3: 0.05 | L3: 0.05 | M3: =B3+C3+D3+E3+F3+G3+H3+I3+J3+K3+L3 -> 1
A4: დეპარტამენტის უფროსის მოადგილე | B4: 0.15 | C4: 0.15 | D4: 0.05 | E4: 0.1 | F4: 0.15 | G4: 0.1 | H4: 0.05 | I4: 0.05 | J4: 0.1 | K4: 0.05 | L4: 0.05 | M4: =B4+C4+D4+E4+F4+G4+H4+I4+J4+K4+L4 -> 1
A5: მრჩეველი | B5: 0.1 | C5: 0.05 | D5: 0.1 | E5: 0.05 | F5: 0.1 | G5: 0.1 | H5: 0.1 | I5: 0.05 | J5: 0.05 | K5: 0.15 | L5: 0.15 | M5: =B5+C5+D5+E5+F5+G5+H5+I5+J5+K5+L5 -> 1
A6: მთავარი ოპერატიული ოფიცერი | B6: 0.1 | C6: 0.05 | D6: 0.1 | E6: 0.05 | F6: 0.1 | G6: 0.1 | H6: 0.1 | I6: 0.05 | J6: 0.05 | K6: 0.15 | L6: 0.15 | M6: =B6+C6+D6+E6+F6+G6+H6+I6+J6+K6+L6 -> 1
A7: მთავარი მონიტორ-ოფიცერი | B7: 0.1 | C7: 0.05 | D7: 0.1 | E7: 0.05 | F7: 0.1 | G7: 0.1 | H7: 0.1 | I7: 0.05 | J7: 0.05 | K7: 0.15 | L7: 0.15 | M7: =B7+C7+D7+E7+F7+G7+H7+I7+J7+K7+L7 -> 1
A8: უფროსი მონიტორ-ოფიცერი | B8: 0.1 | C8: 0.05 | D8: 0.1 | E8: 0.05 | F8: 0.1 | G8: 0.1 | H8: 0.1 | I8: 0.05 | J8: 0.05 | K8: 0.15 | L8: 0.15 | M8: =B8+C8+D8+E8+F8+G8+H8+I8+J8+K8+L8 -> 1
A9: უფროსი ოპერატიული ოფიცერი | B9: 0.1 | C9: 0.05 | D9: 0.1 | E9: 0.05 | F9: 0.1 | G9: 0.1 | H9: 0.1 | I9: 0.05 | J9: 0.05 | K9: 0.15 | L9: 0.15 | M9: =B9+C9+D9+E9+F9+G9+H9+I9+J9+K9+L9 -> 1
A10: ოპერატიული ოფიცერი | B10: 0.1 | C10: 0.05 | D10: 0.1 | E10: 0.05 | F10: 0.1 | G10: 0.1 | H10: 0.1 | I10: 0.05 | J10: 0.05 | K10: 0.15 | L10: 0.15 | M10: =B10+C10+D10+E10+F10+G10+H10+I10+J10+K10+L10 -> 1
A11: უფროსი სპეციალისტი | B11: 0.1 | C11: 0.05 | D11: 0.1 | E11: 0.05 | F11: 0.1 | G11: 0.1 | H11: 0.1 | I11: 0.05 | J11: 0.05 | K11: 0.15 | L11: 0.15 | M11: =B11+C11+D11+E11+F11+G11+H11+I11+J11+K11+L11 -> 1

Sheet შიდა აუდიტის დეპარტამენტი
A1: პოზიცია | B1: ხარისხის, რისკებისა და ოპერაციების მართვა | C1: ლიდერობა და მართვა | D1: გუნდურობა | E1: პროაქტიურობა/ინიციატივა | F1: პრობლემის გადაჭრა/გადაწყვეტილების მიღება | G1: ზეპირი და წერილობითი კომუნიკაცია | H1: ანალიტიკური აზროვნება | I1: საბაზისო კომპიუტერული კომპეტენციები | J1: სტრატეგია და ხედვა | K1: სპეციფიური პროგრამული კომპეტენციები | L1: კანონმდებლობა
A2: შიდა აუდიტის დეპარტამენტი
A3: დეპარტამენტის უფროსი | B3: 0.15 | C3: 0.15 | D3: 0.05 | E3: 0.1 | F3: 0.15 | G3: 0.1 | H3: 0.05 | I3: 0.05 | J3: 0.1 | K3: 0.05 | L3: 0.05 | M3: =B3+C3+D3+E3+F3+G3+H3+I3+J3+K3+L3 -> 1
A4: მთავარი აუდიტორი | B4: 0.1 | C4: 0.05 | D4: 0.1 | E4: 0.05 | F4: 0.1 | G4: 0.1 | H4: 0.1 | I4: 0.1 | J4: 0.05 | K4: 0.1 | L4: 0.15 | M4: =B4+C4+D4+E4+F4+G4+H4+I4+J4+K4+L4 -> 1

Sheet ანალიტიკური დეპარტამენტი
A1: პოზიცია | B1: ხარისხის, რისკებისა და ოპერაციების მართვა | C1: ლიდერობა და მართვა | D1: გუნდურობა | E1: პროაქტიურობა/ინიციატივა | F1: პრობლემის გადაჭრა/გადაწყვეტილების მიღება | G1: ზეპირი და წერილობითი კომუნიკაცია | H1: ანალიტიკური აზროვნება | I1: საბაზისო კომპიუტერული კომპეტენციები | J1: სტრატეგია და ხედვა | K1: სპეციფიური პროგრამული კომპეტენციები | L1: კანონმდებლობა
A2: ანალიტიკური დეპარტამენტი
A3: დეპარტამენტის უფროსი | B3: 0.15 | C3: 0.1 | D3: 0.05 | E3: 0.1 | F3: 0.15 | G3: 0.1 | H3: 0.1 | I3: 0.05 | J3: 0.1 | K3: 0.05 | L3: 0.05 | M3: =B3+C3+D3+E3+F3+G3+H3+I3+J3+K3+L3 -> 1
A4: დეპარტამენტის უფროსის მოადგილე | B4: 0.15 | C4: 0.1 | D4: 0.05 | E4: 0.1 | F4: 0.15 | G4: 0.1 | H4: 0.1 | I4: 0.05 | J4: 0.1 | K4: 0.05 | L4: 0.05 | M4: =B4+C4+D4+E4+F4+G4+H4+I4+J4+K4+L4 -> 1
A5: სპეციალისტი | B5: 0.1 | C5: 0.05 | D5: 0.1 | E5: 0.05 | F5: 0.1 | G5: 0.1 | H5: 0.15 | I5: 0.1 | J5: 0.05 | K5: 0.15 | L5: 0.05 | M5: =B5+C5+D5+E5+F5+G5+H5+I5+J5+K5+L5 -> 1
A6: საგადასახადო რისკების მართვის სამმართველო
A7: სამმართველოს უფროსი | B7: 0.1 | C7: 0.1 | D7: 0.1 | E7: 0.1 | F7: 0.1 | G7: 0.05 | H7: 0.15 | I7: 0.05 | J7: 0.05 | K7: 0.15 | L7: 0.05 | M7: =B7+C7+D7+E7+F7+G7+H7+I7+J7+K7+L7 -> 1
A8: სამმართველოს უფროსის მოადგილე | B8: 0.1 | C8: 0.1 | D8: 0.1 | E8: 0.1 | F8: 0.1 | G8: 0.05 | H8: 0.15 | I8: 0.05 | J8: 0.05 | K8: 0.15 | L8: 0.05 | M8: =B8+C8+D8+E8+F8+G8+H8+I8+J8+K8+L8 -> 1
A9: მთავარი ანალიტიკოსი | B9: 0.1 | C9: 0.05 | D9: 0.1 | E9: 0.1 | F9: 0.1 | G9: 0.05 | H9: 0.15 | I9: 0.05 | J9: 0.05 | K9: 0.2 | L9: 0.05 | M9: =B9+C9+D9+E9+F9+G9+H9+I9+J9+K9+L9 -> 1
A10: უფროსი ანალიტიკოსი | B10: 0.1 | C10: 0.05 | D10: 0.1 | E10: 0.1 | F10: 0.1 | G10: 0.05 | H10: 0.15 | I10: 0.05 | J10: 0.05 | K10: 0.2 | L10: 0.05 | M10: =B10+C10+D10+E10+F10+G10+H10+I10+J10+K10+L10 -> 1
A11: ანალიტიკოსი | B11: 0.1 | C11: 0.05 | D11: 0.1 | E11: 0.1 | F11: 0.1 | G11: 0.05 | H11: 0.15 | I11: 0.05 | J11: 0.05 | K11: 0.2 | L11: 0.05 | M11: =B11+C11+D11+E11+F11+G11+H11+I11+J11+K11+L11 -> 1
A12: ინფორმაციის დამუშავების და ანალიზის სამმართველო
A13: სამმართველოს უფროსი | B13: 0.1 | C13: 0.2 | D13: 0.05 | E13: 0.1 | F13: 0.1 | G13: 0.1 | H13: 0.15 | I13: 0.05 | J13: 0.1 | K13: 0.05 | L13: 0 | M13: =B13+C13+D13+E13+F13+G13+H13+I13+J13+K13+L13 -> 1
A14: სამმართველოს უფროსის მოადგილე | B14: 0.1 | C14: 0.2 | D14: 0.05 | E14: 0.1 | F14: 0.1 | G14: 0.1 | H14: 0.15 | I14: 0.05 | J14: 0.1 | K14: 0.05 | L14: 0 | M14: =B14+C14+D14+E14+F14+G14+H14+I14+J14+K14+L14 -> 1
A15: მთავარი ანალიტიკოსი | B15: 0.15 | C15: 0.1 | D15: 0.1 | E15: 0.1 | F15: 0.1 | G15: 0.1 | H15: 0.15 | I15: 0.05 | J15: 0.05 | K15: 0.1 | L15: 0 | M15: =B15+C15+D15+E15+F15+G15+H15+I15+J15+K15+L15 -> 1
A16: უფროსი ანალიტიკოსი | B16: 0.15 | C16: 0.1 | D16: 0.1 | E16: 0.1 | F16: 0.1 | G16: 0.1 | H16: 0.15 | I16: 0.05 | J16: 0.05 | K16: 0.1 | L16: 0 | M16: =B16+C16+D16+E16+F16+G16+H16+I16+J16+K16+L16 -> 1
A17: ანალიტიკური საინფორმაციო ბაზების განვითარების სამმართველო
A18: სამმართველოს უფროსი | B18: 0.15 | C18: 0.1 | D18: 0.1 | E18: 0.05 | F18: 0.1 | G18: 0.05 | H18: 0.1 | I18: 0.05 | J18: 0.1 | K18: 0.2 | L18: 0 | M18: =B18+C18+D18+E18+F18+G18+H18+I18+J18+K18+L18 -> 1
A19: სამმართველოს უფროსის მოადგილე | B19: 0.15 | C19: 0.1 | D19: 0.1 | E19: 0.05 | F19: 0.1 | G19: 0.05 | H19: 0.1 | I19: 0.05 | J19: 0.1 | K19: 0.2 | L19: 0 | M19: =B19+C19+D19+E19+F19+G19+H19+I19+J19+K19+L19 -> 1
A20: მთავარი ანალიტიკოსი | B20: 0.15 | C20: 0.05 | D20: 0.1 | E20: 0.05 | F20: 0.1 | G20: 0.05 | H20: 0.1 | I20: 0.05 | J20: 0.1 | K20: 0.25 | L20: 0 | M20: =B20+C20+D20+E20+F20+G20+H20+I20+J20+K20+L20 -> 1
A21: უფროსი ანალიტიკოსი | B21: 0.15 | C21: 0.05 | D21: 0.1 | E21: 0.05 | F21: 0.1 | G21: 0.05 | H21: 0.1 | I21: 0.05 | J21: 0.1 | K21: 0.25 | L21: 0 | M21: =B21+C21+D21+E21+F21+G21+H21+I21+J21+K21+L21 -> 1
A22: ანალიტიკოსი | B22: 0.15 | C22: 0.05 | D22: 0.1 | E22: 0.05 | F22: 0.1 | G22: 0.05 | H22: 0.1 | I22: 0.05 | J22: 0.1 | K22: 0.25 | L22: 0 | M22: =B22+C22+D22+E22+F22+G22+H22+I22+J22+K22+L22 -> 1
A23: საგადასახადო შეთანხმებების სამმართველო
A24: სამმართველოს უფროსი | B24: 0.1 | C24: 0.2 | D24: 0.05 | E24: 0.1 | F24: 0.1 | G24: 0.1 | H24: 0.15 | I24: 0.02 | J24: 0.1 | K24: 0.03 | L24: 0.05 | M24: =B24+C24+D24+E24+F24+G24+H24+I24+J24+K24+L24 -> 1
A25: სამმართველოს უფროსის მოადგილე | B25: 0.1 | C25: 0.2 | D25: 0.05 | E25: 0.1 | F25: 0.1 | G25: 0.1 | H25: 0.15 | I25: 0.02 | J25: 0.1 | K25: 0.03 | L25: 0.05 | M25: =B25+C25+D25+E25+F25+G25+H25+I25+J25+K25+L25 -> 1
A26: მთავარი სპეციალისტი | B26: 0.15 | C26: 0.1 | D26: 0.1 | E26: 0.1 | F26: 0.1 | G26: 0.1 | H26: 0.15 | I26: 0.05 | J26: 0.05 | K26: 0.05 | L26: 0.05 | M26: =B26+C26+D26+E26+F26+G26+H26+I26+J26+K26+L26 -> 1
A27: უფროსი სპეციალისტი | B27: 0.15 | C27: 0.1 | D27: 0.1 | E27: 0.1 | F27: 0.1 | G27: 0.1 | H27: 0.15 | I27: 0.05 | J27: 0.05 | K27: 0.05 | L27: 0.05 | M27: =B27+C27+D27+E27+F27+G27+H27+I27+J27+K27+L27 -> 1
A28: სპეციალისტი | B28: 0.15 | C28: 0.1 | D28: 0.1 | E28: 0.1 | F28: 0.1 | G28: 0.1 | H28: 0.15 | I28: 0.05 | J28: 0.05 | K28: 0.05 | L28: 0.05 | M28: =B28+C28+D28+E28+F28+G28+H28+I28+J28+K28+L28 -> 1
A29: საგადასახადო დავალიანების მართვის პოლიტიკის სამმართველო
A30: სამმართველოს უფროსი | B30: 0.1 | C30: 0.1 | D30: 0.1 | E30: 0.1 | F30: 0.1 | G30: 0.1 | H30: 0.1 | I30: 0.05 | J30: 0.05 | K30: 0.1 | L30: 0.1 | M30: =B30+C30+D30+E30+F30+G30+H30+I30+J30+K30+L30 -> 1
A31: სამმართველოს უფროსის მოადგილე | B31: 0.1 | C31: 0.1 | D31: 0.1 | E31: 0.1 | F31: 0.1 | G31: 0.1 | H31: 0.1 | I31: 0.05 | J31: 0.05 | K31: 0.1 | L31: 0.1 | M31: =B31+C31+D31+E31+F31+G31+H31+I31+J31+K31+L31 -> 1
A32: მთავარი ოფიცერი | B32: 0.1 | C32: 0.05 | D32: 0.1 | E32: 0.1 | F32: 0.1 | G32: 0.1 | H32: 0.1 | I32: 0.05 | J32: 0.05 | K32: 0.15 | L32: 0.1 | M32: =B32+C32+D32+E32+F32+G32+H32+I32+J32+K32+L32 -> 1
A33: უფროსი ოფიცერი | B33: 0.1 | C33: 0.05 | D33: 0.1 | E33: 0.1 | F33: 0.1 | G33: 0.1 | H33: 0.1 | I33: 0.05 | J33: 0.05 | K33: 0.15 | L33: 0.1 | M33: =B33+C33+D33+E33+F33+G33+H33+I33+J33+K33+L33 -> 1
A34: ოფიცერი | B34: 0.1 | C34: 0.05 | D34: 0.1 | E34: 0.1 | F34: 0.1 | G34: 0.1 | H34: 0.1 | I34: 0.05 | J34: 0.05 | K34: 0.15 | L34: 0.1 | M34: =B34+C34+D34+E34+F34+G34+H34+I34+J34+K34+L34 -> 1
A35: გადახდევინებისგან თავის არიდების გამოვლენის სამმართველო
A36: სამმართველოს უფროსი | B36: 0.1 | C36: 0.1 | D36: 0.1 | E36: 0.1 | F36: 0.1 | G36: 0.1 | H36: 0.1 | I36: 0.05 | J36: 0.05 | K36: 0.1 | L36: 0.1 | M36: =B36+C36+D36+E36+F36+G36+H36+I36+J36+K36+L36 -> 1
A37: სამმართველოს უფროსის მოადგილე | B37: 0.1 | C37: 0.1 | D37: 0.1 | E37: 0.1 | F37: 0.1 | G37: 0.1 | H37: 0.1 | I37: 0.05 | J37: 0.05 | K37: 0.1 | L37: 0.1 | M37: =B37+C37+D37+E37+F37+G37+H37+I37+J37+K37+L37 -> 1
A38: მთავარი ოფიცერი | B38: 0.1 | C38: 0.05 | D38: 0.1 | E38: 0.1 | F38: 0.1 | G38: 0.1 | H38: 0.1 | I38: 0.05 | J38: 0.05 | K38: 0.15 | L38: 0.1 | M38: =B38+C38+D38+E38+F38+G38+H38+I38+J38+K38+L38 -> 1
A39: უფროსი ოფიცერი | B39: 0.1 | C39: 0.05 | D39: 0.1 | E39: 0.1 | F39: 0.1 | G39: 0.1 | H39: 0.1 | I39: 0.05 | J39: 0.05 | K39: 0.15 | L39: 0.1 | M39: =B39+C39+D39+E39+F39+G39+H39+I39+J39+K39+L39 -> 1
A40: ოფიცერი | B40: 0.1 | C40: 0.05 | D40: 0.1 | E40: 0.05 | F40: 0.1 | G40: 0.1 | H40: 0.1 | I40: 0.05 | J40: 0.05 | K40: 0.15 | L40: 0.15 | M40: =B40+C40+D40+E40+F40+G40+H40+I40+J40+K40+L40 -> 1
A41: გადახდევინების უზრუნველყოფის სამმართველო
A42: სამმართველოს უფროსი | B42: 0.15 | C42: 0.1 | D42: 0.1 | E42: 0.1 | F42: 0.15 | G42: 0.15 | H42: 0.1 | I42: 0.05 | J42: 0.05 | K42: 0.05 | L42: 0 | M42: =B42+C42+D42+E42+F42+G42+H42+I42+J42+K42+L42 -> 1
A43: მთავარი ოფიცერი | B43: 0.15 | C43: 0.05 | D43: 0.1 | E43: 0.1 | F43: 0.15 | G43: 0.15 | H43: 0.1 | I43: 0.05 | J43: 0.05 | K43: 0.1 | L43: 0 | M43: =B43+C43+D43+E43+F43+G43+H43+I43+J43+K43+L43 -> 1
A44: უფროსი ოფიცერი | B44: 0.15 | C44: 0.05 | D44: 0.1 | E44: 0.1 | F44: 0.15 | G44: 0.15 | H44: 0.1 | I44: 0.05 | J44: 0.05 | K44: 0.1 | L44: 0 | M44: =B44+C44+D44+E44+F44+G44+H44+I44+J44+K44+L44 -> 1

Sheet საგადასახადო და საბაჟო მეთოდ.
A1: პოზიცია | B1: ხარისხის, რისკებისა და ოპერაციების მართვა | C1: ლიდერობა და მართვა | D1: გუნდურობა | E1: პროაქტიურობა/ინიციატივა | F1: პრობლემის გადაჭრა/გადაწყვეტილების მიღება | G1: ზეპირი და წერილობითი კომუნიკაცია | H1: ანალიტიკური აზროვნება | I1: საბაზისო კომპიუტერული კომპეტენციები | J1: სპეციფიური პროგრამული კომპეტენციები | K1: სტრატეგია და ხედვა | L1: კანონმდებლობა | M1: უცხო ენა
A2: საგადასახადო და საბაჟო მეთოდოლოგიის დეპარტამენტი
A3: დეპარტამენტის უფროსი | B3: 0.15 | C3: 0.1 | D3: 0.05 | E3: 0.1 | F3: 0.1 | G3: 0.1 | H3: 0.1 | I3: 0.05 | J3: 0 | K3: 0.1 | L3: 0.15 | M3: 0 | N3: =B3+C3+D3+E3+F3+G3+H3+I3+K3+L3+M3 -> 1
A4: დეპარტამენტის უფროსის მოადგილე | B4: 0.15 | C4: 0.1 | D4: 0.05 | E4: 0.1 | F4: 0.1 | G4: 0.1 | H4: 0.1 | I4: 0.05 | J4: 0 | K4: 0.1 | L4: 0.15 | M4: 0 | N4: =B4+C4+D4+E4+F4+G4+H4+I4+K4+L4+M4 -> 1
A5: თანაშემწე | B5: 0.15 | C5: 0.05 | D5: 0.1 | E5: 0.1 | F5: 0.1 | G5: 0.15 | H5: 0.1 | I5: 0.1 | J5: 0 | K5: 0.05 | L5: 0.05 | M5: 0.05 | N5: =B5+C5+D5+E5+F5+G5+H5+I5+K5+L5+M5 -> 1
A6: საგადასახადო კონტროლის მეთოდოლოგიის სამმართველო
A7: სამმართველოს უფროსი | B7: 0.11 | C7: 0.15 | D7: 0.1 | E7: 0.11 | F7: 0.11 | G7: 0.06 | H7: 0.11 | I7: 0.02 | J7: 0 | K7: 0.11 | L7: 0.1 | M7: 0.02 | N7: =B7+C7+D7+E7+F7+G7+H7+I7+J7+K7+L7+M7 -> 1
A8: სამმართველოს უფროსის მოადგილე | B8: 0.11 | C8: 0.15 | D8: 0.1 | E8: 0.11 | F8: 0.11 | G8: 0.06 | H8: 0.11 | I8: 0.02 | J8: 0 | K8: 0.11 | L8: 0.1 | M8: 0.02 | N8: =B8+C8+D8+E8+F8+G8+H8+I8+J8+K8+L8+M8 -> 1
A9: მთავარი სპეციალისტი | B9: 0.15 | C9: 0.05 | D9: 0.05 | E9: 0.05 | F9: 0.15 | G9: 0.15 | H9: 0.07 | I9: 0.03 | J9: 0.03 | K9: 0.07 | L9: 0.15 | M9: 0.05 | N9: =B9+C9+D9+E9+F9+G9+H9+I9+J9+K9+L9+M9 -> 1
A10: უფროსი სპეციალისტი | B10: 0.15 | C10: 0.05 | D10: 0.05 | E10: 0.05 | F10: 0.15 | G10: 0.15 | H10: 0.07 | I10: 0.03 | J10: 0.03 | K10: 0.07 | L10: 0.15 | M10: 0.05 | N10: =B10+C10+D10+E10+F10+G10+H10+I10+J10+K10+L10+M10 -> 1
A11: სპეციალისტი | B11: 0.15 | C11: 0.05 | D11: 0.05 | E11: 0.05 | F11: 0.15 | G11: 0.15 | H11: 0.07 | I11: 0.03 | J11: 0.03 | K11: 0.07 | L11: 0.15 | M11: 0.05 | N11: =B11+C11+D11+E11+F11+G11+H11+I11+J11+K11+L11+M11 -> 1
A12: დაბეგვრისა და ანგარიშგების მეთოდოლოგიის სამმართველო
A13: სამმართველოს უფროსი | B13: 0.1 | C13: 0.1 | D13: 0.07 | E13: 0.07 | F13: 0.12 | G13: 0.12 | H13: 0.1 | I13: 0.05 | J13: 0 | K13: 0.07 | L13: 0.15 | M13: 0.05 | N13: =B13+C13+D13+E13+F13+G13+H13+I13++J13+K13+L13+M13 -> 1
A14: სამმართველოს უფროსის მოადგილე | B14: 0.1 | C14: 0.1 | D14: 0.07 | E14: 0.07 | F14: 0.12 | G14: 0.12 | H14: 0.1 | I14: 0.05 | J14: 0 | K14: 0.07 | L14: 0.15 | M14: 0.05 | N14: =B14+C14+D14+E14+F14+G14+H14+I14++J14+K14+L14+M14 -> 1
A15: მთავარი სპეციალისტი | B15: 0.1 | C15: 0.09 | D15: 0.1 | E15: 0.08 | F15: 0.12 | G15: 0.1 | H15: 0.1 | I15: 0.06 | J15: 0 | K15: 0.05 | L15: 0.15 | M15: 0.05 | N15: =B15+C15+D15+E15+F15+G15+H15+I15++J15+K15+L15+M15 -> 1
A16: უფროსი სპეციალისტი | B16: 0.1 | C16: 0.09 | D16: 0.1 | E16: 0.08 | F16: 0.12 | G16: 0.1 | H16: 0.1 | I16: 0.06 | J16: 0 | K16: 0.05 | L16: 0.15 | M16: 0.05 | N16: =B16+C16+D16+E16+F16+G16+H16+I16++J16+K16+L16+M16 -> 1
A17: სპეციალისტი | B17: 0.1 | C17: 0.09 | D17: 0.1 | E17: 0.08 | F17: 0.12 | G17: 0.1 | H17: 0.1 | I17: 0.06 | J17: 0 | K17: 0.05 | L17: 0.15 | M17: 0.05 | N17: =B17+C17+D17+E17+F17+G17+H17+I17++J17+K17+L17+M17 -> 1
A18: საბაჟო მეთოდოლოგიის სამმართველო
A19: სამმართველოს უფროსი | B19: 0.1 | C19: 0.1 | D19: 0.08 | E19: 0.08 | F19: 0.1 | G19: 0.1 | H19: 0.08 | I19: 0.05 | J19: 0 | K19: 0.09 | L19: 0.2 | M19: 0.02 | N19: =B19+C19+D19+E19+F19+G19+H19+I19+J19+K19+L19+M19 -> 1
A20: სამმართველოს უფროსის მოადგილე | B20: 0.1 | C20: 0.1 | D20: 0.08 | E20: 0.08 | F20: 0.1 | G20: 0.1 | H20: 0.08 | I20: 0.05 | J20: 0 | K20: 0.09 | L20: 0.2 | M20: 0.02 | N20: =B20+C20+D20+E20+F20+G20+H20+I20+J20+K20+L20+M20 -> 1
A21: მთავარი სპეციალისტი | B21: 0.1 | C21: 0.07 | D21: 0.08 | E21: 0.08 | F21: 0.1 | G21: 0.15 | H21: 0.1 | I21: 0.05 | J21: 0 | K21: 0.05 | L21: 0.2 | M21: 0.02 | N21: =B21+C21+D21+E21+F21+G21+H21+I21+J21+K21+L21+M21 -> 1
A22: უფროსი სპეციალისტი | B22: 0.1 | C22: 0.07 | D22: 0.08 | E22: 0.08 | F22: 0.1 | G22: 0.15 | H22: 0.1 | I22: 0.05 | J22: 0 | K22: 0.05 | L22: 0.2 | M22: 0.02 | N22: =B22+C22+D22+E22+F22+G22+H22+I22+J22+K22+L22+M22 -> 1
A23: სპეციალისტი | B23: 0.1 | C23: 0.06 | D23: 0.08 | E23: 0.08 | F23: 0.1 | G23: 0.15 | H23: 0.1 | I23: 0.06 | J23: 0 | K23: 0.05 | L23: 0.2 | M23: 0.02 | N23: =B23+C23+D23+E23+F23+G23+H23+I23+J23+K23+L23+M23 -> 1
A24: გადამხდელთა განათლებისა და მომსახურების მეთოდოლოგიის სამმართველო
A25: სამმართველოს უფროსი | B25: 0.11 | C25: 0.11 | D25: 0.05 | E25: 0.11 | F25: 0.11 | G25: 0.1 | H25: 0.11 | I25: 0.03 | J25: 0.02 | K25: 0.1 | L25: 0.1 | M25: 0.05 | N25: =B25+C25+D25+E25+F25+G25+H25+I25+K25+L25+M25+J25 -> 1
A26: მთავარი სპეციალისტი | B26: 0.1 | C26: 0.05 | D26: 0.03 | E26: 0.05 | F26: 0.1 | G26: 0.13 | H26: 0.15 | I26: 0.06 | J26: 0.06 | K26: 0.1 | L26: 0.12 | M26: 0.05 | N26: =B26+C26+D26+E26+F26+G26+H26+I26+K26+L26+M26+J26 -> 1
A27: მთავარი ანალიტიკოსი | B27: 0.1 | C27: 0.05 | D27: 0.03 | E27: 0.05 | F27: 0.1 | G27: 0.13 | H27: 0.15 | I27: 0.06 | J27: 0.06 | K27: 0.1 | L27: 0.12 | M27: 0.05 | N27: =B27+C27+D27+E27+F27+G27+H27+I27+K27+L27+M27+J27 -> 1
A28: უფროსი სპეციალისტი | B28: 0.1 | C28: 0.05 | D28: 0.03 | E28: 0.05 | F28: 0.1 | G28: 0.13 | H28: 0.15 | I28: 0.06 | J28: 0.06 | K28: 0.1 | L28: 0.12 | M28: 0.05 | N28: =B28+C28+D28+E28+F28+G28+H28+I28+K28+L28+M28+J28 -> 1
A29: ზოგადი ადმინისტრირების მეთოდოლოგიის სამმართველო
A30: სამმართველოს უფროსი | B30: 0.1 | C30: 0.1 | D30: 0.09 | E30: 0.1 | F30: 0.1 | G30: 0.1 | H30: 0.1 | I30: 0.02 | J30: 0.02 | K30: 0.06 | L30: 0.2 | M30: 0.01 | N30: =B30+C30+D30+E30+F30+G30+H30+I30+K30+L30+M30+J30 -> 1
A31: მთავარი სპეციალისტი | B31: 0.1 | C31: 0.04 | D31: 0.08 | E31: 0.1 | F31: 0.11 | G31: 0.14 | H31: 0.1 | I31: 0.03 | J31: 0.03 | K31: 0.05 | L31: 0.2 | M31: 0.02 | N31: =B31+C31+D31+E31+F31+G31+H31+I31+K31+L31+M31+J31 -> 1
A32: სპეციალისტი | B32: 0.1 | C32: 0.04 | D32: 0.08 | E32: 0.1 | F32: 0.11 | G32: 0.14 | H32: 0.1 | I32: 0.03 | J32: 0.03 | K32: 0.05 | L32: 0.2 | M32: 0.02 | N32: =B32+C32+D32+E32+F32+G32+H32+I32+K32+L32+M32+J32 -> 1
A33: მომსახურების ხარისხის კონტროლის სამმართველო
A34: სამმართველოს უფროსი | B34: 0.1 | C34: 0.1 | D34: 0.05 | E34: 0.1 | F34: 0.11 | G34: 0.1 | H34: 0.1 | I34: 0.03 | J34: 0.03 | K34: 0.1 | L34: 0.08 | M34: 0.1 | N34: 1
A35: მთავარი სპეციალისტი | B35: 0.09 | C35: 0.05 | D35: 0.05 | E35: 0.06 | F35: 0.08 | G35: 0.11 | H35: 0.1 | I35: 0.06 | J35: 0.08 | K35: 0.1 | L35: 0.12 | M35: 0.1 | N35: 1

Sheet იურიდიული დეპარტამენტი
A1: პოზიცია | B1: ხარისხის, რისკებისა და ოპერაციების მართვა | C1: ლიდერობა და მართვა | D1: გუნდურობა | E1: პროაქტიურობა/ინიციატივა | F1: პრობლემის გადაჭრა/გადაწყვეტილების მიღება | G1: ზეპირი და წერილობითი კომუნიკაცია | H1: ანალიტიკური აზროვნება | I1: საბაზისო კომპიუტერული კომპეტენციები | J1: სტრატეგია და ხედვა | K1: კანონმდებლობა
A2: იურიდიული დეპარტამენტი
A3: დეპარტამენტის უფროსი | B3: 0.15 | C3: 0.1 | D3: 0.05 | E3: 0.1 | F3: 0.1 | G3: 0.1 | H3: 0.1 | I3: 0.05 | J3: 0.1 | K3: 0.15 | L3: =B3+C3+D3+E3+F3+G3+H3+I3+J3+K3 -> 1
A4: დეპარტამენტის უფროსის მოადგილე | B4: 0.15 | C4: 0.1 | D4: 0.05 | E4: 0.1 | F4: 0.1 | G4: 0.1 | H4: 0.1 | I4: 0.05 | J4: 0.1 | K4: 0.15 | L4: =B4+C4+D4+E4+F4+G4+H4+I4+J4+K4 -> 1
A5: თანაშემწე | B5: 0.15 | C5: 0.05 | D5: 0.05 | E5: 0.05 | F5: 0.15 | G5: 0.15 | H5: 0.15 | I5: 0.1 | J5: 0.05 | K5: 0.1 | L5: =B5+C5+D5+E5+F5+G5+H5+I5+J5+K5 -> 1
A6: სამართლებრივი უზრუნველყოფის სამმართველო
A7: სამმართველოს უფროსი | B7: 0.15 | C7: 0.1 | D7: 0.1 | E7: 0.05 | F7: 0.1 | G7: 0.1 | H7: 0.1 | I7: 0.05 | J7: 0.05 | K7: 0.2 | L7: =B7+C7+D7+E7+F7+G7+H7+I7+J7+K7 -> 1
A8: მრჩეველი | B8: 0.1 | C8: 0.05 | D8: 0.1 | E8: 0.05 | F8: 0.1 | G8: 0.15 | H8: 0.1 | I8: 0.1 | J8: 0.05 | K8: 0.2 | L8: =B8+C8+D8+E8+F8+G8+H8+I8+J8+K8 -> 1
A9: მთავარი სპეციალისტი | B9: 0.1 | C9: 0.05 | D9: 0.1 | E9: 0.05 | F9: 0.1 | G9: 0.15 | H9: 0.1 | I9: 0.1 | J9: 0.05 | K9: 0.2 | L9: =B9+C9+D9+E9+F9+G9+H9+I9+J9+K9 -> 1
A10: უფროსი სპეციალისტი | B10: 0.1 | C10: 0.05 | D10: 0.1 | E10: 0.05 | F10: 0.1 | G10: 0.15 | H10: 0.1 | I10: 0.1 | J10: 0.05 | K10: 0.2 | L10: =B10+C10+D10+E10+F10+G10+H10+I10+J10+K10 -> 1
A11: სპეციალისტი | B11: 0.1 | C11: 0.05 | D11: 0.1 | E11: 0.05 | F11: 0.05 | G11: 0.15 | H11: 0.1 | I11: 0.15 | J11: 0.05 | K11: 0.2 | L11: =B11+C11+D11+E11+F11+G11+H11+I11+J11+K11 -> 1
A12: წინასწარი გადაწყვეტილებების სამმართველო
A13: სამმართველოს უფროსი | B13: 0.15 | C13: 0.1 | D13: 0.1 | E13: 0.05 | F13: 0.1 | G13: 0.1 | H13: 0.1 | I13: 0.05 | J13: 0.05 | K13: 0.2 | L13: =B13+C13+D13+E13+F13+G13+H13+I13+J13+K13 -> 1
A14: მრჩეველი | B14: 0.1 | C14: 0.05 | D14: 0.1 | E14: 0.05 | F14: 0.1 | G14: 0.15 | H14: 0.1 | I14: 0.1 | J14: 0.05 | K14: 0.2 | L14: =B14+C14+D14+E14+F14+G14+H14+I14+J14+K14 -> 1
A15: მთავარი სპეციალისტი | B15: 0.1 | C15: 0.05 | D15: 0.1 | E15: 0.05 | F15: 0.1 | G15: 0.15 | H15: 0.1 | I15: 0.1 | J15: 0.05 | K15: 0.2 | L15: =B15+C15+D15+E15+F15+G15+H15+I15+J15+K15 -> 1
A16: უფროსი სპეციალისტი | B16: 0.1 | C16: 0.05 | D16: 0.1 | E16: 0.05 | F16: 0.1 | G16: 0.15 | H16: 0.1 | I16: 0.1 | J16: 0.05 | K16: 0.2 | L16: =B16+C16+D16+E16+F16+G16+H16+I16+J16+K16 -> 1

Sheet დავების დეპარტამენტი
A1: პოზიცია | B1: ხარისხის, რისკებისა და ოპერაციების მართვა | C1: ლიდერობა და მართვა | D1: გუნდურობა | E1: პროაქტიურობა / ინიციატივა | F1: პრობლემის გადაჭრა/ გადაწყვეტილების მიღება | G1: ზეპირი და წერილობითი კომუნიკაცია | H1: ანალიტიკური აზროვნება | I1: საბაზისო კომპიუტერული კომპეტენციები | J1: სტრატეგია და ხედვა | K1: სპეციფიური პროგრამული კომპეტენციები | L1: კანონმდებლობა
A2: დავების დეპარტამენტი
A3: დეპარტამენტის უფროსი | B3: 0.15 | C3: 0.1 | D3: 0.05 | E3: 0.1 | F3: 0.15 | G3: 0.1 | H3: 0.1 | I3: 0.05 | J3: 0.1 | K3: 0 | L3: 0.1 | M3: =B3+C3+D3+E3+F3+G3+H3+I3+J3+K3+L3 -> 1
A4: დეპარტამენტის უფროსის პირველი მოადგილე | B4: 0.15 | C4: 0.1 | D4: 0.05 | E4: 0.1 | F4: 0.15 | G4: 0.1 | H4: 0.1 | I4: 0.05 | J4: 0.1 | K4: 0 | L4: 0.1 | M4: =B4+C4+D4+E4+F4+G4+H4+I4+J4+K4+L4 -> 1
A5: დეპარტამენტის უფროსის მოადგილე | B5: 0.15 | C5: 0.1 | D5: 0.05 | E5: 0.1 | F5: 0.15 | G5: 0.1 | H5: 0.1 | I5: 0.05 | J5: 0.1 | K5: 0 | L5: 0.1 | M5: =B5+C5+D5+E5+F5+G5+H5+I5+J5+K5+L5 -> 1
A6: დამხმარე მოსამსახურე | B6: 0.45 | C6: 0.05 | D6: 0.05 | E6: 0.05 | F6: 0.05 | G6: 0.05 | H6: 0.05 | I6: 0.05 | J6: 0.05 | K6: 0 | L6: 0.15 | M6: =B6+C6+D6+E6+F6+G6+H6+I6+J6+K6+L6 -> 1
A7: სასამართლო დავების სამმართველო
A8: სამმართველოს უფროსი | B8: 0.15 | C8: 0.1 | D8: 0.05 | E8: 0.1 | F8: 0.1 | G8: 0.1 | H8: 0.1 | I8: 0.05 | J8: 0.1 | K8: 0 | L8: 0.15 | M8: =B8+C8+D8+E8+F8+G8+H8+I8+J8+K8+L8 -> 1
A9: სამმართველოს უფროსის მოადგილე | B9: 0.15 | C9: 0.1 | D9: 0.05 | E9: 0.1 | F9: 0.1 | G9: 0.1 | H9: 0.1 | I9: 0.05 | J9: 0.1 | K9: 0 | L9: 0.15 | M9: =B9+C9+D9+E9+F9+G9+H9+I9+J9+K9+L9 -> 1
A10: მთავარი სპეციალისტი | B10: 0.45 | C10: 0.05 | D10: 0.05 | E10: 0.05 | F10: 0.05 | G10: 0.05 | H10: 0.05 | I10: 0.05 | J10: 0.05 | K10: 0 | L10: 0.15 | M10: =B10+C10+D10+E10+F10+G10+H10+I10+J10+K10+L10 -> 1
A11: უფროსი სპეციალისტი | B11: 0.45 | C11: 0.05 | D11: 0.05 | E11: 0.05 | F11: 0.05 | G11: 0.05 | H11: 0.05 | I11: 0.05 | J11: 0.05 | K11: 0 | L11: 0.15 | M11: =B11+C11+D11+E11+F11+G11+H11+I11+J11+K11+L11 -> 1
A12: სპეციალისტი | B12: 0.45 | C12: 0.05 | D12: 0.05 | E12: 0.05 | F12: 0.05 | G12: 0.05 | H12: 0.05 | I12: 0.05 | J12: 0.05 | K12: 0 | L12: 0.15 | M12: =B12+C12+D12+E12+F12+G12+H12+I12+J12+K12+L12 -> 1
A13: დამხმარე მოსამსახურე | B13: 0.45 | C13: 0.05 | D13: 0.05 | E13: 0.05 | F13: 0.05 | G13: 0.05 | H13: 0.05 | I13: 0.05 | J13: 0.05 | K13: 0 | L13: 0.15 | M13: =B13+C13+D13+E13+F13+G13+H13+I13+J13+K13+L13 -> 1
A14: საჩივრების სამმართველო
A15: სამმართველოს უფროსი | B15: 0.15 | C15: 0.1 | D15: 0.1 | E15: 0.05 | F15: 0.1 | G15: 0.1 | H15: 0.1 | I15: 0.05 | J15: 0.1 | K15: 0 | L15: 0.15 | M15: =B15+C15+D15+E15+F15+G15+H15+I15+J15+K15+L15 -> 1
A16: სამმართველოს უფროსის მოადგილე | B16: 0.15 | C16: 0.1 | D16: 0.1 | E16: 0.05 | F16: 0.1 | G16: 0.1 | H16: 0.1 | I16: 0.05 | J16: 0.1 | K16: 0 | L16: 0.15 | M16: =B16+C16+D16+E16+F16+G16+H16+I16+J16+K16+L16 -> 1
A17: მთავარი სპეციალისტი | B17: 0.45 | C17: 0.05 | D17: 0.05 | E17: 0.05 | F17: 0.05 | G17: 0.05 | H17: 0.05 | I17: 0.05 | J17: 0.05 | K17: 0 | L17: 0.15 | M17: =B17+C17+D17+E17+F17+G17+H17+I17+J17+K17+L17 -> 1
A18: უფროსი სპეციალისტი | B18: 0.45 | C18: 0.05 | D18: 0.05 | E18: 0.05 | F18: 0.05 | G18: 0.05 | H18: 0.05 | I18: 0.05 | J18: 0.05 | K18: 0 | L18: 0.15 | M18: =B18+C18+D18+E18+F18+G18+H18+I18+J18+K18+L18 -> 1
A19: სპეციალისტი | B19: 0.45 | C19: 0.05 | D19: 0.05 | E19: 0.05 | F19: 0.05 | G19: 0.05 | H19: 0.05 | I19: 0.05 | J19: 0.05 | K19: 0 | L19: 0.15 | M19: =B19+C19+D19+E19+F19+G19+H19+I19+J19+K19+L19 -> 1
A20: გადაწყვეტილებების მონიტორინგის განყოფილება
A21: განყოფილების უფროსი | B21: 0.15 | C21: 0.1 | D21: 0.1 | E21: 0.05 | F21: 0.1 | G21: 0.1 | H21: 0.1 | I21: 0.05 | J21: 0.1 | K21: 0 | L21: 0.15 | M21: =B21+C21+D21+E21+F21+G21+H21+I21+J21+K21+L21 -> 1
A22: მთავარი სპეციალისტი | B22: 0.45 | C22: 0.05 | D22: 0.05 | E22: 0.05 | F22: 0.05 | G22: 0.05 | H22: 0.05 | I22: 0.05 | J22: 0.05 | K22: 0 | L22: 0.15 | M22: =B22+C22+D22+E22+F22+G22+H22+I22+J22+K22+L22 -> 1
A23: უფროსი სპეციალისტი | B23: 0.45 | C23: 0.05 | D23: 0.05 | E23: 0.05 | F23: 0.05 | G23: 0.05 | H23: 0.05 | I23: 0.05 | J23: 0.05 | K23: 0 | L23: 0.15 | M23: =B23+C23+D23+E23+F23+G23+H23+I23+J23+K23+L23 -> 1
A24: სპეციალისტი | B24: 0.45 | C24: 0.05 | D24: 0.05 | E24: 0.05 | F24: 0.05 | G24: 0.05 | H24: 0.05 | I24: 0.05 | J24: 0.05 | K24: 0 | L24: 0.15 | M24: =B24+C24+D24+E24+F24+G24+H24+I24+J24+K24+L24 -> 1

Sheet საინფორმაციო ტექნოლოგიების ცენტ
A1: პოზიცია | B1: ხარისხის, რისკებისა და ოპერაციების მართვა | C1: ლიდერობა და მართვა | D1: გუნდურობა | E1: პროაქტიურობა / ინიციატივა | F1: პრობლემის გადაჭრა / გადაწყვეტილების მიღება | G1: ზეპირი და წერილობითი კომუნიკაცია | H1: ანალიტიკური აზროვნება | I1: საბაზისო კომპიუტერული კომპეტენციები | J1: სტრატეგია და ხედვა | K1: სპეციფიური პროგრამული კომპეტენციები | L1: კანონმდებლობა
A2: საინფორმაციო ტექნოლოგიების ცენტრი
A3: საინფორმაციო ტექნოლოგიების ცენტრის უფროსი | B3: 0.15 | C3: 0.1 | D3: 0.05 | E3: 0.1 | F3: 0.1 | G3: 0.1 | H3: 0.1 | I3: 0.05 | J3: 0.1 | K3: 0.15 | L3: 0 | M3: =B3+C3+D3+E3+F3+G3+H3+I3+J3+K3+L3 -> 1
A4: საინფორმაციო ტექნოლოგიების ცენტრის უფროსის მოადგილე | B4: 0.15 | C4: 0.1 | D4: 0.05 | E4: 0.1 | F4: 0.1 | G4: 0.1 | H4: 0.1 | I4: 0.05 | J4: 0.1 | K4: 0.15 | L4: 0 | M4: =B4+C4+D4+E4+F4+G4+H4+I4+J4+K4+L4 -> 1
A5: პროექტების დაგეგმვისა და მართვის სამმართველო
A6: სამმართველოს უფროსი | B6: 0.15 | C6: 0.1 | D6: 0.1 | E6: 0.1 | F6: 0.1 | G6: 0.1 | H6: 0.1 | I6: 0.05 | J6: 0.05 | K6: 0.15 | L6: 0 | M6: =B6+C6+D6+E6+F6+G6+H6+I6+J6+K6+L6 -> 1
A7: სამმართველოს უფროსის მოადგილე | B7: 0.15 | C7: 0.1 | D7: 0.1 | E7: 0.1 | F7: 0.1 | G7: 0.1 | H7: 0.1 | I7: 0.05 | J7: 0.05 | K7: 0.15 | L7: 0 | M7: =B7+C7+D7+E7+F7+G7+H7+I7+J7+K7+L7 -> 1
A8: მთავარი ანალიტიკოსი | B8: 0.15 | C8: 0.05 | D8: 0.1 | E8: 0.05 | F8: 0.1 | G8: 0.1 | H8: 0.15 | I8: 0.1 | J8: 0.05 | K8: 0.15 | L8: 0 | M8: =B8+C8+D8+E8+F8+G8+H8+I8+J8+K8+L8 -> 1
A9: წამყვანი ანალიტიკოსი | B9: 0.15 | C9: 0.05 | D9: 0.1 | E9: 0.05 | F9: 0.1 | G9: 0.1 | H9: 0.15 | I9: 0.1 | J9: 0.05 | K9: 0.15 | L9: 0 | M9: =B9+C9+D9+E9+F9+G9+H9+I9+J9+K9+L9 -> 1
A10: ანალიტიკოსი | B10: 0.15 | C10: 0.05 | D10: 0.1 | E10: 0.05 | F10: 0.1 | G10: 0.1 | H10: 0.1 | I10: 0.15 | J10: 0.05 | K10: 0.15 | L10: 0 | M10: =B10+C10+D10+E10+F10+G10+H10+I10+J10+K10+L10 -> 1
A11: პროგრამული უზრუნველყოფის სამმართველო
A12: სამმართველოს უფროსი | B12: 0.1 | C12: 0.1 | D12: 0.1 | E12: 0.1 | F12: 0.1 | G12: 0.1 | H12: 0.1 | I12: 0.05 | J12: 0.05 | K12: 0.2 | L12: 0 | M12: =B12+C12+D12+E12+F12+G12+H12+I12+J12+K12+L12 -> 1
A13: სამმართველოს უფროსის მოადგილე | B13: 0.1 | C13: 0.1 | D13: 0.1 | E13: 0.1 | F13: 0.1 | G13: 0.1 | H13: 0.1 | I13: 0.05 | J13: 0.05 | K13: 0.2 | L13: 0 | M13: =B13+C13+D13+E13+F13+G13+H13+I13+J13+K13+L13 -> 1
A14: მთავარი პროგრამისტი | B14: 0.15 | C14: 0.05 | D14: 0.1 | E14: 0.1 | F14: 0.1 | G14: 0.05 | H14: 0.15 | I14: 0.05 | J14: 0.05 | K14: 0.2 | L14: 0 | M14: =B14+C14+D14+E14+F14+G14+H14+I14+J14+K14+L14 -> 1
A15: წამყვანი პროგრამისტი | B15: 0.15 | C15: 0.05 | D15: 0.1 | E15: 0.1 | F15: 0.1 | G15: 0.05 | H15: 0.15 | I15: 0.05 | J15: 0.05 | K15: 0.2 | L15: 0 | M15: =B15+C15+D15+E15+F15+G15+H15+I15+J15+K15+L15 -> 1
A16: პროგრამისტი | B16: 0.15 | C16: 0.05 | D16: 0.1 | E16: 0.1 | F16: 0.1 | G16: 0.05 | H16: 0.15 | I16: 0.05 | J16: 0.05 | K16: 0.2 | L16: 0 | M16: =B16+C16+D16+E16+F16+G16+H16+I16+J16+K16+L16 -> 1
A17: ტექნიკური მხარდაჭერის და მომსახურების სამმართველო
A18: სამმართველოს უფროსი | B18: 0.15 | C18: 0.1 | D18: 0.1 | E18: 0.1 | F18: 0.1 | G18: 0.1 | H18: 0.1 | I18: 0.05 | J18: 0.05 | K18: 0.15 | L18: 0 | M18: =B18+C18+D18+E18+F18+G18+H18+I18+J18+K18+L18 -> 1
A19: სამმართველოს უფროსის მოადგილე | B19: 0.15 | C19: 0.1 | D19: 0.1 | E19: 0.1 | F19: 0.1 | G19: 0.1 | H19: 0.1 | I19: 0.05 | J19: 0.05 | K19: 0.15 | L19: 0 | M19: =B19+C19+D19+E19+F19+G19+H19+I19+J19+K19+L19 -> 1
A20: მთავარი ინჟინერი | B20: 0.15 | C20: 0.05 | D20: 0.1 | E20: 0.05 | F20: 0.15 | G20: 0.05 | H20: 0.15 | I20: 0.1 | J20: 0.05 | K20: 0.15 | L20: 0 | M20: =B20+C20+D20+E20+F20+G20+H20+I20+J20+K20+L20 -> 1
A21: წამყვანი ინჟინერი | B21: 0.15 | C21: 0.05 | D21: 0.1 | E21: 0.05 | F21: 0.15 | G21: 0.05 | H21: 0.15 | I21: 0.1 | J21: 0.05 | K21: 0.15 | L21: 0 | M21: =B21+C21+D21+E21+F21+G21+H21+I21+J21+K21+L21 -> 1
A22: უფროსი ინჟინერი | B22: 0.15 | C22: 0.05 | D22: 0.1 | E22: 0.05 | F22: 0.15 | G22: 0.05 | H22: 0.15 | I22: 0.1 | J22: 0.05 | K22: 0.15 | L22: 0 | M22: =B22+C22+D22+E22+F22+G22+H22+I22+J22+K22+L22 -> 1
A23: ინჟინერი | B23: 0.15 | C23: 0.05 | D23: 0.1 | E23: 0.05 | F23: 0.15 | G23: 0.05 | H23: 0.15 | I23: 0.1 | J23: 0.05 | K23: 0.15 | L23: 0 | M23: =B23+C23+D23+E23+F23+G23+H23+I23+J23+K23+L23 -> 1
A24: სპეციალისტი | B24: 0.15 | C24: 0.05 | D24: 0.1 | E24: 0.05 | F24: 0.15 | G24: 0.05 | H24: 0.15 | I24: 0.1 | J24: 0.05 | K24: 0.15 | L24: 0 | M24: =B24+C24+D24+E24+F24+G24+H24+I24+J24+K24+L24 -> 1
A25: ვებრესურსების მართვის სამმართველო
A26: სამმართველოს უფროსი | B26: 0.1 | C26: 0.1 | D26: 0.1 | E26: 0.1 | F26: 0.1 | G26: 0.1 | H26: 0.1 | I26: 0.05 | J26: 0.1 | K26: 0.15 | L26: 0 | M26: =B26+C26+D26+E26+F26+G26+H26+I26+J26+K26+L26 -> 1
A27: სამმართველოს უფროსის მოადგილე | B27: 0.1 | C27: 0.1 | D27: 0.1 | E27: 0.1 | F27: 0.1 | G27: 0.1 | H27: 0.1 | I27: 0.05 | J27: 0.1 | K27: 0.15 | L27: 0 | M27: =B27+C27+D27+E27+F27+G27+H27+I27+J27+K27+L27 -> 1
A28: ვებ-დიზაინერი | B28: 0.1 | C28: 0.05 | D28: 0.05 | E28: 0.15 | F28: 0.15 | G28: 0.05 | H28: 0.1 | I28: 0.05 | J28: 0.05 | K28: 0.25 | L28: 0 | M28: =B28+C28+D28+E28+F28+G28+H28+I28+J28+K28+L28 -> 1
A29: მთავარი პროგრამისტი | B29: 0.15 | C29: 0.05 | D29: 0.05 | E29: 0.1 | F29: 0.1 | G29: 0.05 | H29: 0.15 | I29: 0.05 | J29: 0.05 | K29: 0.25 | L29: 0 | M29: =B29+C29+D29+E29+F29+G29+H29+I29+J29+K29+L29 -> 1
A30: წამყვანი პროგრამისტი | B30: 0.15 | C30: 0.05 | D30: 0.05 | E30: 0.1 | F30: 0.1 | G30: 0.05 | H30: 0.15 | I30: 0.05 | J30: 0.05 | K30: 0.25 | L30: 0 | M30: =B30+C30+D30+E30+F30+G30+H30+I30+J30+K30+L30 -> 1
A31: პროგრამისტი | B31: 0.15 | C31: 0.05 | D31: 0.05 | E31: 0.1 | F31: 0.1 | G31: 0.05 | H31: 0.15 | I31: 0.05 | J31: 0.05 | K31: 0.25 | L31: 0 | M31: =B31+C31+D31+E31+F31+G31+H31+I31+J31+K31+L31 -> 1
A32: სისტემური არქიტექტურის და მონაცემთა გაცვლის სამმართველო
A33: სამმართველოს უფროსი | B33: 0.15 | C33: 0.1 | D33: 0.1 | E33: 0.1 | F33: 0.1 | G33: 0.05 | H33: 0.1 | I33: 0.05 | J33: 0.05 | K33: 0.2 | L33: 0 | M33: =B33+C33+D33+E33+F33+G33+H33+I33+J33+K33+L33 -> 1
A34: წამყვანი პროგრამისტი | B34: 0.1 | C34: 0.05 | D34: 0.1 | E34: 0.1 | F34: 0.15 | G34: 0.05 | H34: 0.15 | I34: 0.05 | J34: 0.05 | K34: 0.2 | L34: 0 | M34: =B34+C34+D34+E34+F34+G34+H34+I34+J34+K34+L34 -> 1

Sheet აუდიტის დეპარტამენტი
A1: პოზიცია | B1: ხარისხის, რისკებისა და ოპერაციების მართვა | C1: ლიდერობა და მართვა | D1: გუნდურობა | E1: პროაქტიურობა / ინიციატივა | F1: პრობლემის გადაჭრა / გადაწყვეტილების მიღება | G1: ზეპირი და წერილობითი კომუნიკაცია | H1: ანალიტიკური აზროვნება | I1: საბაზისო კომპიუტერული კომპეტენციები | J1: სტრატეგია და ხედვა | K1: სპეციფიური პროგრამული კომპეტენციები | L1: კანონმდებლობა
A2: აუდიტის დეპარტამენტი
A3: დეპარტამენტის უფროსი | B3: 0.15 | C3: 0.1 | D3: 0.05 | E3: 0.1 | F3: 0.15 | G3: 0.1 | H3: 0.1 | I3: 0.05 | J3: 0.1 | K3: 0.05 | L3: 0.05 | M3: =B3+C3+D3+E3+F3+G3+H3+I3+J3+K3+L3 -> 1
A4: აუდიტის დეპარტამენტის უფროსის მოადგილე | B4: 0.15 | C4: 0.1 | D4: 0.05 | E4: 0.1 | F4: 0.15 | G4: 0.1 | H4: 0.1 | I4: 0.05 | J4: 0.1 | K4: 0.05 | L4: 0.05 | M4: =B4+C4+D4+E4+F4+G4+H4+I4+J4+K4+L4 -> 1
A5: მთავარი სპეციალისტი | B5: 0.15 | C5: 0.05 | D5: 0.1 | E5: 0.1 | F5: 0.15 | G5: 0.1 | H5: 0.1 | I5: 0.08 | J5: 0.05 | K5: 0.07 | L5: 0.05 | M5: =B5+C5+D5+E5+F5+G5+H5+I5+J5+K5+L5 -> 1
A6: უფროსი სპეციალისტი | B6: 0.15 | C6: 0.05 | D6: 0.1 | E6: 0.1 | F6: 0.15 | G6: 0.1 | H6: 0.1 | I6: 0.08 | J6: 0.05 | K6: 0.07 | L6: 0.05 | M6: =B6+C6+D6+E6+F6+G6+H6+I6+J6+K6+L6 -> 1
A7: სპეციალისტი | B7: 0.15 | C7: 0.05 | D7: 0.1 | E7: 0.1 | F7: 0.15 | G7: 0.1 | H7: 0.1 | I7: 0.08 | J7: 0.05 | K7: 0.07 | L7: 0.05 | M7: =B7+C7+D7+E7+F7+G7+H7+I7+J7+K7+L7 -> 1
A8: თანაშემწე | B8: 0.15 | C8: 0.05 | D8: 0.1 | E8: 0.1 | F8: 0.15 | G8: 0.1 | H8: 0.1 | I8: 0.08 | J8: 0.05 | K8: 0.07 | L8: 0.05 | M8: =B8+C8+D8+E8+F8+G8+H8+I8+J8+K8+L8 -> 1
A9: საგადასახადო შემოწმების N1 სამმართველო
A10: სამმართველოს უფროსი | B10: 0.1 | C10: 0.1 | D10: 0.05 | E10: 0.1 | F10: 0.1 | G10: 0.1 | H10: 0.15 | I10: 0.05 | J10: 0.05 | K10: 0.05 | L10: 0.15 | M10: =B10+C10+D10+E10+F10+G10+H10+I10+J10+K10+L10 -> 1
A11: სამმართველოს უფროსის მოადგილე | B11: 0.1 | C11: 0.1 | D11: 0.05 | E11: 0.1 | F11: 0.1 | G11: 0.1 | H11: 0.15 | I11: 0.05 | J11: 0.05 | K11: 0.05 | L11: 0.15 | M11: =B11+C11+D11+E11+F11+G11+H11+I11+J11+K11+L11 -> 1
A12: მთავარი აუდიტორი | B12: 0.15 | C12: 0.05 | D12: 0.05 | E12: 0.05 | F12: 0.1 | G12: 0.1 | H12: 0.15 | I12: 0.05 | J12: 0.05 | K12: 0.1 | L12: 0.15 | M12: =B12+C12+D12+E12+F12+G12+H12+I12+J12+K12+L12 -> 1
A13: უფროსი აუდიტორი | B13: 0.15 | C13: 0.05 | D13: 0.05 | E13: 0.05 | F13: 0.1 | G13: 0.1 | H13: 0.15 | I13: 0.05 | J13: 0.05 | K13: 0.1 | L13: 0.15 | M13: =B13+C13+D13+E13+F13+G13+H13+I13+J13+K13+L13 -> 1
A14: აუდიტორი | B14: 0.15 | C14: 0.05 | D14: 0.05 | E14: 0.05 | F14: 0.1 | G14: 0.1 | H14: 0.15 | I14: 0.05 | J14: 0.05 | K14: 0.1 | L14: 0.15 | M14: =B14+C14+D14+E14+F14+G14+H14+I14+J14+K14+L14 -> 1
A15: საგადასახადო შემოწმების N2 სამმართველო
A16: სამმართველოს უფროსი | B16: 0.1 | C16: 0.1 | D16: 0.05 | E16: 0.1 | F16: 0.1 | G16: 0.1 | H16: 0.15 | I16: 0.05 | J16: 0.05 | K16: 0.05 | L16: 0.15 | M16: =B16+C16+D16+E16+F16+G16+H16+I16+J16+K16+L16 -> 1
A17: სამმართველოს უფროსის მოადგილე | B17: 0.1 | C17: 0.1 | D17: 0.05 | E17: 0.1 | F17: 0.1 | G17: 0.1 | H17: 0.15 | I17: 0.05 | J17: 0.05 | K17: 0.05 | L17: 0.15 | M17: =B17+C17+D17+E17+F17+G17+H17+I17+J17+K17+L17 -> 1
A18: მთავარი აუდიტორი | B18: 0.15 | C18: 0.05 | D18: 0.05 | E18: 0.05 | F18: 0.1 | G18: 0.1 | H18: 0.15 | I18: 0.05 | J18: 0.05 | K18: 0.1 | L18: 0.15 | M18: =B18+C18+D18+E18+F18+G18+H18+I18+J18+K18+L18 -> 1
A19: უფროსი აუდიტორი | B19: 0.15 | C19: 0.05 | D19: 0.05 | E19: 0.05 | F19: 0.1 | G19: 0.1 | H19: 0.15 | I19: 0.05 | J19: 0.05 | K19: 0.1 | L19: 0.15 | M19: =B19+C19+D19+E19+F19+G19+H19+I19+J19+K19+L19 -> 1
A20: აუდიტორი | B20: 0.15 | C20: 0.05 | D20: 0.05 | E20: 0.05 | F20: 0.1 | G20: 0.1 | H20: 0.15 | I20: 0.05 | J20: 0.05 | K20: 0.1 | L20: 0.15 | M20: =B20+C20+D20+E20+F20+G20+H20+I20+J20+K20+L20 -> 1
A21: საგადასახადო შემოწმების N3 სამმართველო
A22: სამმართველოს უფროსი | B22: 0.1 | C22: 0.1 | D22: 0.05 | E22: 0.1 | F22: 0.1 | G22: 0.1 | H22: 0.15 | I22: 0.05 | J22: 0.05 | K22: 0.05 | L22: 0.15 | M22: =B22+C22+D22+E22+F22+G22+H22+I22+J22+K22+L22 -> 1
A23: სამმართველოს უფროსის მოადგილე | B23: 0.1 | C23: 0.1 | D23: 0.05 | E23: 0.1 | F23: 0.1 | G23: 0.1 | H23: 0.15 | I23: 0.05 | J23: 0.05 | K23: 0.05 | L23: 0.15 | M23: =B23+C23+D23+E23+F23+G23+H23+I23+J23+K23+L23 -> 1
A24: მთავარი აუდიტორი | B24: 0.15 | C24: 0.05 | D24: 0.05 | E24: 0.05 | F24: 0.1 | G24: 0.1 | H24: 0.15 | I24: 0.05 | J24: 0.05 | K24: 0.1 | L24: 0.15 | M24: =B24+C24+D24+E24+F24+G24+H24+I24+J24+K24+L24 -> 1
A25: უფროსი აუდიტორი | B25: 0.15 | C25: 0.05 | D25: 0.05 | E25: 0.05 | F25: 0.1 | G25: 0.1 | H25: 0.15 | I25: 0.05 | J25: 0.05 | K25: 0.1 | L25: 0.15 | M25: =B25+C25+D25+E25+F25+G25+H25+I25+J25+K25+L25 -> 1
A26: აუდიტორი | B26: 0.15 | C26: 0.05 | D26: 0.05 | E26: 0.05 | F26: 0.1 | G26: 0.1 | H26: 0.15 | I26: 0.05 | J26: 0.05 | K26: 0.1 | L26: 0.15 | M26: =B26+C26+D26+E26+F26+G26+H26+I26+J26+K26+L26 -> 1
A27: საგადასახადო შემოწმების N4 სამმართველო
A28: სამმართველოს უფროსი | B28: 0.1 | C28: 0.1 | D28: 0.05 | E28: 0.1 | F28: 0.1 | G28: 0.1 | H28: 0.15 | I28: 0.05 | J28: 0.05 | K28: 0.05 | L28: 0.15 | M28: =B28+C28+D28+E28+F28+G28+H28+I28+J28+K28+L28 -> 1
A29: სამმართველოს უფროსის მოადგილე | B29: 0.1 | C29: 0.1 | D29: 0.05 | E29: 0.1 | F29: 0.1 | G29: 0.1 | H29: 0.15 | I29: 0.05 | J29: 0.05 | K29: 0.05 | L29: 0.15 | M29: =B29+C29+D29+E29+F29+G29+H29+I29+J29+K29+L29 -> 1
A30: მთავარი აუდიტორი | B30: 0.15 | C30: 0.05 | D30: 0.05 | E30: 0.05 | F30: 0.1 | G30: 0.1 | H30: 0.15 | I30: 0.05 | J30: 0.05 | K30: 0.1 | L30: 0.15 | M30: =B30+C30+D30+E30+F30+G30+H30+I30+J30+K30+L30 -> 1
A31: უფროსი აუდიტორი | B31: 0.15 | C31: 0.05 | D31: 0.05 | E31: 0.05 | F31: 0.1 | G31: 0.1 | H31: 0.15 | I31: 0.05 | J31: 0.05 | K31: 0.1 | L31: 0.15 | M31: =B31+C31+D31+E31+F31+G31+H31+I31+J31+K31+L31 -> 1
A32: აუდიტორი | B32: 0.15 | C32: 0.05 | D32: 0.05 | E32: 0.05 | F32: 0.1 | G32: 0.1 | H32: 0.15 | I32: 0.05 | J32: 0.05 | K32: 0.1 | L32: 0.15 | M32: =B32+C32+D32+E32+F32+G32+H32+I32+J32+K32+L32 -> 1
A33: საგადასახადო შემოწმების N5 სამმართველო
A34: სამმართველოს უფროსი | B34: 0.1 | C34: 0.1 | D34: 0.05 | E34: 0.1 | F34: 0.1 | G34: 0.1 | H34: 0.15 | I34: 0.05 | J34: 0.05 | K34: 0.05 | L34: 0.15 | M34: =B34+C34+D34+E34+F34+G34+H34+I34+J34+K34+L34 -> 1
A35: სამმართველოს უფროსის მოადგილე | B35: 0.1 | C35: 0.1 | D35: 0.05 | E35: 0.1 | F35: 0.1 | G35: 0.1 | H35: 0.15 | I35: 0.05 | J35: 0.05 | K35: 0.05 | L35: 0.15 | M35: =B35+C35+D35+E35+F35+G35+H35+I35+J35+K35+L35 -> 1
A36: მთავარი აუდიტორი | B36: 0.15 | C36: 0.05 | D36: 0.05 | E36: 0.05 | F36: 0.1 | G36: 0.1 | H36: 0.15 | I36: 0.05 | J36: 0.05 | K36: 0.1 | L36: 0.15 | M36: =B36+C36+D36+E36+F36+G36+H36+I36+J36+K36+L36 -> 1
A37: უფროსი აუდიტორი | B37: 0.15 | C37: 0.05 | D37: 0.05 | E37: 0.05 | F37: 0.1 | G37: 0.1 | H37: 0.15 | I37: 0.05 | J37: 0.05 | K37: 0.1 | L37: 0.15 | M37: =B37+C37+D37+E37+F37+G37+H37+I37+J37+K37+L37 -> 1
A38: აუდიტორი | B38: 0.15 | C38: 0.05 | D38: 0.05 | E38: 0.05 | F38: 0.1 | G38: 0.1 | H38: 0.15 | I38: 0.05 | J38: 0.05 | K38: 0.1 | L38: 0.15 | M38: =B38+C38+D38+E38+F38+G38+H38+I38+J38+K38+L38 -> 1
A39: საგადასახადო შემოწმების N6 სამმართველო
A40: სამმართველოს უფროსი | B40: 0.1 | C40: 0.1 | D40: 0.05 | E40: 0.1 | F40: 0.1 | G40: 0.1 | H40: 0.15 | I40: 0.05 | J40: 0.05 | K40: 0.05 | L40: 0.15 | M40: =B40+C40+D40+E40+F40+G40+H40+I40+J40+K40+L40 -> 1
A41: სამმართველოს უფროსის მოადგილე | B41: 0.1 | C41: 0.1 | D41: 0.05 | E41: 0.1 | F41: 0.1 | G41: 0.1 | H41: 0.15 | I41: 0.05 | J41: 0.05 | K41: 0.05 | L41: 0.15 | M41: =B41+C41+D41+E41+F41+G41+H41+I41+J41+K41+L41 -> 1
A42: მთავარი აუდიტორი | B42: 0.15 | C42: 0.05 | D42: 0.05 | E42: 0.05 | F42: 0.1 | G42: 0.1 | H42: 0.15 | I42: 0.05 | J42: 0.05 | K42: 0.1 | L42: 0.15 | M42: =B42+C42+D42+E42+F42+G42+H42+I42+J42+K42+L42 -> 1
A43: უფროსი აუდიტორი | B43: 0.15 | C43: 0.05 | D43: 0.05 | E43: 0.05 | F43: 0.1 | G43: 0.1 | H43: 0.15 | I43: 0.05 | J43: 0.05 | K43: 0.1 | L43: 0.15 | M43: =B43+C43+D43+E43+F43+G43+H43+I43+J43+K43+L43 -> 1
A44: აუდიტორი | B44: 0.15 | C44: 0.05 | D44: 0.05 | E44: 0.05 | F44: 0.1 | G44: 0.1 | H44: 0.15 | I44: 0.05 | J44: 0.05 | K44: 0.1 | L44: 0.15 | M44: =B44+C44+D44+E44+F44+G44+H44+I44+J44+K44+L44 -> 1
A45: საგადასახადო შემოწმების N7 სამმართველო
A46: სამმართველოს უფროსი | B46: 0.1 | C46: 0.1 | D46: 0.05 | E46: 0.1 | F46: 0.1 | G46: 0.1 | H46: 0.15 | I46: 0.05 | J46: 0.05 | K46: 0.05 | L46: 0.15 | M46: =B46+C46+D46+E46+F46+G46+H46+I46+J46+K46+L46 -> 1
A47: სამმართველოს უფროსის მოადგილე | B47: 0.1 | C47: 0.1 | D47: 0.05 | E47: 0.1 | F47: 0.1 | G47: 0.1 | H47: 0.15 | I47: 0.05 | J47: 0.05 | K47: 0.05 | L47: 0.15 | M47: =B47+C47+D47+E47+F47+G47+H47+I47+J47+K47+L47 -> 1
A48: მთავარი აუდიტორი | B48: 0.15 | C48: 0.05 | D48: 0.05 | E48: 0.05 | F48: 0.1 | G48: 0.1 | H48: 0.15 | I48: 0.05 | J48: 0.05 | K48: 0.1 | L48: 0.15 | M48: =B48+C48+D48+E48+F48+G48+H48+I48+J48+K48+L48 -> 1
A49: უფროსი აუდიტორი | B49: 0.15 | C49: 0.05 | D49: 0.05 | E49: 0.05 | F49: 0.1 | G49: 0.1 | H49: 0.15 | I49: 0.05 | J49: 0.05 | K49: 0.1 | L49: 0.15 | M49: =B49+C49+D49+E49+F49+G49+H49+I49+J49+K49+L49 -> 1
A50: აუდიტორი | B50: 0.15 | C50: 0.05 | D50: 0.05 | E50: 0.05 | F50: 0.1 | G50: 0.1 | H50: 0.15 | I50: 0.05 | J50: 0.05 | K50: 0.1 | L50: 0.15 | M50: =B50+C50+D50+E50+F50+G50+H50+I50+J50+K50+L50 -> 1
A51: საგადასახადო შემოწმების N8 სამმართველო
A52: სამმართველოს უფროსი | B52: 0.1 | C52: 0.1 | D52: 0.05 | E52: 0.1 | F52: 0.1 | G52: 0.1 | H52: 0.15 | I52: 0.05 | J52: 0.05 | K52: 0.05 | L52: 0.15 | M52: =B52+C52+D52+E52+F52+G52+H52+I52+J52+K52+L52 -> 1
A53: სამმართველოს უფროსის მოადგილე | B53: 0.1 | C53: 0.1 | D53: 0.05 | E53: 0.1 | F53: 0.1 | G53: 0.1 | H53: 0.15 | I53: 0.05 | J53: 0.05 | K53: 0.05 | L53: 0.15 | M53: =B53+C53+D53+E53+F53+G53+H53+I53+J53+K53+L53 -> 1
A54: მთავარი აუდიტორი | B54: 0.15 | C54: 0.05 | D54: 0.05 | E54: 0.05 | F54: 0.1 | G54: 0.1 | H54: 0.15 | I54: 0.05 | J54: 0.05 | K54: 0.1 | L54: 0.15 | M54: =B54+C54+D54+E54+F54+G54+H54+I54+J54+K54+L54 -> 1
A55: უფროსი აუდიტორი | B55: 0.15 | C55: 0.05 | D55: 0.05 | E55: 0.05 | F55: 0.1 | G55: 0.1 | H55: 0.15 | I55: 0.05 | J55: 0.05 | K55: 0.1 | L55: 0.15 | M55: =B55+C55+D55+E55+F55+G55+H55+I55+J55+K55+L55 -> 1
A56: აუდიტორი | B56: 0.15 | C56: 0.05 | D56: 0.05 | E56: 0.05 | F56: 0.1 | G56: 0.1 | H56: 0.15 | I56: 0.05 | J56: 0.05 | K56: 0.1 | L56: 0.15 | M56: =B56+C56+D56+E56+F56+G56+H56+I56+J56+K56+L56 -> 1
A57: მსხვილი გადასახადის გადამხდელის კატეგორიის მქონე პირების საგადასახადო შემოწმების სამმართველო
A58: სამმართველოს უფროსი | B58: 0.1 | C58: 0.1 | D58: 0.05 | E58: 0.1 | F58: 0.1 | G58: 0.1 | H58: 0.15 | I58: 0.05 | J58: 0.05 | K58: 0.05 | L58: 0.15 | M58: =B58+C58+D58+E58+F58+G58+H58+I58+J58+K58+L58 -> 1
A59: სამმართველოს უფროსის მოადგილე | B59: 0.1 | C59: 0.1 | D59: 0.05 | E59: 0.1 | F59: 0.1 | G59: 0.1 | H59: 0.15 | I59: 0.05 | J59: 0.05 | K59: 0.05 | L59: 0.15 | M59: =B59+C59+D59+E59+F59+G59+H59+I59+J59+K59+L59 -> 1
A60: მთავარი აუდიტორი | B60: 0.15 | C60: 0.05 | D60: 0.05 | E60: 0.05 | F60: 0.1 | G60: 0.1 | H60: 0.15 | I60: 0.05 | J60: 0.05 | K60: 0.1 | L60: 0.15 | M60: =B60+C60+D60+E60+F60+G60+H60+I60+J60+K60+L60 -> 1
A61: უფროსი აუდიტორი | B61: 0.15 | C61: 0.05 | D61: 0.05 | E61: 0.05 | F61: 0.1 | G61: 0.1 | H61: 0.15 | I61: 0.05 | J61: 0.05 | K61: 0.1 | L61: 0.15 | M61: =B61+C61+D61+E61+F61+G61+H61+I61+J61+K61+L61 -> 1
A62: აუდიტორი | B62: 0.15 | C62: 0.05 | D62: 0.05 | E62: 0.05 | F62: 0.1 | G62: 0.1 | H62: 0.15 | I62: 0.05 | J62: 0.05 | K62: 0.1 | L62: 0.15 | M62: =B62+C62+D62+E62+F62+G62+H62+I62+J62+K62+L62 -> 1
A63: საგადასახადო დეკლარაციების კონტროლის სამმართველო
A64: სამმართველოს უფროსი | B64: 0.15 | C64: 0.1 | D64: 0.05 | E64: 0.1 | F64: 0.1 | G64: 0.1 | H64: 0.15 | I64: 0.05 | J64: 0.05 | K64: 0.05 | L64: 0.1 | M64: =B64+C64+D64+E64+F64+G64+H64+I64+J64+K64+L64 -> 1
A65: სამმართველოს უფროსის მოადგილე | B65: 0.15 | C65: 0.1 | D65: 0.05 | E65: 0.1 | F65: 0.1 | G65: 0.1 | H65: 0.15 | I65: 0.05 | J65: 0.05 | K65: 0.05 | L65: 0.1 | M65: =B65+C65+D65+E65+F65+G65+H65+I65+J65+K65+L65 -> 1
A66: მთავარი აუდიტორი | B66: 0.15 | C66: 0.05 | D66: 0.05 | E66: 0.05 | F66: 0.1 | G66: 0.1 | H66: 0.15 | I66: 0.05 | J66: 0.05 | K66: 0.1 | L66: 0.15 | M66: =B66+C66+D66+E66+F66+G66+H66+I66+J66+K66+L66 -> 1
A67: უფროსი აუდიტორი | B67: 0.15 | C67: 0.05 | D67: 0.05 | E67: 0.05 | F67: 0.1 | G67: 0.1 | H67: 0.15 | I67: 0.05 | J67: 0.05 | K67: 0.1 | L67: 0.15 | M67: =B67+C67+D67+E67+F67+G67+H67+I67+J67+K67+L67 -> 1
A68: აუდიტორი | B68: 0.15 | C68: 0.05 | D68: 0.05 | E68: 0.05 | F68: 0.1 | G68: 0.1 | H68: 0.15 | I68: 0.05 | J68: 0.05 | K68: 0.1 | L68: 0.15 | M68: =B68+C68+D68+E68+F68+G68+H68+I68+J68+K68+L68 -> 1
A69: საგადასახადო დეკლარაციების კონტროლის განხორციელებისა და გადასახადის გადამხდელთა მოთხოვნის დამუშავების სამმართველო
A70: სამმართველოს უფროსი | B70: 0.15 | C70: 0.1 | D70: 0.05 | E70: 0.1 | F70: 0.1 | G70: 0.1 | H70: 0.15 | I70: 0.05 | J70: 0.05 | K70: 0.05 | L70: 0.1 | M70: =B70+C70+D70+E70+F70+G70+H70+I70+J70+K70+L70 -> 1
A71: სამმართველოს უფროსის მოადგილე | B71: 0.15 | C71: 0.1 | D71: 0.05 | E71: 0.1 | F71: 0.1 | G71: 0.1 | H71: 0.15 | I71: 0.05 | J71: 0.05 | K71: 0.05 | L71: 0.1 | M71: =B71+C71+D71+E71+F71+G71+H71+I71+J71+K71+L71 -> 1
A72: მთავარი აუდიტორი | B72: 0.15 | C72: 0.05 | D72: 0.05 | E72: 0.05 | F72: 0.1 | G72: 0.1 | H72: 0.2 | I72: 0.05 | J72: 0.05 | K72: 0.05 | L72: 0.15 | M72: =B72+C72+D72+E72+F72+G72+H72+I72+J72+K72+L72 -> 1
A73: უფროსი აუდიტორი | B73: 0.15 | C73: 0.05 | D73: 0.05 | E73: 0.05 | F73: 0.1 | G73: 0.1 | H73: 0.2 | I73: 0.05 | J73: 0.05 | K73: 0.05 | L73: 0.15 | M73: =B73+C73+D73+E73+F73+G73+H73+I73+J73+K73+L73 -> 1
A74: აუდიტორი | B74: 0.15 | C74: 0.05 | D74: 0.05 | E74: 0.05 | F74: 0.1 | G74: 0.1 | H74: 0.2 | I74: 0.05 | J74: 0.05 | K74: 0.05 | L74: 0.15 | M74: =B74+C74+D74+E74+F74+G74+H74+I74+J74+K74+L74 -> 1
A75: აუდიტის ტექნიკური უზრუნველყოფის სამმართველო
A76: სამმართველოს უფროსი | B76: 0.1 | C76: 0.1 | D76: 0.1 | E76: 0.1 | F76: 0.1 | G76: 0.15 | H76: 0.15 | I76: 0.05 | J76: 0.05 | K76: 0.05 | L76: 0.05 | M76: =B76+C76+D76+E76+F76+G76+H76+I76+J76+K76+L76 -> 1
A77: სამმართველოს უფროსის მოადგილე | B77: 0.1 | C77: 0.1 | D77: 0.1 | E77: 0.1 | F77: 0.1 | G77: 0.15 | H77: 0.15 | I77: 0.05 | J77: 0.05 | K77: 0.05 | L77: 0.05 | M77: =B77+C77+D77+E77+F77+G77+H77+I77+J77+K77+L77 -> 1
A78: უფროსი სპეციალისტი | B78: 0.15 | C78: 0.05 | D78: 0.1 | E78: 0.05 | F78: 0.1 | G78: 0.15 | H78: 0.15 | I78: 0.05 | J78: 0.05 | K78: 0.1 | L78: 0.05 | M78: =B78+C78+D78+E78+F78+G78+H78+I78+J78+K78+L78 -> 1
A79: საგადასახადო მონიტორინგის სამმართველო
A80: სამმართველოს უფროსი | B80: 0.1 | C80: 0.1 | D80: 0.1 | E80: 0.05 | F80: 0.15 | G80: 0.1 | H80: 0.15 | I80: 0.05 | J80: 0.05 | K80: 0.05 | L80: 0.1 | M80: =B80+C80+D80+E80+F80+G80+H80+I80+J80+K80+L80 -> 1
A81: სამმართველოს უფროსის მოადგილე | B81: 0.1 | C81: 0.1 | D81: 0.1 | E81: 0.05 | F81: 0.15 | G81: 0.1 | H81: 0.15 | I81: 0.05 | J81: 0.05 | K81: 0.05 | L81: 0.1 | M81: =B81+C81+D81+E81+F81+G81+H81+I81+J81+K81+L81 -> 1
A82: მთავარი სპეციალისტი | B82: 0.1 | C82: 0.05 | D82: 0.1 | E82: 0.05 | F82: 0.1 | G82: 0.1 | H82: 0.15 | I82: 0.05 | J82: 0.05 | K82: 0.1 | L82: 0.15 | M82: =B82+C82+D82+E82+F82+G82+H82+I82+J82+K82+L82 -> 1
A83: უფროსი სპეციალისტი | B83: 0.1 | C83: 0.05 | D83: 0.1 | E83: 0.05 | F83: 0.1 | G83: 0.1 | H83: 0.15 | I83: 0.05 | J83: 0.05 | K83: 0.1 | L83: 0.15 | M83: =B83+C83+D83+E83+F83+G83+H83+I83+J83+K83+L83 -> 1
A84: სპეციალისტი | B84: 0.1 | C84: 0.05 | D84: 0.1 | E84: 0.05 | F84: 0.1 | G84: 0.1 | H84: 0.15 | I84: 0.05 | J84: 0.05 | K84: 0.1 | L84: 0.15 | M84: =B84+C84+D84+E84+F84+G84+H84+I84+J84+K84+L84 -> 1
A85: ხარისხის კონტროლის სამმართველო
A86: სამმართველოს უფროსი | B86: 0.1 | C86: 0.1 | D86: 0.05 | E86: 0.1 | F86: 0.1 | G86: 0.1 | H86: 0.1 | I86: 0.05 | J86: 0.05 | K86: 0.1 | L86: 0.15 | M86: =B86+C86+D86+E86+F86+G86+H86+I86+J86+K86+L86 -> 1
A87: სამმართველოს უფროსის მოადგილე | B87: 0.1 | C87: 0.1 | D87: 0.05 | E87: 0.1 | F87: 0.1 | G87: 0.1 | H87: 0.1 | I87: 0.05 | J87: 0.05 | K87: 0.1 | L87: 0.15 | M87: =B87+C87+D87+E87+F87+G87+H87+I87+J87+K87+L87 -> 1
A88: მთავარი ექსპერტ–აუდიტორი | B88: 0.15 | C88: 0.05 | D88: 0.05 | E88: 0.05 | F88: 0.15 | G88: 0.1 | H88: 0.1 | I88: 0.05 | J88: 0.05 | K88: 0.1 | L88: 0.15 | M88: =B88+C88+D88+E88+F88+G88+H88+I88+J88+K88+L88 -> 1
A89: უფროსი ექსპერტ–აუდიტორი | B89: 0.15 | C89: 0.05 | D89: 0.05 | E89: 0.05 | F89: 0.15 | G89: 0.1 | H89: 0.1 | I89: 0.05 | J89: 0.05 | K89: 0.1 | L89: 0.15 | M89: =B89+C89+D89+E89+F89+G89+H89+I89+J89+K89+L89 -> 1
A90: მედიაციის სამმართველო
A91: სამმართველოს უფროსი | B91: 0.1 | C91: 0.1 | D91: 0.1 | E91: 0.05 | F91: 0.1 | G91: 0.1 | H91: 0.15 | I91: 0.05 | J91: 0.05 | K91: 0.1 | L91: 0.1 | M91: =B91+C91+D91+E91+F91+G91+H91+I91+J91+K91+L91 -> 1
A92: სამმართველოს უფროსის მოადგილე | B92: 0.1 | C92: 0.1 | D92: 0.1 | E92: 0.05 | F92: 0.1 | G92: 0.1 | H92: 0.15 | I92: 0.05 | J92: 0.05 | K92: 0.1 | L92: 0.1 | M92: =B92+C92+D92+E92+F92+G92+H92+I92+J92+K92+L92 -> 1
A93: მთავარი ექსპერტ–აუდიტორი | B93: 0.15 | C93: 0.05 | D93: 0.05 | E93: 0.05 | F93: 0.1 | G93: 0.1 | H93: 0.15 | I93: 0.05 | J93: 0.05 | K93: 0.1 | L93: 0.15 | M93: =B93+C93+D93+E93+F93+G93+H93+I93+J93+K93+L93 -> 1
A94: ექსპერტ–აუდიტორი | B94: 0.15 | C94: 0.05 | D94: 0.05 | E94: 0.05 | F94: 0.1 | G94: 0.1 | H94: 0.15 | I94: 0.05 | J94: 0.05 | K94: 0.1 | L94: 0.15 | M94: =B94+C94+D94+E94+F94+G94+H94+I94+J94+K94+L94 -> 1
A95: საერთაშორისო კონტროლირებული ოპერაციების საკითხთა შეფასების (ტრანსფერფრაიზინგის) სამმართველო
A96: სამმართველოს უფროსი | B96: 0.1 | C96: 0.1 | D96: 0.05 | E96: 0.1 | F96: 0.1 | G96: 0.1 | H96: 0.15 | I96: 0.05 | J96: 0.05 | K96: 0.05 | L96: 0.15 | M96: =B96+C96+D96+E96+F96+G96+H96+I96+J96+K96+L96 -> 1
A97: მთავარი აუდიტორი | B97: 0.1 | C97: 0.05 | D97: 0.1 | E97: 0.08 | F97: 0.15 | G97: 0.1 | H97: 0.1 | I97: 0.05 | J97: 0.02 | K97: 0.1 | L97: 0.15 | M97: =B97+C97+D97+E97+F97+G97+H97+I97+J97+K97+L97 -> 1
A98: უფროსი აუდიტორი | B98: 0.1 | C98: 0.05 | D98: 0.1 | E98: 0.08 | F98: 0.15 | G98: 0.1 | H98: 0.1 | I98: 0.05 | J98: 0.02 | K98: 0.1 | L98: 0.15 | M98: =B98+C98+D98+E98+F98+G98+H98+I98+J98+K98+L98 -> 1
A99: აუდიტორი | B99: 0.1 | C99: 0.05 | D99: 0.1 | E99: 0.08 | F99: 0.15 | G99: 0.1 | H99: 0.1 | I99: 0.05 | J99: 0.02 | K99: 0.1 | L99: 0.15 | M99: =B99+C99+D99+E99+F99+G99+H99+I99+J99+K99+L99 -> 1

Sheet რეფორმებისა და დაგეგმვის დეპარტ
A1: პოზიცია | B1: ხარისხის, რისკებისა და ოპერაციების მართვა | C1: ლიდერობა და მართვა | D1: გუნდურობა | E1: პროაქტიურობა / ინიციატივა | F1: პრობლემის გადაჭრა / გადაწყვეტილების მიღება | G1: ზეპირი და წერილობითი კომუნიკაცია | H1: ანალიტიკური აზროვნება | I1: საბაზისო კომპიუტერული კომპეტენციები | J1: სტრატეგია და ხედვა | K1: სპეციფიური პროგრამული კომპეტენციები | L1: კანონმდებლობა | M1: უცხო ენა
A2: რეფორმებისა და დაგეგმვის დეპარტამენტი
A3: დეპარტამენტის უფროსი | B3: 0.15 | C3: 0.1 | D3: 0.05 | E3: 0.1 | F3: 0.1 | G3: 0.1 | H3: 0.05 | I3: 0.05 | J3: 0.1 | K3: 0.05 | L3: 0.05 | M3: 0.1 | N3: =B3+C3+D3+E3+F3+G3+H3+I3+J3+K3+L3+M3 -> 1
A4: დეპარტამენტის უფროსის მოადგილე | B4: 0.15 | C4: 0.1 | D4: 0.05 | E4: 0.1 | F4: 0.1 | G4: 0.1 | H4: 0.05 | I4: 0.05 | J4: 0.1 | K4: 0.05 | L4: 0.05 | M4: 0.1 | N4: =B4+C4+D4+E4+F4+G4+H4+I4+J4+K4+L4+M4 -> 1
A5: მთავარი სპეციალისტი | B5: 0.1 | C5: 0.05 | D5: 0.1 | E5: 0.05 | F5: 0.1 | G5: 0.1 | H5: 0.1 | I5: 0.1 | J5: 0.1 | K5: 0.05 | L5: 0.05 | M5: 0.1 | N5: =B5+C5+D5+E5+F5+G5+H5+I5+J5+K5+L5+M5 -> 1
A6: უფროსი სპეციალისტი | B6: 0.1 | C6: 0.05 | D6: 0.1 | E6: 0.05 | F6: 0.1 | G6: 0.1 | H6: 0.1 | I6: 0.1 | J6: 0.1 | K6: 0.05 | L6: 0.05 | M6: 0.1 | N6: =B6+C6+D6+E6+F6+G6+H6+I6+J6+K6+L6+M6 -> 1
A7: ოპერაციული დაგეგმვისა და მენეჯერული ინფორმაციის სამმართველო
A8: სამმართველოს უფროსი | B8: 0.1 | C8: 0.1 | D8: 0.05 | E8: 0.05 | F8: 0.1 | G8: 0.1 | H8: 0.1 | I8: 0.05 | J8: 0.1 | K8: 0.1 | L8: 0.05 | M8: 0.1 | N8: =B8+C8+D8+E8+F8+G8+H8+I8+J8+K8+L8+M8 -> 1
A9: მთავარი სპეციალისტი | B9: 0.1 | C9: 0.05 | D9: 0.1 | E9: 0.05 | F9: 0.1 | G9: 0.1 | H9: 0.1 | I9: 0.1 | J9: 0.05 | K9: 0.1 | L9: 0.05 | M9: 0.1 | N9: =B9+C9+D9+E9+F9+G9+H9+I9+J9+K9+L9+M9 -> 1
A10: უფროსი სპეციალისტი | B10: 0.1 | C10: 0.05 | D10: 0.1 | E10: 0.05 | F10: 0.1 | G10: 0.1 | H10: 0.1 | I10: 0.1 | J10: 0.05 | K10: 0.1 | L10: 0.05 | M10: 0.1 | N10: =B10+C10+D10+E10+F10+G10+H10+I10+J10+K10+L10+M10 -> 1

Sheet საგადასახადო მონიტორინგის დეპარ
A1: პოზიცია | B1: ხარისხის, რისკებისა და ოპერაციების მართვა | C1: ლიდერობა და მართვა | D1: გუნდურობა | E1: პროაქტიურობა / ინიციატივა | F1: პრობლემის გადაჭრა / გადაწყვეტილების მიღება | G1: ზეპირი და წერილობითი კომუნიკაცია | H1: ანალიტიკური აზროვნება | I1: საბაზისო კომპიუტერული კომპეტენციები | J1: სტრატეგია და ხედვა | K1: სპეციფიური პროგრამული კომპეტენციები | L1: კანონმდებლობა
A2: საგადასახადო მონიტორინგის დეპარტამენტი
A3: =[1]აგვისტო!A1938 -> დეპარტამენტის უფროსი | B3: 0.15 | C3: 0.1 | D3: 0.05 | E3: 0.1 | F3: 0.15 | G3: 0.1 | H3: 0.1 | I3: 0.05 | J3: 0.1 | K3: 0.05 | L3: 0.05 | M3: =B3+C3+D3+E3+F3+G3+H3+I3+J3+K3+L3 -> 1
A4: =[1]აგვისტო!A1939 -> დეპარტამენტის უფროსის მოადგილე | B4: 0.15 | C4: 0.1 | D4: 0.05 | E4: 0.1 | F4: 0.15 | G4: 0.1 | H4: 0.1 | I4: 0.05 | J4: 0.1 | K4: 0.05 | L4: 0.05 | M4: =B4+C4+D4+E4+F4+G4+H4+I4+J4+K4+L4 -> 1
A5: =[1]აგვისტო!A1942 -> მრჩეველი | B5: 0.15 | C5: 0.05 | D5: 0.05 | E5: 0.05 | F5: 0.15 | G5: 0.15 | H5: 0.1 | I5: 0.1 | J5: 0.05 | K5: 0.1 | L5: 0.05 | M5: =B5+C5+D5+E5+F5+G5+H5+I5+J5+K5+L5 -> 1
A6: =[1]აგვისტო!A1943 -> უფროსი სპეციალისტი | B6: 0.15 | C6: 0.05 | D6: 0.05 | E6: 0.05 | F6: 0.15 | G6: 0.15 | H6: 0.1 | I6: 0.1 | J6: 0.05 | K6: 0.1 | L6: 0.05 | M6: =B6+C6+D6+E6+F6+G6+H6+I6+J6+K6+L6 -> 1
A7: =[1]აგვისტო!A1945 -> სამართლებრივ საკითხთა სამმართველო
A8: =[1]აგვისტო!A1946 -> სამმართველოს უფროსი | B8: 0.15 | C8: 0.1 | D8: 0.1 | E8: 0.05 | F8: 0.1 | G8: 0.1 | H8: 0.1 | I8: 0.05 | J8: 0.05 | K8: 0.1 | L8: 0.1 | M8: =B8+C8+D8+E8+F8+G8+H8+I8+J8+K8+L8 -> 1
A9: =[1]აგვისტო!A1947 -> სამმართველოს უფროსის მოადგილე | B9: 0.15 | C9: 0.1 | D9: 0.1 | E9: 0.05 | F9: 0.1 | G9: 0.1 | H9: 0.1 | I9: 0.05 | J9: 0.05 | K9: 0.1 | L9: 0.1 | M9: =B9+C9+D9+E9+F9+G9+H9+I9+J9+K9+L9 -> 1
A10: =[1]აგვისტო!A1948 -> მთავარი ოფიცერი | B10: 0.15 | C10: 0.05 | D10: 0.1 | E10: 0.05 | F10: 0.1 | G10: 0.1 | H10: 0.1 | I10: 0.05 | J10: 0.05 | K10: 0.1 | L10: 0.15 | M10: =B10+C10+D10+E10+F10+G10+H10+I10+J10+K10+L10 -> 1
A11: =[1]აგვისტო!A1954 -> უფროსი ოფიცერი | B11: 0.1 | C11: 0.05 | D11: 0.1 | E11: 0.05 | F11: 0.1 | G11: 0.1 | H11: 0.1 | I11: 0.1 | J11: 0.05 | K11: 0.1 | L11: 0.15 | M11: =B11+C11+D11+E11+F11+G11+H11+I11+J11+K11+L11 -> 1
A12: =[1]აგვისტო!A1961 -> ოფიცერი | B12: 0.1 | C12: 0.05 | D12: 0.1 | E12: 0.05 | F12: 0.1 | G12: 0.1 | H12: 0.1 | I12: 0.1 | J12: 0.05 | K12: 0.1 | L12: 0.15 | M12: =B12+C12+D12+E12+F12+G12+H12+I12+J12+K12+L12 -> 1
A13: =[1]აგვისტო!$A$1968 -> მონიტორინგის სამმართველო
A14: =[1]აგვისტო!A1969 -> სამმართველოს უფროსი | B14: 0.15 | C14: 0.15 | D14: 0.1 | E14: 0.05 | F14: 0.1 | G14: 0.1 | H14: 0.1 | I14: 0.03 | J14: 0.05 | K14: 0.07 | L14: 0.1 | M14: =B14+C14+D14+E14+F14+G14+H14+I14+J14+K14+L14 -> 1
A15: =[1]აგვისტო!A1970 -> სამმართველოს უფროსის მოადგილე | B15: 0.15 | C15: 0.15 | D15: 0.1 | E15: 0.05 | F15: 0.1 | G15: 0.1 | H15: 0.1 | I15: 0.03 | J15: 0.05 | K15: 0.07 | L15: 0.1 | M15: =B15+C15+D15+E15+F15+G15+H15+I15+J15+K15+L15 -> 1
A16: =[1]აგვისტო!A1973 -> აღმოსავლეთის განყოფილება
A17: =[1]აგვისტო!A1974 -> განყოფილების უფროსი | B17: 0.15 | C17: 0.1 | D17: 0.1 | E17: 0.05 | F17: 0.1 | G17: 0.1 | H17: 0.1 | I17: 0.05 | J17: 0.05 | K17: 0.1 | L17: 0.1 | M17: =B17+C17+D17+E17+F17+G17+H17+I17+J17+K17+L17 -> 1
A18: =[1]აგვისტო!A1976 -> უფროსი ოფიცერი | B18: 0.15 | C18: 0.05 | D18: 0.15 | E18: 0.05 | F18: 0.1 | G18: 0.1 | H18: 0.1 | I18: 0.05 | J18: 0.05 | K18: 0.1 | L18: 0.1 | M18: =B18+C18+D18+E18+F18+G18+H18+I18+J18+K18+L18 -> 1
A19: =[1]აგვისტო!A1984 -> ოფიცერი | B19: 0.15 | C19: 0.05 | D19: 0.15 | E19: 0.05 | F19: 0.1 | G19: 0.1 | H19: 0.1 | I19: 0.05 | J19: 0.05 | K19: 0.1 | L19: 0.1 | M19: =B19+C19+D19+E19+F19+G19+H19+I19+J19+K19+L19 -> 1
A20: =[1]აგვისტო!$A$2031 -> დასავლეთის განყოფილება
A21: =[1]აგვისტო!A2032 -> განყოფილების უფროსი | B21: 0.15 | C21: 0.1 | D21: 0.1 | E21: 0.05 | F21: 0.1 | G21: 0.1 | H21: 0.1 | I21: 0.05 | J21: 0.05 | K21: 0.1 | L21: 0.1 | M21: =B21+C21+D21+E21+F21+G21+H21+I21+J21+K21+L21 -> 1
A22: =[1]აგვისტო!A2033 -> უფროსი ოფიცერი | B22: 0.15 | C22: 0.05 | D22: 0.15 | E22: 0.05 | F22: 0.1 | G22: 0.1 | H22: 0.1 | I22: 0.05 | J22: 0.05 | K22: 0.1 | L22: 0.1 | M22: =B22+C22+D22+E22+F22+G22+H22+I22+J22+K22+L22 -> 1
A23: =[1]აგვისტო!A2037 -> ოფიცერი | B23: 0.15 | C23: 0.05 | D23: 0.15 | E23: 0.05 | F23: 0.1 | G23: 0.1 | H23: 0.1 | I23: 0.05 | J23: 0.05 | K23: 0.1 | L23: 0.1 | M23: =B23+C23+D23+E23+F23+G23+H23+I23+J23+K23+L23 -> 1
A24: =[1]აგვისტო!$A$2053 -> მიმდინარე კონტროლის სამმართველო
A25: =[1]აგვისტო!A2054 -> სამმართველოს უფროსი | B25: 0.1 | C25: 0.1 | D25: 0.1 | E25: 0.1 | F25: 0.1 | G25: 0.1 | H25: 0.1 | I25: 0.05 | J25: 0.05 | K25: 0.05 | L25: 0.15 | M25: =B25+C25+D25+E25+F25+G25+H25+I25+J25+K25+L25 -> 1
A26: =[1]აგვისტო!A2055 -> სამმართველოს უფროსის მოადგილე | B26: 0.1 | C26: 0.1 | D26: 0.1 | E26: 0.1 | F26: 0.1 | G26: 0.1 | H26: 0.1 | I26: 0.05 | J26: 0.05 | K26: 0.05 | L26: 0.15 | M26: =B26+C26+D26+E26+F26+G26+H26+I26+J26+K26+L26 -> 1
A27: =[1]აგვისტო!A2057 -> მთავარი ოფიცერი | B27: 0.15 | C27: 0.05 | D27: 0.1 | E27: 0.05 | F27: 0.1 | G27: 0.1 | H27: 0.15 | I27: 0.05 | J27: 0.05 | K27: 0.05 | L27: 0.15 | M27: =B27+C27+D27+E27+F27+G27+H27+I27+J27+K27+L27 -> 1
A28: =[1]აგვისტო!A2077 -> უფროსი ოფიცერი | B28: 0.15 | C28: 0.05 | D28: 0.1 | E28: 0.05 | F28: 0.1 | G28: 0.1 | H28: 0.15 | I28: 0.05 | J28: 0.05 | K28: 0.05 | L28: 0.15 | M28: =B28+C28+D28+E28+F28+G28+H28+I28+J28+K28+L28 -> 1
A29: =[1]აგვისტო!A2121 -> ოფიცერი | B29: 0.15 | C29: 0.05 | D29: 0.1 | E29: 0.05 | F29: 0.1 | G29: 0.1 | H29: 0.15 | I29: 0.05 | J29: 0.05 | K29: 0.05 | L29: 0.15 | M29: =B29+C29+D29+E29+F29+G29+H29+I29+J29+K29+L29 -> 1
A30: =[1]აგვისტო!$A$2123 -> დეკლარირების კულტურის ამაღლების სამმართველო
A31: =[1]აგვისტო!A2124 -> სამმართველოს უფროსი | B31: 0.15 | C31: 0.1 | D31: 0.1 | E31: 0.05 | F31: 0.1 | G31: 0.1 | H31: 0.1 | I31: 0.05 | J31: 0.05 | K31: 0.05 | L31: 0.15 | M31: =B31+C31+D31+E31+F31+G31+H31+I31+J31+K31+L31 -> 1
A32: სამმართველოს უფროსის მოადგილე | B32: 0.15 | C32: 0.1 | D32: 0.1 | E32: 0.05 | F32: 0.1 | G32: 0.1 | H32: 0.1 | I32: 0.05 | J32: 0.05 | K32: 0.05 | L32: 0.15 | M32: =B32+C32+D32+E32+F32+G32+H32+I32+J32+K32+L32 -> 1
A33: მთავარი ოფიცერი | B33: 0.15 | C33: 0.1 | D33: 0.1 | E33: 0.05 | F33: 0.1 | G33: 0.1 | H33: 0.1 | I33: 0.05 | J33: 0.05 | K33: 0.05 | L33: 0.15 | M33: =B33+C33+D33+E33+F33+G33+H33+I33+J33+K33+L33 -> 1
A34: =[1]აგვისტო!A2125 -> უფროსი ოფიცერი | B34: 0.15 | C34: 0.1 | D34: 0.1 | E34: 0.05 | F34: 0.1 | G34: 0.1 | H34: 0.1 | I34: 0.05 | J34: 0.05 | K34: 0.05 | L34: 0.15 | M34: =B34+C34+D34+E34+F34+G34+H34+I34+J34+K34+L34 -> 1
A35: =[1]აგვისტო!A2127 -> ოფიცერი | B35: 0.1 | C35: 0.05 | D35: 0.1 | E35: 0.05 | F35: 0.1 | G35: 0.1 | H35: 0.1 | I35: 0.1 | J35: 0.05 | K35: 0.1 | L35: 0.15 | M35: =B35+C35+D35+E35+F35+G35+H35+I35+J35+K35+L35 -> 1
A36: =[1]აგვისტო!$A$2132 -> სამართალდარღვევათა გამოვლენის სამმართველო
A37: =[1]აგვისტო!A2133 -> სამმართველოს უფროსი | B37: 0.1 | C37: 0.1 | D37: 0.1 | E37: 0.1 | F37: 0.1 | G37: 0.1 | H37: 0.1 | I37: 0.05 | J37: 0.05 | K37: 0.05 | L37: 0.15 | M37: =B37+C37+D37+E37+F37+G37+H37+I37+J37+K37+L37 -> 1
A38: =[1]აგვისტო!A2134 -> სამმართველოს უფროსის მოადგილე | B38: 0.1 | C38: 0.1 | D38: 0.1 | E38: 0.1 | F38: 0.1 | G38: 0.1 | H38: 0.1 | I38: 0.05 | J38: 0.05 | K38: 0.05 | L38: 0.15 | M38: =B38+C38+D38+E38+F38+G38+H38+I38+J38+K38+L38 -> 1
A39: =[1]აგვისტო!A2152 -> მთავარი ოფიცერი | B39: 0.15 | C39: 0.05 | D39: 0.1 | E39: 0.05 | F39: 0.1 | G39: 0.1 | H39: 0.15 | I39: 0.05 | J39: 0.05 | K39: 0.05 | L39: 0.15 | M39: =B39+C39+D39+E39+F39+G39+H39+I39+J39+K39+L39 -> 1
A40: =[1]აგვისტო!A2153 -> უფროსი ოფიცერი | B40: 0.15 | C40: 0.05 | D40: 0.1 | E40: 0.05 | F40: 0.1 | G40: 0.1 | H40: 0.15 | I40: 0.05 | J40: 0.05 | K40: 0.05 | L40: 0.15 | M40: =B40+C40+D40+E40+F40+G40+H40+I40+J40+K40+L40 -> 1
A41: =[1]აგვისტო!A2169 -> ოფიცერი | B41: 0.15 | C41: 0.05 | D41: 0.1 | E41: 0.05 | F41: 0.1 | G41: 0.1 | H41: 0.15 | I41: 0.05 | J41: 0.05 | K41: 0.05 | L41: 0.15 | M41: =B41+C41+D41+E41+F41+G41+H41+I41+J41+K41+L41 -> 1
A42: =[1]აგვისტო!$A$2171 -> ადმინისტრაციულ სამართალდარღვევათა გამოვლენის სამმართველო
A43: =[1]აგვისტო!A2172 -> სამმართველოს უფროსი | B43: 0.1 | C43: 0.1 | D43: 0.1 | E43: 0.1 | F43: 0.1 | G43: 0.1 | H43: 0.1 | I43: 0.05 | J43: 0.05 | K43: 0.05 | L43: 0.15 | M43: =B43+C43+D43+E43+F43+G43+H43+I43+J43+K43+L43 -> 1
A44: =[1]აგვისტო!A2173 -> სამმართველოს უფროსის მოადგილე | B44: 0.1 | C44: 0.1 | D44: 0.1 | E44: 0.1 | F44: 0.1 | G44: 0.1 | H44: 0.1 | I44: 0.05 | J44: 0.05 | K44: 0.05 | L44: 0.15 | M44: =B44+C44+D44+E44+F44+G44+H44+I44+J44+K44+L44 -> 1
A45: =[1]აგვისტო!A2182 -> ოფიცერი | B45: 0.15 | C45: 0.05 | D45: 0.1 | E45: 0.05 | F45: 0.1 | G45: 0.1 | H45: 0.15 | I45: 0.05 | J45: 0.05 | K45: 0.05 | L45: 0.15 | M45: =B45+C45+D45+E45+F45+G45+H45+I45+J45+K45+L45 -> 1
A46: =[1]აგვისტო!$A$2198 -> ყადაღის ღონისძიების განხორციელების სამმართველო
A47: =[1]აგვისტო!A2199 -> სამმართველოს უფროსი | B47: 0.15 | C47: 0.1 | D47: 0.1 | E47: 0.05 | F47: 0.1 | G47: 0.1 | H47: 0.1 | I47: 0.05 | J47: 0.05 | K47: 0.1 | L47: 0.1 | M47: =B47+C47+D47+E47+F47+G47+H47+I47+J47+K47+L47 -> 1
A48: =[1]აგვისტო!A2200 -> სამმართველოს უფროსის მოადგილე | B48: 0.15 | C48: 0.1 | D48: 0.1 | E48: 0.05 | F48: 0.1 | G48: 0.1 | H48: 0.1 | I48: 0.05 | J48: 0.05 | K48: 0.1 | L48: 0.1 | M48: =B48+C48+D48+E48+F48+G48+H48+I48+J48+K48+L48 -> 1
A49: =[1]აგვისტო!A2214 -> მთავარი ოფიცერი | B49: 0.15 | C49: 0.05 | D49: 0.1 | E49: 0.05 | F49: 0.1 | G49: 0.1 | H49: 0.1 | I49: 0.05 | J49: 0.05 | K49: 0.1 | L49: 0.15 | M49: =B49+C49+D49+E49+F49+G49+H49+I49+J49+K49+L49 -> 1
A50: =[1]აგვისტო!A2218 -> უფროსი ოფიცერი | B50: 0.15 | C50: 0.05 | D50: 0.1 | E50: 0.05 | F50: 0.1 | G50: 0.1 | H50: 0.1 | I50: 0.05 | J50: 0.05 | K50: 0.1 | L50: 0.15 | M50: =B50+C50+D50+E50+F50+G50+H50+I50+J50+K50+L50 -> 1
A51: =[1]აგვისტო!A2219 -> ოფიცერი | B51: 0.15 | C51: 0.05 | D51: 0.1 | E51: 0.05 | F51: 0.1 | G51: 0.1 | H51: 0.1 | I51: 0.05 | J51: 0.05 | K51: 0.1 | L51: 0.15 | M51: =B51+C51+D51+E51+F51+G51+H51+I51+J51+K51+L51 -> 1
A52: =[1]აგვისტო!$A$2234 -> ექსპერტიზის სამმართველო
A53: =[1]აგვისტო!A2235 -> სამმართველოს უფროსი | B53: 0.1 | C53: 0.1 | D53: 0.1 | E53: 0.1 | F53: 0.1 | G53: 0.1 | H53: 0.15 | I53: 0.05 | J53: 0.05 | K53: 0.1 | L53: 0.05 | M53: =B53+C53+D53+E53+F53+G53+H53+I53+J53+K53+L53 -> 1
A54: =[1]აგვისტო!A2236 -> სამმართველოს უფროსის მოადგილე | B54: 0.1 | C54: 0.1 | D54: 0.1 | E54: 0.1 | F54: 0.1 | G54: 0.1 | H54: 0.15 | I54: 0.05 | J54: 0.05 | K54: 0.1 | L54: 0.05 | M54: =B54+C54+D54+E54+F54+G54+H54+I54+J54+K54+L54 -> 1
A55: =[1]აგვისტო!A2237 -> ექსპერტი | B55: 0.1 | C55: 0.05 | D55: 0.1 | E55: 0.1 | F55: 0.1 | G55: 0.1 | H55: 0.15 | I55: 0.05 | J55: 0.05 | K55: 0.1 | L55: 0.1 | M55: =B55+C55+D55+E55+F55+G55+H55+I55+J55+K55+L55 -> 1
A56: =[1]აგვისტო!$A$2256 -> ქვემო ქართლის სამმართველო
A57: =[1]აგვისტო!A2257 -> სამმართველოს უფროსი | B57: 0.1 | C57: 0.1 | D57: 0.1 | E57: 0.1 | F57: 0.1 | G57: 0.1 | H57: 0.1 | I57: 0.05 | J57: 0.05 | K57: 0.05 | L57: 0.15 | M57: =B57+C57+D57+E57+F57+G57+H57+I57+J57+K57+L57 -> 1
A58: =[1]აგვისტო!A2258 -> სამმართველოს უფროსის მოადგილე | B58: 0.1 | C58: 0.1 | D58: 0.1 | E58: 0.1 | F58: 0.1 | G58: 0.1 | H58: 0.1 | I58: 0.05 | J58: 0.05 | K58: 0.05 | L58: 0.15 | M58: =B58+C58+D58+E58+F58+G58+H58+I58+J58+K58+L58 -> 1
A59: =[1]აგვისტო!A2260 -> მთავარი ოფიცერი | B59: 0.1 | C59: 0.05 | D59: 0.1 | E59: 0.1 | F59: 0.15 | G59: 0.1 | H59: 0.1 | I59: 0.05 | J59: 0.05 | K59: 0.05 | L59: 0.15 | M59: =B59+C59+D59+E59+F59+G59+H59+I59+J59+K59+L59 -> 1
A60: =[1]აგვისტო!A2272 -> უფროსი ოფიცერი | B60: 0.1 | C60: 0.05 | D60: 0.1 | E60: 0.1 | F60: 0.15 | G60: 0.1 | H60: 0.1 | I60: 0.05 | J60: 0.05 | K60: 0.05 | L60: 0.15 | M60: =B60+C60+D60+E60+F60+G60+H60+I60+J60+K60+L60 -> 1
A61: =[1]აგვისტო!A2273 -> ოფიცერი | B61: 0.1 | C61: 0.05 | D61: 0.1 | E61: 0.1 | F61: 0.15 | G61: 0.1 | H61: 0.1 | I61: 0.05 | J61: 0.05 | K61: 0.05 | L61: 0.15 | M61: =B61+C61+D61+E61+F61+G61+H61+I61+J61+K61+L61 -> 1
A62: =[1]აგვისტო!$A$2281 -> შიდა ქართლისა და მცხეთა-მთიანეთის სამმართველო
A63: =[1]აგვისტო!A2282 -> სამმართველოს უფროსი | B63: 0.1 | C63: 0.1 | D63: 0.1 | E63: 0.1 | F63: 0.1 | G63: 0.1 | H63: 0.1 | I63: 0.05 | J63: 0.05 | K63: 0.05 | L63: 0.15 | M63: =B63+C63+D63+E63+F63+G63+H63+I63+J63+K63+L63 -> 1
A64: =[1]აგვისტო!A2283 -> სამმართველოს უფროსის მოადგილე | B64: 0.1 | C64: 0.1 | D64: 0.1 | E64: 0.1 | F64: 0.1 | G64: 0.1 | H64: 0.1 | I64: 0.05 | J64: 0.05 | K64: 0.05 | L64: 0.15 | M64: =B64+C64+D64+E64+F64+G64+H64+I64+J64+K64+L64 -> 1
A65: =[1]აგვისტო!A2284 -> მთავარი ოფიცერი | B65: 0.1 | C65: 0.05 | D65: 0.1 | E65: 0.1 | F65: 0.15 | G65: 0.1 | H65: 0.1 | I65: 0.05 | J65: 0.05 | K65: 0.05 | L65: 0.15 | M65: =B65+C65+D65+E65+F65+G65+H65+I65+J65+K65+L65 -> 1
A66: =[1]აგვისტო!A2294 -> უფროსი ოფიცერი | B66: 0.1 | C66: 0.05 | D66: 0.1 | E66: 0.1 | F66: 0.15 | G66: 0.1 | H66: 0.1 | I66: 0.05 | J66: 0.05 | K66: 0.05 | L66: 0.15 | M66: =B66+C66+D66+E66+F66+G66+H66+I66+J66+K66+L66 -> 1
A67: =[1]აგვისტო!A2295 -> ოფიცერი | B67: 0.1 | C67: 0.05 | D67: 0.1 | E67: 0.1 | F67: 0.15 | G67: 0.1 | H67: 0.1 | I67: 0.05 | J67: 0.05 | K67: 0.05 | L67: 0.15 | M67: =B67+C67+D67+E67+F67+G67+H67+I67+J67+K67+L67 -> 1
A68: =[1]აგვისტო!$A$2302 -> კახეთის სამმართველო
A69: =[1]აგვისტო!A2303 -> სამმართველოს უფროსი | B69: 0.1 | C69: 0.1 | D69: 0.1 | E69: 0.1 | F69: 0.1 | G69: 0.1 | H69: 0.1 | I69: 0.05 | J69: 0.05 | K69: 0.05 | L69: 0.15 | M69: =B69+C69+D69+E69+F69+G69+H69+I69+J69+K69+L69 -> 1
A70: =[1]აგვისტო!A2304 -> სამმართველოს უფროსის მოადგილე | B70: 0.1 | C70: 0.1 | D70: 0.1 | E70: 0.1 | F70: 0.1 | G70: 0.1 | H70: 0.1 | I70: 0.05 | J70: 0.05 | K70: 0.05 | L70: 0.15 | M70: =B70+C70+D70+E70+F70+G70+H70+I70+J70+K70+L70 -> 1
A71: =[1]აგვისტო!A2305 -> მთავარი ოფიცერი | B71: 0.1 | C71: 0.05 | D71: 0.1 | E71: 0.1 | F71: 0.15 | G71: 0.1 | H71: 0.1 | I71: 0.05 | J71: 0.05 | K71: 0.05 | L71: 0.15 | M71: =B71+C71+D71+E71+F71+G71+H71+I71+J71+K71+L71 -> 1
A72: =[1]აგვისტო!A2310 -> უფროსი ოფიცერი | B72: 0.1 | C72: 0.05 | D72: 0.1 | E72: 0.1 | F72: 0.15 | G72: 0.1 | H72: 0.1 | I72: 0.05 | J72: 0.05 | K72: 0.05 | L72: 0.15 | M72: =B72+C72+D72+E72+F72+G72+H72+I72+J72+K72+L72 -> 1
A73: =[1]აგვისტო!A2311 -> ოფიცერი | B73: 0.1 | C73: 0.05 | D73: 0.1 | E73: 0.1 | F73: 0.15 | G73: 0.1 | H73: 0.1 | I73: 0.05 | J73: 0.05 | K73: 0.05 | L73: 0.15 | M73: =B73+C73+D73+E73+F73+G73+H73+I73+J73+K73+L73 -> 1
A74: =[1]აგვისტო!$A$2323 -> სამცხე-ჯავახეთის სამმართველო
A75: =[1]აგვისტო!A2324 -> სამმართველოს უფროსი | B75: 0.1 | C75: 0.1 | D75: 0.1 | E75: 0.1 | F75: 0.1 | G75: 0.1 | H75: 0.1 | I75: 0.05 | J75: 0.05 | K75: 0.05 | L75: 0.15 | M75: =B75+C75+D75+E75+F75+G75+H75+I75+J75+K75+L75 -> 1
A76: =[1]აგვისტო!A2325 -> სამმართველოს უფროსის მოადგილე | B76: 0.1 | C76: 0.1 | D76: 0.1 | E76: 0.1 | F76: 0.1 | G76: 0.1 | H76: 0.1 | I76: 0.05 | J76: 0.05 | K76: 0.05 | L76: 0.15 | M76: =B76+C76+D76+E76+F76+G76+H76+I76+J76+K76+L76 -> 1
A77: =[1]აგვისტო!A2326 -> მთავარი ოფიცერი | B77: 0.1 | C77: 0.05 | D77: 0.1 | E77: 0.1 | F77: 0.15 | G77: 0.1 | H77: 0.1 | I77: 0.05 | J77: 0.05 | K77: 0.05 | L77: 0.15 | M77: =B77+C77+D77+E77+F77+G77+H77+I77+J77+K77+L77 -> 1
A78: =[1]აგვისტო!A2337 -> უფროსი ოფიცერი | B78: 0.1 | C78: 0.05 | D78: 0.1 | E78: 0.1 | F78: 0.15 | G78: 0.1 | H78: 0.1 | I78: 0.05 | J78: 0.05 | K78: 0.05 | L78: 0.15 | M78: =B78+C78+D78+E78+F78+G78+H78+I78+J78+K78+L78 -> 1
A79: =[1]აგვისტო!A2338 -> ოფიცერი | B79: 0.1 | C79: 0.05 | D79: 0.1 | E79: 0.1 | F79: 0.15 | G79: 0.1 | H79: 0.1 | I79: 0.05 | J79: 0.05 | K79: 0.05 | L79: 0.15 | M79: =B79+C79+D79+E79+F79+G79+H79+I79+J79+K79+L79 -> 1
A80: =[1]აგვისტო!$A$2344 -> იმერეთისა და რაჭა-ლეჩხუმის სამმართველო
A81: =[1]აგვისტო!A2345 -> სამმართველოს უფროსი | B81: 0.1 | C81: 0.1 | D81: 0.1 | E81: 0.1 | F81: 0.1 | G81: 0.1 | H81: 0.1 | I81: 0.05 | J81: 0.05 | K81: 0.05 | L81: 0.15 | M81: =B81+C81+D81+E81+F81+G81+H81+I81+J81+K81+L81 -> 1
A82: =[1]აგვისტო!A2346 -> სამმართველოს უფროსის მოადგილე | B82: 0.1 | C82: 0.1 | D82: 0.1 | E82: 0.1 | F82: 0.1 | G82: 0.1 | H82: 0.1 | I82: 0.05 | J82: 0.05 | K82: 0.05 | L82: 0.15 | M82: =B82+C82+D82+E82+F82+G82+H82+I82+J82+K82+L82 -> 1
A83: =[1]აგვისტო!A2347 -> მთავარი ოფიცერი | B83: 0.1 | C83: 0.05 | D83: 0.1 | E83: 0.1 | F83: 0.15 | G83: 0.1 | H83: 0.1 | I83: 0.05 | J83: 0.05 | K83: 0.05 | L83: 0.15 | M83: =B83+C83+D83+E83+F83+G83+H83+I83+J83+K83+L83 -> 1
A84: =[1]აგვისტო!A2380 -> უფროსი ოფიცერი | B84: 0.1 | C84: 0.05 | D84: 0.1 | E84: 0.1 | F84: 0.15 | G84: 0.1 | H84: 0.1 | I84: 0.05 | J84: 0.05 | K84: 0.05 | L84: 0.15 | M84: =B84+C84+D84+E84+F84+G84+H84+I84+J84+K84+L84 -> 1
A85: =[1]აგვისტო!A2381 -> ოფიცერი | B85: 0.1 | C85: 0.05 | D85: 0.1 | E85: 0.1 | F85: 0.15 | G85: 0.1 | H85: 0.1 | I85: 0.05 | J85: 0.05 | K85: 0.05 | L85: 0.15 | M85: =B85+C85+D85+E85+F85+G85+H85+I85+J85+K85+L85 -> 1
A86: =[1]აგვისტო!$A$2388 -> სამეგრელოს, გურიისა და ზემო სვანეთის სამმართველო
A87: =[1]აგვისტო!A2389 -> სამმართველოს უფროსი | B87: 0.1 | C87: 0.1 | D87: 0.1 | E87: 0.1 | F87: 0.1 | G87: 0.1 | H87: 0.1 | I87: 0.05 | J87: 0.05 | K87: 0.05 | L87: 0.15 | M87: =B87+C87+D87+E87+F87+G87+H87+I87+J87+K87+L87 -> 1
A88: =[1]აგვისტო!A2390 -> სამმართველოს უფროსის მოადგილე | B88: 0.1 | C88: 0.1 | D88: 0.1 | E88: 0.1 | F88: 0.1 | G88: 0.1 | H88: 0.1 | I88: 0.05 | J88: 0.05 | K88: 0.05 | L88: 0.15 | M88: =B88+C88+D88+E88+F88+G88+H88+I88+J88+K88+L88 -> 1
A89: =[1]აგვისტო!A2391 -> მთავარი ოფიცერი | B89: 0.1 | C89: 0.05 | D89: 0.1 | E89: 0.1 | F89: 0.15 | G89: 0.1 | H89: 0.1 | I89: 0.05 | J89: 0.05 | K89: 0.05 | L89: 0.15 | M89: =B89+C89+D89+E89+F89+G89+H89+I89+J89+K89+L89 -> 1
A90: =[1]აგვისტო!A2406 -> უფროსი ოფიცერი | B90: 0.1 | C90: 0.05 | D90: 0.1 | E90: 0.1 | F90: 0.15 | G90: 0.1 | H90: 0.1 | I90: 0.05 | J90: 0.05 | K90: 0.05 | L90: 0.15 | M90: =B90+C90+D90+E90+F90+G90+H90+I90+J90+K90+L90 -> 1
A91: =[1]აგვისტო!A2407 -> ოფიცერი | B91: 0.1 | C91: 0.05 | D91: 0.1 | E91: 0.1 | F91: 0.15 | G91: 0.1 | H91: 0.1 | I91: 0.05 | J91: 0.05 | K91: 0.05 | L91: 0.15 | M91: =B91+C91+D91+E91+F91+G91+H91+I91+J91+K91+L91 -> 1
A92: =[1]აგვისტო!$A$2422 -> აჭარის სამმართველო
A93: =[1]აგვისტო!A2423 -> სამმართველოს უფროსი | B93: 0.1 | C93: 0.1 | D93: 0.1 | E93: 0.1 | F93: 0.1 | G93: 0.1 | H93: 0.1 | I93: 0.05 | J93: 0.05 | K93: 0.05 | L93: 0.15 | M93: =B93+C93+D93+E93+F93+G93+H93+I93+J93+K93+L93 -> 1
A94: =[1]აგვისტო!A2424 -> სამმართველოს უფროსის მოადგილე | B94: 0.1 | C94: 0.1 | D94: 0.1 | E94: 0.1 | F94: 0.1 | G94: 0.1 | H94: 0.1 | I94: 0.05 | J94: 0.05 | K94: 0.05 | L94: 0.15 | M94: =B94+C94+D94+E94+F94+G94+H94+I94+J94+K94+L94 -> 1
A95: =[1]აგვისტო!A2425 -> მთავარი ოფიცერი | B95: 0.1 | C95: 0.05 | D95: 0.1 | E95: 0.1 | F95: 0.15 | G95: 0.1 | H95: 0.1 | I95: 0.05 | J95: 0.05 | K95: 0.05 | L95: 0.15 | M95: =B95+C95+D95+E95+F95+G95+H95+I95+J95+K95+L95 -> 1
A96: =[1]აგვისტო!A2439 -> უფროსი ოფიცერი | B96: 0.1 | C96: 0.05 | D96: 0.1 | E96: 0.1 | F96: 0.15 | G96: 0.1 | H96: 0.1 | I96: 0.05 | J96: 0.05 | K96: 0.05 | L96: 0.15 | M96: =B96+C96+D96+E96+F96+G96+H96+I96+J96+K96+L96 -> 1
A97: =[1]აგვისტო!A2440 -> ოფიცერი | B97: 0.1 | C97: 0.05 | D97: 0.1 | E97: 0.1 | F97: 0.15 | G97: 0.1 | H97: 0.1 | I97: 0.05 | J97: 0.05 | K97: 0.05 | L97: 0.15 | M97: =B97+C97+D97+E97+F97+G97+H97+I97+J97+K97+L97 -> 1

Sheet ფინანსური დეპარტამენტი
A1: პოზიცია | B1: ხარისხის, რისკებისა და ოპერაციების მართვა | C1: ლიდერობა და მართვა | D1: გუნდურობა | E1: პროაქტიურობა/ინიციატივა | F1: პრობლემის გადაჭრა/გადაწყვეტილების მიღება | G1: ზეპირი და წერილობითი კომუნიკაცია | H1: ანალიტიკური აზროვნება | I1: საბაზისო კომპიუტერული კომპეტენციები | J1: სტრატეგია და ხედვა | K1: სპეციფიური პროგრამული კომპეტენციები | L1: კანონმდებლობა
A2: ფინანსური დეპარტამენტი
A3: დეპარტამენტის უფროსი | B3: 0.15 | C3: 0.1 | D3: 0.05 | E3: 0.1 | F3: 0.15 | G3: 0.1 | H3: 0.1 | I3: 0.05 | J3: 0.1 | K3: 0.05 | L3: 0.05 | M3: =B3+C3+D3+E3+F3+G3+H3+I3+J3+K3+L3 -> 1
A4: დეპარტამენტის უფროსის მოადგილე | B4: 0.15 | C4: 0.1 | D4: 0.05 | E4: 0.1 | F4: 0.15 | G4: 0.1 | H4: 0.1 | I4: 0.05 | J4: 0.1 | K4: 0.05 | L4: 0.05 | M4: =B4+C4+D4+E4+F4+G4+H4+I4+J4+K4+L4 -> 1
A5: მრჩეველი | B5: 0.1 | C5: 0.1 | D5: 0.05 | E5: 0.05 | F5: 0.1 | G5: 0.05 | H5: 0.1 | I5: 0.05 | J5: 0.1 | K5: 0.15 | L5: 0.15 | M5: =B5+C5+D5+E5+F5+G5+H5+I5+J5+K5+L5 -> 1
A6: კოორდინატორი | B6: 0.1 | C6: 0.1 | D6: 0.05 | E6: 0.05 | F6: 0.1 | G6: 0.05 | H6: 0.1 | I6: 0.05 | J6: 0.1 | K6: 0.15 | L6: 0.15 | M6: =B6+C6+D6+E6+F6+G6+H6+I6+J6+K6+L6 -> 1
A7: თანაშემწე | B7: 0.15 | C7: 0.05 | D7: 0.05 | E7: 0.05 | F7: 0.15 | G7: 0.15 | H7: 0.1 | I7: 0.1 | J7: 0.05 | K7: 0.1 | L7: 0.05 | M7: =B7+C7+D7+E7+F7+G7+H7+I7+J7+K7+L7 -> 1
A8: საფინანსო-საბიუჯეტო სამმართველო
A9: სამმართველოს უფროსი | B9: 0.1 | C9: 0.1 | D9: 0.05 | E9: 0.05 | F9: 0.1 | G9: 0.05 | H9: 0.1 | I9: 0.05 | J9: 0.1 | K9: 0.15 | L9: 0.15 | M9: =B9+C9+D9+E9+F9+G9+H9+I9+J9+K9+L9 -> 1
A10: მთავარი სპეციალისტი | B10: 0.1 | C10: 0.05 | D10: 0.05 | E10: 0.05 | F10: 0.1 | G10: 0.05 | H10: 0.1 | I10: 0.05 | J10: 0.1 | K10: 0.15 | L10: 0.2 | M10: =B10+C10+D10+E10+F10+G10+H10+I10+J10+K10+L10 -> 1
A11: სპეციალისტი | B11: 0.1 | C11: 0.05 | D11: 0.05 | E11: 0.05 | F11: 0.1 | G11: 0.05 | H11: 0.1 | I11: 0.05 | J11: 0.1 | K11: 0.15 | L11: 0.2 | M11: =B11+C11+D11+E11+F11+G11+H11+I11+J11+K11+L11 -> 1
A12: ბუღალტრული აღრიცხვისა და ანგარიშგების სამმართველო
A13: სამმართველოს უფროსი | B13: 0.1 | C13: 0.1 | D13: 0.05 | E13: 0.05 | F13: 0.1 | G13: 0.05 | H13: 0.1 | I13: 0.05 | J13: 0.1 | K13: 0.15 | L13: 0.15 | M13: =B13+C13+D13+E13+F13+G13+H13+I13+J13+K13+L13 -> 1
A14: სამმართველოს უფროსის მოადგილე | B14: 0.1 | C14: 0.1 | D14: 0.05 | E14: 0.05 | F14: 0.1 | G14: 0.05 | H14: 0.1 | I14: 0.05 | J14: 0.1 | K14: 0.15 | L14: 0.15 | M14: =B14+C14+D14+E14+F14+G14+H14+I14+J14+K14+L14 -> 1
A15: მთავარი სპეციალისტი | B15: 0.1 | C15: 0.05 | D15: 0.05 | E15: 0.05 | F15: 0.1 | G15: 0.05 | H15: 0.1 | I15: 0.05 | J15: 0.1 | K15: 0.15 | L15: 0.2 | M15: =B15+C15+D15+E15+F15+G15+H15+I15+J15+K15+L15 -> 1
A16: უფროსი სპეციალისტი | B16: 0.1 | C16: 0.05 | D16: 0.05 | E16: 0.05 | F16: 0.1 | G16: 0.05 | H16: 0.1 | I16: 0.05 | J16: 0.1 | K16: 0.15 | L16: 0.2 | M16: =B16+C16+D16+E16+F16+G16+H16+I16+J16+K16+L16 -> 1
A17: სახელმწიფო შესყიდვების სამმართველო
A18: სამმართველოს უფროსი | B18: 0.1 | C18: 0.1 | D18: 0.05 | E18: 0.05 | F18: 0.1 | G18: 0.05 | H18: 0.1 | I18: 0.05 | J18: 0.1 | K18: 0.15 | L18: 0.15 | M18: =B18+C18+D18+E18+F18+G18+H18+I18+J18+K18+L18 -> 1
A19: სამმართველოს უფროსის მოადგილე | B19: 0.1 | C19: 0.1 | D19: 0.05 | E19: 0.05 | F19: 0.1 | G19: 0.05 | H19: 0.1 | I19: 0.05 | J19: 0.1 | K19: 0.15 | L19: 0.15 | M19: =B19+C19+D19+E19+F19+G19+H19+I19+J19+K19+L19 -> 1
A20: მთავარი სპეციალისტი | B20: 0.1 | C20: 0.05 | D20: 0.05 | E20: 0.05 | F20: 0.1 | G20: 0.05 | H20: 0.1 | I20: 0.05 | J20: 0.1 | K20: 0.15 | L20: 0.2 | M20: =B20+C20+D20+E20+F20+G20+H20+I20+J20+K20+L20 -> 1
A21: სპეციალისტი | B21: 0.1 | C21: 0.05 | D21: 0.05 | E21: 0.05 | F21: 0.1 | G21: 0.05 | H21: 0.1 | I21: 0.05 | J21: 0.1 | K21: 0.15 | L21: 0.2 | M21: =B21+C21+D21+E21+F21+G21+H21+I21+J21+K21+L21 -> 1
A22: ლოჯისტიკისა და მატერიალურ-ტექნიკური უზრუნველყოფის სამმართველო
A23: სამმართველოს უფროსი | B23: 0.1 | C23: 0.1 | D23: 0.05 | E23: 0.05 | F23: 0.1 | G23: 0.05 | H23: 0.1 | I23: 0.05 | J23: 0.1 | K23: 0.15 | L23: 0.15 | M23: =B23+C23+D23+E23+F23+G23+H23+I23+J23+K23+L23 -> 1
A24: სამმართველოს უფროსის მოადგილე | B24: 0.1 | C24: 0.1 | D24: 0.05 | E24: 0.05 | F24: 0.1 | G24: 0.05 | H24: 0.1 | I24: 0.05 | J24: 0.1 | K24: 0.15 | L24: 0.15 | M24: =B24+C24+D24+E24+F24+G24+H24+I24+J24+K24+L24 -> 1
A25: მთავარი სპეციალისტი | B25: 0.1 | C25: 0.05 | D25: 0.05 | E25: 0.05 | F25: 0.1 | G25: 0.05 | H25: 0.1 | I25: 0.05 | J25: 0.1 | K25: 0.15 | L25: 0.2 | M25: =B25+C25+D25+E25+F25+G25+H25+I25+J25+K25+L25 -> 1
A26: უფროსი სპეციალისტი | B26: 0.1 | C26: 0.05 | D26: 0.05 | E26: 0.05 | F26: 0.1 | G26: 0.05 | H26: 0.1 | I26: 0.05 | J26: 0.1 | K26: 0.15 | L26: 0.2 | M26: =B26+C26+D26+E26+F26+G26+H26+I26+J26+K26+L26 -> 1
A27: სპეციალისტი | B27: 0.1 | C27: 0.05 | D27: 0.05 | E27: 0.05 | F27: 0.1 | G27: 0.05 | H27: 0.1 | I27: 0.05 | J27: 0.1 | K27: 0.15 | L27: 0.2 | M27: =B27+C27+D27+E27+F27+G27+H27+I27+J27+K27+L27 -> 1
A28: დამხმარე მოსამსახურე | B28: 0.1 | C28: 0.05 | D28: 0.2 | E28: 0.05 | F28: 0.15 | G28: 0.05 | H28: 0.1 | I28: 0.05 | J28: 0.1 | K28: 0.05 | L28: 0.1 | M28: =B28+C28+D28+E28+F28+G28+H28+I28+J28+K28+L28 -> 1
A29: აქტივებისა და ინვენტარიზაციის მართვის განყოფილება
A30: განყოფილების უფროსი | B30: 0.1 | C30: 0.1 | D30: 0.05 | E30: 0.05 | F30: 0.1 | G30: 0.05 | H30: 0.1 | I30: 0.05 | J30: 0.1 | K30: 0.15 | L30: 0.15 | M30: =B30+C30+D30+E30+F30+G30+H30+I30+J30+K30+L30 -> 1
A31: მთავარი სპეციალისტი | B31: 0.1 | C31: 0.05 | D31: 0.1 | E31: 0.05 | F31: 0.1 | G31: 0.05 | H31: 0.1 | I31: 0.05 | J31: 0.1 | K31: 0.15 | L31: 0.15 | M31: =B31+C31+D31+E31+F31+G31+H31+I31+J31+K31+L31 -> 1
A32: უფროსი სპეციალისტი | B32: 0.1 | C32: 0.05 | D32: 0.1 | E32: 0.05 | F32: 0.1 | G32: 0.05 | H32: 0.1 | I32: 0.05 | J32: 0.1 | K32: 0.15 | L32: 0.15 | M32: =B32+C32+D32+E32+F32+G32+H32+I32+J32+K32+L32 -> 1
A33: სპეციალისტი | B33: 0.1 | C33: 0.05 | D33: 0.1 | E33: 0.05 | F33: 0.1 | G33: 0.05 | H33: 0.1 | I33: 0.05 | J33: 0.1 | K33: 0.15 | L33: 0.15 | M33: =B33+C33+D33+E33+F33+G33+H33+I33+J33+K33+L33 -> 1
A34: დამხმარე მოსამსახურე | B34: 0.1 | C34: 0.05 | D34: 0.1 | E34: 0.05 | F34: 0.1 | G34: 0.05 | H34: 0.1 | I34: 0.05 | J34: 0.1 | K34: 0.15 | L34: 0.15 | M34: =B34+C34+D34+E34+F34+G34+H34+I34+J34+K34+L34 -> 1
A35: სატრანსპორტო და ტექნიკურ საშუალებათა უზრუნველყოფის განყოფილება
A36: განყოფილების უფროსი | B36: 0.1 | C36: 0.1 | D36: 0.1 | E36: 0.1 | F36: 0.1 | G36: 0.05 | H36: 0.05 | I36: 0.1 | J36: 0.1 | K36: 0.1 | L36: 0.1 | M36: =B36+C36+D36+E36+F36+G36+H36+I36+J36+K36+L36 -> 1
A37: მთავარი სპეციალისტი | B37: 0.1 | C37: 0.05 | D37: 0.15 | E37: 0.1 | F37: 0.1 | G37: 0.05 | H37: 0.05 | I37: 0.1 | J37: 0.1 | K37: 0.1 | L37: 0.1 | M37: =B37+C37+D37+E37+F37+G37+H37+I37+J37+K37+L37 -> 1
A38: სპეციალისტი | B38: 0.1 | C38: 0.05 | D38: 0.1 | E38: 0.1 | F38: 0.1 | G38: 0.05 | H38: 0.1 | I38: 0.05 | J38: 0.1 | K38: 0.15 | L38: 0.1 | M38: =B38+C38+D38+E38+F38+G38+H38+I38+J38+K38+L38 -> 1
A39: საარქივო სამმართველო
A40: სამმართველოს უფროსი | B40: 0.1 | C40: 0.1 | D40: 0.1 | E40: 0.1 | F40: 0.1 | G40: 0.1 | H40: 0.05 | I40: 0.05 | J40: 0.05 | K40: 0.1 | L40: 0.15 | M40: =B40+C40+D40+E40+F40+G40+H40+I40+J40+K40+L40 -> 1
A41: სამმართველოს უფროსის მოადგილე | B41: 0.1 | C41: 0.1 | D41: 0.1 | E41: 0.1 | F41: 0.1 | G41: 0.1 | H41: 0.05 | I41: 0.05 | J41: 0.05 | K41: 0.1 | L41: 0.15 | M41: =B41+C41+D41+E41+F41+G41+H41+I41+J41+K41+L41 -> 1
A42: მთავარი სპეციალისტი | B42: 0.15 | C42: 0.05 | D42: 0.1 | E42: 0.1 | F42: 0.1 | G42: 0.1 | H42: 0.05 | I42: 0.05 | J42: 0.05 | K42: 0.1 | L42: 0.15 | M42: =B42+C42+D42+E42+F42+G42+H42+I42+J42+K42+L42 -> 1
A43: უფროსი სპეციალისტი | B43: 0.15 | C43: 0.05 | D43: 0.1 | E43: 0.1 | F43: 0.1 | G43: 0.1 | H43: 0.05 | I43: 0.05 | J43: 0.05 | K43: 0.1 | L43: 0.15 | M43: =B43+C43+D43+E43+F43+G43+H43+I43+J43+K43+L43 -> 1
A44: სპეციალისტი | B44: 0.15 | C44: 0.05 | D44: 0.1 | E44: 0.1 | F44: 0.1 | G44: 0.1 | H44: 0.05 | I44: 0.05 | J44: 0.05 | K44: 0.1 | L44: 0.15 | M44: =B44+C44+D44+E44+F44+G44+H44+I44+J44+K44+L44 -> 1
A45: ინფრასტრუქტურის განვითარების სამმართველო
A46: სამმართველოს უფროსი | B46: 0.15 | C46: 0.1 | D46: 0.1 | E46: 0.05 | F46: 0.1 | G46: 0.15 | H46: 0.05 | I46: 0.05 | J46: 0.05 | K46: 0.05 | L46: 0.15 | M46: =B46+C46+D46+E46+F46+G46+H46+I46+J46+K46+L46 -> 1
A47: მთავარი სპეციალისტი | B47: 0.15 | C47: 0.05 | D47: 0.1 | E47: 0.05 | F47: 0.1 | G47: 0.15 | H47: 0.05 | I47: 0.1 | J47: 0.05 | K47: 0.1 | L47: 0.1 | M47: =B47+C47+D47+E47+F47+G47+H47+I47+J47+K47+L47 -> 1
A48: უფროსი სპეციალისტი | B48: 0.15 | C48: 0.05 | D48: 0.1 | E48: 0.05 | F48: 0.1 | G48: 0.15 | H48: 0.05 | I48: 0.1 | J48: 0.05 | K48: 0.1 | L48: 0.1 | M48: =B48+C48+D48+E48+F48+G48+H48+I48+J48+K48+L48 -> 1
A49: სპეციალისტი | B49: 0.15 | C49: 0.05 | D49: 0.1 | E49: 0.05 | F49: 0.1 | G49: 0.15 | H49: 0.05 | I49: 0.1 | J49: 0.05 | K49: 0.1 | L49: 0.1 | M49: =B49+C49+D49+E49+F49+G49+H49+I49+J49+K49+L49 -> 1
A50: საქმისწარმოების სამმართველო
A51: სამმართველოს უფროსი | B51: 0.1 | C51: 0.1 | D51: 0.1 | E51: 0.05 | F51: 0.1 | G51: 0.1 | H51: 0.05 | I51: 0.05 | J51: 0.05 | K51: 0.15 | L51: 0.15 | M51: =B51+C51+D51+E51+F51+G51+H51+I51+J51+K51+L51 -> 1
A52: სამმართველოს უფროსის მოადგილე | B52: 0.1 | C52: 0.1 | D52: 0.1 | E52: 0.05 | F52: 0.1 | G52: 0.1 | H52: 0.05 | I52: 0.05 | J52: 0.05 | K52: 0.15 | L52: 0.15 | M52: =B52+C52+D52+E52+F52+G52+H52+I52+J52+K52+L52 -> 1
A53: მთავარი სპეციალისტი | B53: 0.1 | C53: 0.05 | D53: 0.1 | E53: 0.05 | F53: 0.1 | G53: 0.1 | H53: 0.05 | I53: 0.05 | J53: 0.05 | K53: 0.2 | L53: 0.15 | M53: =B53+C53+D53+E53+F53+G53+H53+I53+J53+K53+L53 -> 1
A54: უფროსი სპეციალისტი | B54: 0.1 | C54: 0.05 | D54: 0.1 | E54: 0.05 | F54: 0.1 | G54: 0.1 | H54: 0.05 | I54: 0.05 | J54: 0.05 | K54: 0.2 | L54: 0.15 | M54: =B54+C54+D54+E54+F54+G54+H54+I54+J54+K54+L54 -> 1
A55: სპეციალისტი | B55: 0.1 | C55: 0.05 | D55: 0.1 | E55: 0.05 | F55: 0.1 | G55: 0.1 | H55: 0.05 | I55: 0.05 | J55: 0.05 | K55: 0.2 | L55: 0.15 | M55: =B55+C55+D55+E55+F55+G55+H55+I55+J55+K55+L55 -> 1
A56: შრომის უსაფრთხოების განყოფილება
A57: განყოფილების უფროსი | B57: 0.1 | C57: 0.1 | D57: 0.05 | E57: 0.1 | F57: 0.1 | G57: 0.1 | H57: 0.05 | I57: 0.05 | J57: 0.05 | K57: 0.1 | L57: 0.2 | M57: =B57+C57+D57+E57+F57+G57+H57+I57+J57+K57+L57 -> 1
A58: მთავარი სპეციალისტი | B58: 0.1 | C58: 0.05 | D58: 0.1 | E58: 0.05 | F58: 0.1 | G58: 0.1 | H58: 0.05 | I58: 0.05 | J58: 0.05 | K58: 0.15 | L58: 0.2 | M58: =B58+C58+D58+E58+F58+G58+H58+I58+J58+K58+L58 -> 1

Sheet საბაჟო დეპარტამენტი
A1: პოზიცია | B1: ხარისხის, რისკებისა და ოპერაციების მართვა | C1: ლიდერობა და მართვა | D1: გუნდურობა | E1: პროაქტიურობა/ინიციატივა | F1: პრობლემის გადაჭრა/გადაწყვეტილების მიღება | G1: ზეპირი და წერილობითი კომუნიკაცია | H1: ანალიტიკური აზროვნება | I1: საბაზისო კომპიუტერული კომპეტენციები | J1: სტრატეგია და ხედვა | K1: სპეციფიური პროგრამული კომპეტენციები | L1: კანონმდებლობა
A2: საბაჟო დეპარტამენტი
A3: დეპარტამენტის უფროსი | B3: 0.15 | C3: 0.1 | D3: 0.05 | E3: 0.1 | F3: 0.15 | G3: 0.1 | H3: 0.1 | I3: 0.05 | J3: 0.1 | K3: 0.05 | L3: 0.05 | M3: =B3+C3+D3+E3+F3+G3+H3+I3+J3+K3+L3 -> 1
A4: საბაჟო დეპარტამენტის უფროსის მოადგილე | B4: 0.15 | C4: 0.1 | D4: 0.05 | E4: 0.1 | F4: 0.15 | G4: 0.1 | H4: 0.1 | I4: 0.05 | J4: 0.1 | K4: 0.05 | L4: 0.05 | M4: =B4+C4+D4+E4+F4+G4+H4+I4+J4+K4+L4 -> 1
A5: მრჩეველი | B5: 0.1 | C5: 0.1 | D5: 0.1 | E5: 0.1 | F5: 0.15 | G5: 0.1 | H5: 0.1 | I5: 0.05 | J5: 0.05 | K5: 0.05 | L5: 0.1 | M5: =B5+C5+D5+E5+F5+G5+H5+I5+J5+K5+L5 -> 1
A6: მომსახურების ხარისხის მონიტორინგის სამმართველო
A7: სამმართველოს უფროსი | B7: 0.11 | C7: 0.1 | D7: 0.1 | E7: 0.11 | F7: 0.12 | G7: 0.1 | H7: 0.11 | I7: 0.05 | J7: 0.1 | K7: 0.05 | L7: 0.05 | M7: 1
A8: სამმართველოს უფროსის მოადგილე | B8: 0.11 | C8: 0.1 | D8: 0.1 | E8: 0.11 | F8: 0.12 | G8: 0.1 | H8: 0.11 | I8: 0.05 | J8: 0.1 | K8: 0.05 | L8: 0.05 | M8: 1
A9: ხარისხის კონტროლის მენეჯერი | B9: 0.08 | C9: 0.1 | D9: 0.1 | E9: 0.12 | F9: 0.11 | G9: 0.13 | H9: 0.12 | I9: 0.05 | J9: 0.1 | K9: 0.04 | L9: 0.05 | M9: 1
A10: მთავარი ანალიტიკოსი | B10: 0.08 | C10: 0.1 | D10: 0.09 | E10: 0.1 | F10: 0.1 | G10: 0.12 | H10: 0.11 | I10: 0.05 | J10: 0.1 | K10: 0.06 | L10: 0.09 | M10: 1
A11: წამყვანი ანალიტიკოსი | B11: 0.08 | C11: 0.1 | D11: 0.1 | E11: 0.1 | F11: 0.1 | G11: 0.11 | H11: 0.1 | I11: 0.05 | J11: 0.1 | K11: 0.06 | L11: 0.1 | M11: 1
A12: მთავარი მებაჟე-ოფიცერი | B12: 0.08 | C12: 0.1 | D12: 0.09 | E12: 0.1 | F12: 0.11 | G12: 0.1 | H12: 0.1 | I12: 0.05 | J12: 0.07 | K12: 0.1 | L12: 0.1 | M12: 1
A13: უფროსი მებაჟე-ოფიცერი | B13: 0.05 | C13: 0.04 | D13: 0.14 | E13: 0.05 | F13: 0.05 | G13: 0.1 | H13: 0.02 | I13: 0.1 | J13: 0.03 | K13: 0.4 | L13: 0.02 | M13: 1
A14: მთავარი სპეციალისტი | B14: 0.05 | C14: 0.04 | D14: 0.14 | E14: 0.05 | F14: 0.05 | G14: 0.1 | H14: 0.02 | I14: 0.1 | J14: 0.03 | K14: 0.4 | L14: 0.02 | M14: 1
A15: საქონლის გაშვების შემდგომი კონტროლის სამმართველო
A16: სამმართველოს უფროსი | B16: 0.1 | C16: 0.1 | D16: 0.1 | E16: 0.1 | F16: 0.15 | G16: 0.1 | H16: 0.1 | I16: 0.05 | J16: 0.05 | K16: 0.05 | L16: 0.1 | M16: =B16+C16+D16+E16+F16+G16+H16+I16+J16+K16+L16 -> 1
A17: სამმართველოს უფროსის მოადგილე | B17: 0.1 | C17: 0.1 | D17: 0.1 | E17: 0.1 | F17: 0.15 | G17: 0.1 | H17: 0.1 | I17: 0.05 | J17: 0.05 | K17: 0.05 | L17: 0.1 | M17: =B17+C17+D17+E17+F17+G17+H17+I17+J17+K17+L17 -> 1
A18: გაშვების შემდგომი კონტროლის მთავარი აუდიტორი | B18: 0.1 | C18: 0.05 | D18: 0.1 | E18: 0.05 | F18: 0.15 | G18: 0.1 | H18: 0.15 | I18: 0.05 | J18: 0.05 | K18: 0.1 | L18: 0.1 | M18: =B18+C18+D18+E18+F18+G18+H18+I18+J18+K18+L18 -> 1
A19: გაშვების შემდგომი კონტროლის უფროსი აუდიტორი | B19: 0.1 | C19: 0.05 | D19: 0.1 | E19: 0.05 | F19: 0.1 | G19: 0.1 | H19: 0.15 | I19: 0.1 | J19: 0.05 | K19: 0.1 | L19: 0.1 | M19: =B19+C19+D19+E19+F19+G19+H19+I19+J19+K19+L19 -> 1
A20: გაშვების შემდგომი კონტროლის აუდიტორი | B20: 0.1 | C20: 0.05 | D20: 0.1 | E20: 0.05 | F20: 0.1 | G20: 0.1 | H20: 0.15 | I20: 0.1 | J20: 0.05 | K20: 0.1 | L20: 0.1 | M20: =B20+C20+D20+E20+F20+G20+H20+I20+J20+K20+L20 -> 1
A21: საბაჟო კონტროლის ორგანიზაციის სამმართველო
A22: სამმართველოს უფროსი | B22: 0.1 | C22: 0.1 | D22: 0.1 | E22: 0.09 | F22: 0.1 | G22: 0.08 | H22: 0.1 | I22: 0.03 | J22: 0.05 | K22: 0.15 | L22: 0.1 | M22: =B22+C22+D22+E22+F22+G22+H22+I22+J22+K22+L22 -> 1
A23: სამმართველოს უფროსის მოადგილე | B23: 0.1 | C23: 0.1 | D23: 0.1 | E23: 0.09 | F23: 0.1 | G23: 0.08 | H23: 0.1 | I23: 0.03 | J23: 0.05 | K23: 0.15 | L23: 0.1 | M23: =B23+C23+D23+E23+F23+G23+H23+I23+J23+K23+L23 -> 1
A24: მთავარი ანალიტიკოსი | B24: 0.1 | C24: 0.05 | D24: 0.1 | E24: 0.07 | F24: 0.1 | G24: 0.08 | H24: 0.1 | I24: 0.05 | J24: 0.05 | K24: 0.2 | L24: 0.1 | M24: =B24+C24+D24+E24+F24+G24+H24+I24+J24+K24+L24 -> 1
A25: წამყვანი ანალიტიკოსი | B25: 0.1 | C25: 0.05 | D25: 0.1 | E25: 0.07 | F25: 0.1 | G25: 0.08 | H25: 0.1 | I25: 0.05 | J25: 0.05 | K25: 0.2 | L25: 0.1 | M25: =B25+C25+D25+E25+F25+G25+H25+I25+J25+K25+L25 -> 1
A26: ანალიტიკოსი | B26: 0.1 | C26: 0.05 | D26: 0.1 | E26: 0.07 | F26: 0.1 | G26: 0.08 | H26: 0.1 | I26: 0.05 | J26: 0.05 | K26: 0.2 | L26: 0.1 | M26: =B26+C26+D26+E26+F26+G26+H26+I26+J26+K26+L26 -> 1
A27: მთავარი მებაჟე-ოფიცერი | B27: 0.1 | C27: 0.05 | D27: 0.1 | E27: 0.07 | F27: 0.1 | G27: 0.08 | H27: 0.1 | I27: 0.05 | J27: 0.05 | K27: 0.2 | L27: 0.1 | M27: =B27+C27+D27+E27+F27+G27+H27+I27+J27+K27+L27 -> 1
A28: სამართლებრივ საკითხთა სამმართველო
A29: სამმართველოს უფროსი | B29: 0.1 | C29: 0.12 | D29: 0.1 | E29: 0.12 | F29: 0.12 | G29: 0.12 | H29: 0.12 | I29: 0.02 | J29: 0.05 | K29: 0.03 | L29: 0.1 | M29: =B29+C29+D29+E29+F29+G29+H29+I29+J29+K29+L29 -> 1
A30: სამმართველოს უფროსის მოადგილე | B30: 0.1 | C30: 0.12 | D30: 0.1 | E30: 0.12 | F30: 0.12 | G30: 0.12 | H30: 0.12 | I30: 0.02 | J30: 0.05 | K30: 0.03 | L30: 0.1 | M30: =B30+C30+D30+E30+F30+G30+H30+I30+J30+K30+L30 -> 1
A31: მთავარი მებაჟე-ოფიცერი | B31: 0.1 | C31: 0.07 | D31: 0.1 | E31: 0.12 | F31: 0.12 | G31: 0.12 | H31: 0.12 | I31: 0.02 | J31: 0.05 | K31: 0.03 | L31: 0.15 | M31: =B31+C31+D31+E31+F31+G31+H31+I31+J31+K31+L31 -> 1
A32: უფროსი მებაჟე-ოფიცერი | B32: 0.1 | C32: 0.07 | D32: 0.1 | E32: 0.12 | F32: 0.12 | G32: 0.12 | H32: 0.12 | I32: 0.02 | J32: 0.05 | K32: 0.03 | L32: 0.15 | M32: =B32+C32+D32+E32+F32+G32+H32+I32+J32+K32+L32 -> 1
A33: საბაჟო რისკების მართვის სამმართველო
A34: სამმართველოს უფროსი | B34: 0.1 | C34: 0.1 | D34: 0.1 | E34: 0.08 | F34: 0.1 | G34: 0.07 | H34: 0.15 | I34: 0.05 | J34: 0.1 | K34: 0.05 | L34: 0.1 | M34: =B34+C34+D34+E34+F34+G34+H34+I34+J34+K34+L34 -> 1
A35: სამმართველოს უფროსის მოადგილე | B35: 0.1 | C35: 0.1 | D35: 0.1 | E35: 0.08 | F35: 0.1 | G35: 0.07 | H35: 0.15 | I35: 0.05 | J35: 0.1 | K35: 0.05 | L35: 0.1 | M35: =B35+C35+D35+E35+F35+G35+H35+I35+J35+K35+L35 -> 1
A36: მთავარი ანალიტიკოსი | B36: 0.06 | C36: 0.05 | D36: 0.1 | E36: 0.1 | F36: 0.05 | G36: 0.06 | H36: 0.15 | I36: 0.14 | J36: 0.05 | K36: 0.14 | L36: 0.1 | M36: =B36+C36+D36+E36+F36+G36+H36+I36+J36+K36+L36 -> 1
A37: წამყვანი ანალიტიკოსი | B37: 0.06 | C37: 0.05 | D37: 0.1 | E37: 0.1 | F37: 0.05 | G37: 0.06 | H37: 0.15 | I37: 0.14 | J37: 0.05 | K37: 0.14 | L37: 0.1 | M37: =B37+C37+D37+E37+F37+G37+H37+I37+J37+K37+L37 -> 1
A38: ანალიტიკოსი | B38: 0.06 | C38: 0.05 | D38: 0.1 | E38: 0.1 | F38: 0.05 | G38: 0.06 | H38: 0.15 | I38: 0.14 | J38: 0.05 | K38: 0.14 | L38: 0.1 | M38: =B38+C38+D38+E38+F38+G38+H38+I38+J38+K38+L38 -> 1
A39: მთავარი მებაჟე-ოფიცერი | B39: 0.06 | C39: 0.05 | D39: 0.1 | E39: 0.1 | F39: 0.05 | G39: 0.06 | H39: 0.15 | I39: 0.14 | J39: 0.05 | K39: 0.14 | L39: 0.1 | M39: =B39+C39+D39+E39+F39+G39+H39+I39+J39+K39+L39 -> 1
A40: უფროსი მებაჟე-ოფიცერი | B40: 0.06 | C40: 0.05 | D40: 0.1 | E40: 0.1 | F40: 0.05 | G40: 0.06 | H40: 0.15 | I40: 0.14 | J40: 0.05 | K40: 0.14 | L40: 0.1 | M40: =B40+C40+D40+E40+F40+G40+H40+I40+J40+K40+L40 -> 1
A41: მებაჟე-ოფიცერი | B41: 0.06 | C41: 0.05 | D41: 0.1 | E41: 0.1 | F41: 0.05 | G41: 0.06 | H41: 0.15 | I41: 0.14 | J41: 0.05 | K41: 0.14 | L41: 0.1 | M41: =B41+C41+D41+E41+F41+G41+H41+I41+J41+K41+L41 -> 1
A42: საქონლის გაფორმების მონიტორინგის სამმართველო
A43: სამმართველოს უფროსი | B43: 0.05 | C43: 0.05 | D43: 0.08 | E43: 0.07 | F43: 0.07 | G43: 0.1 | H43: 0.15 | I43: 0.06 | J43: 0.02 | K43: 0.15 | L43: 0.2 | M43: =B43+C43+D43+E43+F43+G43+H43+I43+J43+K43+L43 -> 1
A44: სამმართველოს უფროსის მოადგილე | B44: 0.05 | C44: 0.05 | D44: 0.08 | E44: 0.07 | F44: 0.07 | G44: 0.1 | H44: 0.15 | I44: 0.06 | J44: 0.02 | K44: 0.15 | L44: 0.2 | M44: =B44+C44+D44+E44+F44+G44+H44+I44+J44+K44+L44 -> 1
A45: მთავარი მებაჟე-ოფიცერი | B45: 0.05 | C45: 0.02 | D45: 0.08 | E45: 0.07 | F45: 0.07 | G45: 0.1 | H45: 0.15 | I45: 0.09 | J45: 0.02 | K45: 0.15 | L45: 0.2 | M45: =B45+C45+D45+E45+F45+G45+H45+I45+J45+K45+L45 -> 1
A46: უფროსი მებაჟე-ოფიცერი | B46: 0.05 | C46: 0.02 | D46: 0.08 | E46: 0.07 | F46: 0.07 | G46: 0.1 | H46: 0.15 | I46: 0.09 | J46: 0.02 | K46: 0.15 | L46: 0.2 | M46: =B46+C46+D46+E46+F46+G46+H46+I46+J46+K46+L46 -> 1
A47: მებაჟე-ოფიცერი | B47: 0.05 | C47: 0.02 | D47: 0.08 | E47: 0.07 | F47: 0.07 | G47: 0.1 | H47: 0.15 | I47: 0.09 | J47: 0.02 | K47: 0.15 | L47: 0.2 | M47: =B47+C47+D47+E47+F47+G47+H47+I47+J47+K47+L47 -> 1
A48: თელავის გაფორმების განყოფილება
A49: განყოფილების უფროსი | B49: 0.1 | C49: 0.1 | D49: 0.1 | E49: 0.1 | F49: 0.1 | G49: 0.1 | H49: 0.09 | I49: 0.04 | J49: 0.1 | K49: 0.07 | L49: 0.1 | M49: =B49+C49+D49+E49+F49+G49+H49+I49+J49+K49+L49 -> 1
A50: მთავარი მებაჟე-ოფიცერი | B50: 0.1 | C50: 0.08 | D50: 0.1 | E50: 0.1 | F50: 0.1 | G50: 0.1 | H50: 0.09 | I50: 0.06 | J50: 0.1 | K50: 0.07 | L50: 0.1 | M50: =B50+C50+D50+E50+F50+G50+H50+I50+J50+K50+L50 -> 1
A51: უფროსი მებაჟე-ოფიცერი | B51: 0.1 | C51: 0.08 | D51: 0.1 | E51: 0.1 | F51: 0.1 | G51: 0.1 | H51: 0.09 | I51: 0.06 | J51: 0.1 | K51: 0.07 | L51: 0.1 | M51: =B51+C51+D51+E51+F51+G51+H51+I51+J51+K51+L51 -> 1
A52: ახალციხის გაფორმების განყოფილება
A53: განყოფილების უფროსი | B53: 0.1 | C53: 0.1 | D53: 0.1 | E53: 0.1 | F53: 0.1 | G53: 0.1 | H53: 0.09 | I53: 0.04 | J53: 0.1 | K53: 0.07 | L53: 0.1 | M53: =B53+C53+D53+E53+F53+G53+H53+I53+J53+K53+L53 -> 1
A54: მთავარი მებაჟე-ოფიცერი | B54: 0.1 | C54: 0.08 | D54: 0.1 | E54: 0.1 | F54: 0.1 | G54: 0.1 | H54: 0.09 | I54: 0.06 | J54: 0.1 | K54: 0.07 | L54: 0.1 | M54: =B54+C54+D54+E54+F54+G54+H54+I54+J54+K54+L54 -> 1
A55: უფროსი მებაჟე-ოფიცერი | B55: 0.1 | C55: 0.08 | D55: 0.1 | E55: 0.1 | F55: 0.1 | G55: 0.1 | H55: 0.09 | I55: 0.06 | J55: 0.1 | K55: 0.07 | L55: 0.1 | M55: =B55+C55+D55+E55+F55+G55+H55+I55+J55+K55+L55 -> 1
A56: მებაჟე-ოფიცერი | B56: 0.1 | C56: 0.08 | D56: 0.1 | E56: 0.1 | F56: 0.1 | G56: 0.1 | H56: 0.09 | I56: 0.06 | J56: 0.1 | K56: 0.07 | L56: 0.1 | M56: =B56+C56+D56+E56+F56+G56+H56+I56+J56+K56+L56 -> 1
A57: ქუთაისის გაფორმების განყოფილება
A58: განყოფილების უფროსი | B58: 0.1 | C58: 0.1 | D58: 0.1 | E58: 0.1 | F58: 0.1 | G58: 0.1 | H58: 0.09 | I58: 0.04 | J58: 0.1 | K58: 0.07 | L58: 0.1 | M58: =B58+C58+D58+E58+F58+G58+H58+I58+J58+K58+L58 -> 1
A59: მთავარი მებაჟე-ოფიცერი | B59: 0.1 | C59: 0.08 | D59: 0.1 | E59: 0.1 | F59: 0.1 | G59: 0.1 | H59: 0.09 | I59: 0.06 | J59: 0.1 | K59: 0.07 | L59: 0.1 | M59: =B59+C59+D59+E59+F59+G59+H59+I59+J59+K59+L59 -> 1
A60: უფროსი მებაჟე-ოფიცერი | B60: 0.1 | C60: 0.08 | D60: 0.1 | E60: 0.1 | F60: 0.1 | G60: 0.1 | H60: 0.09 | I60: 0.06 | J60: 0.1 | K60: 0.07 | L60: 0.1 | M60: =B60+C60+D60+E60+F60+G60+H60+I60+J60+K60+L60 -> 1
A61: მებაჟე-ოფიცერი | B61: 0.1 | C61: 0.08 | D61: 0.1 | E61: 0.1 | F61: 0.1 | G61: 0.1 | H61: 0.09 | I61: 0.06 | J61: 0.1 | K61: 0.07 | L61: 0.1 | M61: =B61+C61+D61+E61+F61+G61+H61+I61+J61+K61+L61 -> 1
A62: რუსთავის გაფორმების განყოფილება
A63: განყოფილების უფროსი | B63: 0.1 | C63: 0.1 | D63: 0.1 | E63: 0.1 | F63: 0.1 | G63: 0.1 | H63: 0.09 | I63: 0.04 | J63: 0.1 | K63: 0.07 | L63: 0.1 | M63: =B63+C63+D63+E63+F63+G63+H63+I63+J63+K63+L63 -> 1
A64: მთავარი მებაჟე-ოფიცერი | B64: 0.1 | C64: 0.08 | D64: 0.1 | E64: 0.1 | F64: 0.1 | G64: 0.1 | H64: 0.09 | I64: 0.06 | J64: 0.1 | K64: 0.07 | L64: 0.1 | M64: =B64+C64+D64+E64+F64+G64+H64+I64+J64+K64+L64 -> 1
A65: უფროსი მებაჟე-ოფიცერი | B65: 0.1 | C65: 0.08 | D65: 0.1 | E65: 0.1 | F65: 0.1 | G65: 0.1 | H65: 0.09 | I65: 0.06 | J65: 0.1 | K65: 0.07 | L65: 0.1 | M65: =B65+C65+D65+E65+F65+G65+H65+I65+J65+K65+L65 -> 1
A66: მებაჟე-ოფიცერი | B66: 0.1 | C66: 0.08 | D66: 0.1 | E66: 0.1 | F66: 0.1 | G66: 0.1 | H66: 0.09 | I66: 0.06 | J66: 0.1 | K66: 0.07 | L66: 0.1 | M66: =B66+C66+D66+E66+F66+G66+H66+I66+J66+K66+L66 -> 1
A67: გაფორმების ეკონომიკური ზონა - „თბილისი"
A68: გაფორმების ეკონომიკური ზონის უფროსი | B68: 0.1 | C68: 0.1 | D68: 0.1 | E68: 0.05 | F68: 0.1 | G68: 0.1 | H68: 0.1 | I68: 0.05 | J68: 0.05 | K68: 0.05 | L68: 0.2 | M68: =B68+C68+D68+E68+F68+G68+H68+I68+J68+K68+L68 -> 1
A69: გაფორმების ეკონომიკური ზონის უფროსის მოადგილე | B69: 0.1 | C69: 0.1 | D69: 0.1 | E69: 0.05 | F69: 0.1 | G69: 0.1 | H69: 0.1 | I69: 0.05 | J69: 0.05 | K69: 0.05 | L69: 0.2 | M69: =B69+C69+D69+E69+F69+G69+H69+I69+J69+K69+L69 -> 1
A70: მთავარი სპეციალისტი | B70: 0.15 | C70: 0.02 | D70: 0.05 | E70: 0.03 | F70: 0.1 | G70: 0.1 | H70: 0.1 | I70: 0.2 | J70: 0.05 | K70: 0.1 | L70: 0.1 | M70: =B70+C70+D70+E70+F70+G70+H70+I70+J70+K70+L70 -> 1
A71: უფროსი სპეციალისტი | B71: 0.15 | C71: 0.02 | D71: 0.05 | E71: 0.03 | F71: 0.1 | G71: 0.1 | H71: 0.1 | I71: 0.1 | J71: 0.05 | K71: 0.25 | L71: 0.05 | M71: =B71+C71+D71+E71+F71+G71+H71+I71+J71+K71+L71 -> 1
A72: მომსახურების სამმართველო
A73: სამმართველოს უფროსი | B73: 0.1 | C73: 0.1 | D73: 0.1 | E73: 0.05 | F73: 0.1 | G73: 0.1 | H73: 0.1 | I73: 0.05 | J73: 0.05 | K73: 0.05 | L73: 0.2 | M73: =B73+C73+D73+E73+F73+G73+H73+I73+J73+K73+L73 -> 1
A74: სამმართველოს უფროსის მოადგილე | B74: 0.1 | C74: 0.1 | D74: 0.1 | E74: 0.05 | F74: 0.1 | G74: 0.1 | H74: 0.1 | I74: 0.05 | J74: 0.05 | K74: 0.05 | L74: 0.2 | M74: =B74+C74+D74+E74+F74+G74+H74+I74+J74+K74+L74 -> 1
A75: მთავარი მებაჟე-ოფიცერი | B75: 0.12 | C75: 0.08 | D75: 0.1 | E75: 0.05 | F75: 0.1 | G75: 0.1 | H75: 0.1 | I75: 0.05 | J75: 0.05 | K75: 0.05 | L75: 0.2 | M75: =B75+C75+D75+E75+F75+G75+H75+I75+J75+K75+L75 -> 1
A76: უფროსი მებაჟე-ოფიცერი | B76: 0.15 | C76: 0.05 | D76: 0.1 | E76: 0.05 | F76: 0.1 | G76: 0.1 | H76: 0.1 | I76: 0.05 | J76: 0.05 | K76: 0.05 | L76: 0.2 | M76: =B76+C76+D76+E76+F76+G76+H76+I76+J76+K76+L76 -> 1
A77: მებაჟე-ოფიცერი | B77: 0.15 | C77: 0.05 | D77: 0.1 | E77: 0.05 | F77: 0.1 | G77: 0.1 | H77: 0.1 | I77: 0.05 | J77: 0.05 | K77: 0.05 | L77: 0.2 | M77: =B77+C77+D77+E77+F77+G77+H77+I77+J77+K77+L77 -> 1
A78: საქონლის გაფორმების სამმართველო
A79: სამმართველოს უფროსი | B79: 0.1 | C79: 0.1 | D79: 0.1 | E79: 0.05 | F79: 0.1 | G79: 0.1 | H79: 0.1 | I79: 0.05 | J79: 0.05 | K79: 0.05 | L79: 0.2 | M79: =B79+C79+D79+E79+F79+G79+H79+I79+J79+K79+L79 -> 1
A80: მთავარი მებაჟე-ოფიცერი | B80: 0.15 | C80: 0.05 | D80: 0.1 | E80: 0.05 | F80: 0.1 | G80: 0.1 | H80: 0.1 | I80: 0.05 | J80: 0.05 | K80: 0.05 | L80: 0.2 | M80: =B80+C80+D80+E80+F80+G80+H80+I80+J80+K80+L80 -> 1
A81: უფროსი მებაჟე-ოფიცერი | B81: 0.15 | C81: 0.05 | D81: 0.1 | E81: 0.05 | F81: 0.1 | G81: 0.1 | H81: 0.1 | I81: 0.05 | J81: 0.05 | K81: 0.05 | L81: 0.2 | M81: =B81+C81+D81+E81+F81+G81+H81+I81+J81+K81+L81 -> 1
A82: მებაჟე-ოფიცერი | B82: 0.15 | C82: 0.05 | D82: 0.1 | E82: 0.05 | F82: 0.1 | G82: 0.1 | H82: 0.1 | I82: 0.05 | J82: 0.05 | K82: 0.05 | L82: 0.2 | M82: =B82+C82+D82+E82+F82+G82+H82+I82+J82+K82+L82 -> 1
A83: ლოჯისტიკის სამმართველო
A84: სამმართველოს უფროსი | B84: 0.1 | C84: 0.1 | D84: 0.1 | E84: 0.05 | F84: 0.1 | G84: 0.1 | H84: 0.1 | I84: 0.05 | J84: 0.05 | K84: 0.05 | L84: 0.2 | M84: =B84+C84+D84+E84+F84+G84+H84+I84+J84+K84+L84 -> 1
A85: მთავარი მებაჟე-ოფიცერი | B85: 0.12 | C85: 0.08 | D85: 0.1 | E85: 0.05 | F85: 0.1 | G85: 0.1 | H85: 0.1 | I85: 0.05 | J85: 0.05 | K85: 0.05 | L85: 0.2 | M85: =B85+C85+D85+E85+F85+G85+H85+I85+J85+K85+L85 -> 1
A86: უფროსი მებაჟე-ოფიცერი | B86: 0.12 | C86: 0.06 | D86: 0.12 | E86: 0.05 | F86: 0.1 | G86: 0.1 | H86: 0.1 | I86: 0.05 | J86: 0.05 | K86: 0.05 | L86: 0.2 | M86: =B86+C86+D86+E86+F86+G86+H86+I86+J86+K86+L86 -> 1
A87: მებაჟე-ოფიცერი | B87: 0.12 | C87: 0.06 | D87: 0.12 | E87: 0.05 | F87: 0.1 | G87: 0.1 | H87: 0.1 | I87: 0.05 | J87: 0.05 | K87: 0.05 | L87: 0.2 | M87: =B87+C87+D87+E87+F87+G87+H87+I87+J87+K87+L87 -> 1
A88: გაფორმების ეკონომიკური ზონა - „თბილისი 2"
A89: გაფორმების ეკონომიკური ზონის უფროსი | B89: 0.1 | C89: 0.1 | D89: 0.1 | E89: 0.05 | F89: 0.1 | G89: 0.1 | H89: 0.1 | I89: 0.05 | J89: 0.05 | K89: 0.05 | L89: 0.2 | M89: =B89+C89+D89+E89+F89+G89+H89+I89+J89+K89+L89 -> 1
A90: გაფორმების ეკონომიკური ზონის უფროსის მოადგილე | B90: 0.1 | C90: 0.1 | D90: 0.1 | E90: 0.05 | F90: 0.1 | G90: 0.1 | H90: 0.1 | I90: 0.05 | J90: 0.05 | K90: 0.05 | L90: 0.2 | M90: =B90+C90+D90+E90+F90+G90+H90+I90+J90+K90+L90 -> 1
A91: მომსახურების სამმართველო
A92: სამმართველოს უფროსი | B92: 0.1 | C92: 0.1 | D92: 0.1 | E92: 0.05 | F92: 0.1 | G92: 0.1 | H92: 0.1 | I92: 0.05 | J92: 0.05 | K92: 0.05 | L92: 0.2 | M92: =B92+C92+D92+E92+F92+G92+H92+I92+J92+K92+L92 -> 1
A93: მთავარი მებაჟე-ოფიცერი | B93: 0.12 | C93: 0.08 | D93: 0.1 | E93: 0.05 | F93: 0.1 | G93: 0.1 | H93: 0.1 | I93: 0.05 | J93: 0.05 | K93: 0.05 | L93: 0.2 | M93: =B93+C93+D93+E93+F93+G93+H93+I93+J93+K93+L93 -> 1
A94: უფროსი მებაჟე-ოფიცერი | B94: 0.15 | C94: 0.05 | D94: 0.1 | E94: 0.05 | F94: 0.1 | G94: 0.1 | H94: 0.1 | I94: 0.05 | J94: 0.05 | K94: 0.05 | L94: 0.2 | M94: =B94+C94+D94+E94+F94+G94+H94+I94+J94+K94+L94 -> 1
A95: მებაჟე-ოფიცერი | B95: 0.15 | C95: 0.05 | D95: 0.1 | E95: 0.05 | F95: 0.1 | G95: 0.1 | H95: 0.1 | I95: 0.05 | J95: 0.05 | K95: 0.05 | L95: 0.2 | M95: =B95+C95+D95+E95+F95+G95+H95+I95+J95+K95+L95 -> 1
A96: საქონლის გაფორმების სამმართველო
A97: სამმართველოს უფროსი | B97: 0.1 | C97: 0.1 | D97: 0.1 | E97: 0.05 | F97: 0.1 | G97: 0.1 | H97: 0.1 | I97: 0.05 | J97: 0.05 | K97: 0.05 | L97: 0.2 | M97: =B97+C97+D97+E97+F97+G97+H97+I97+J97+K97+L97 -> 1
A98: მთავარი მებაჟე-ოფიცერი | B98: 0.15 | C98: 0.05 | D98: 0.1 | E98: 0.05 | F98: 0.1 | G98: 0.1 | H98: 0.1 | I98: 0.05 | J98: 0.05 | K98: 0.05 | L98: 0.2 | M98: =B98+C98+D98+E98+F98+G98+H98+I98+J98+K98+L98 -> 1
A99: უფროსი მებაჟე-ოფიცერი | B99: 0.15 | C99: 0.05 | D99: 0.1 | E99: 0.05 | F99: 0.1 | G99: 0.1 | H99: 0.1 | I99: 0.05 | J99: 0.05 | K99: 0.05 | L99: 0.2 | M99: =B99+C99+D99+E99+F99+G99+H99+I99+J99+K99+L99 -> 1
A100: მებაჟე-ოფიცერი | B100: 0.15 | C100: 0.05 | D100: 0.1 | E100: 0.05 | F100: 0.1 | G100: 0.1 | H100: 0.1 | I100: 0.05 | J100: 0.05 | K100: 0.05 | L100: 0.2 | M100: =B100+C100+D100+E100+F100+G100+H100+I100+J100+K100+L100 -> 1
...
