Workbook

Sheet ხელმძღვანელობა
A1: დანართი №4
A2: კომპეტენციების შესაბამისი პროცენტული მაჩვენებლები (წონები)
A3: პოზიცია | B3: ხარისხის, რისკებისა და ოპერაციების მართვა | C3: ლიდერობა და მართვა | D3: გუნდურობა | E3: პროაქტიურობა / ინიციატივა | F3: პრობლემის გადაჭრა / გადაწყვეტილების მიღება | G3: ზეპირი და წერილობითი კომუნიკაცია | H3: ანალიტიკური აზროვნება | I3: საბაზისო კომპიუტერული კომპეტენციები | J3: სტრატეგია და ხედვა | K3: სპეციფიური პროგრამული კომპეტენციები | L3: კანონმდებლობა
A5: სამსახურის უფროსის პირველი მოადგილე | B5: 0.2 | C5: 0.2 | D5: 0.05 | E5: 0.05 | F5: 0.1 | G5: 0.05 | H5: 0.1 | I5: 0.05 | J5: 0.15 | K5: 0 | L5: 0.05 | M5: =SUM(B5:L5) -> 1
A6: სამსახურის უფროსის მოადგილე | B6: 0.2 | C6: 0.2 | D6: 0.05 | E6: 0.05 | F6: 0.1 | G6: 0.05 | H6: 0.1 | I6: 0.05 | J6: 0.15 | K6: 0 | L6: 0.05 | M6: =SUM(B6:L6) -> 1
A7: მრჩეველი | B7: 0.15 | C7: 0.1 | D7: 0.05 | E7: 0.1 | F7: 0.15 | G7: 0.05 | H7: 0.15 | I7: 0.05 | J7: 0.1 | K7: 0.05 | L7: 0.05 | M7: =SUM(B7:L7) -> 1
A8: მთავარი სპეციალისტი | B8: 0.25 | C8: 0.05 | D8: 0.1 | E8: 0.05 | F8: 0.1 | G8: 0.15 | H8: 0.05 | I8: 0.1 | J8: 0.05 | K8: 0.05 | L8: 0.05 | M8: =SUM(B8:L8) -> 1

Sheet PR და მარკეტინგი
A1: პოზიცია | B1: ხარისხის, რისკებისა და ოპერაციების მართვა | C1: ლიდერობა და მართვა | D1: გუნდურობა | E1: პროაქტიურობა / ინიციატივა | F1: პრობლემის გადაჭრა / გადაწყვეტილების მიღება | G1: ზეპირი და წერილობითი კომუნიკაცია | H1: ანალიტიკური აზროვნება | I1: საბაზისო კომპიუტერული კომპეტენციები | J1: სტრატეგია და ხედვა | K1: სპეციფიური პროგრამული კომპეტენციები
A2: საზოგადოებასთან ურთიერთობის და მარკეტინგის დეპარტამენტი
A3: დეპარტამენტის უფროსი | B3: 0.15 | C3: 0.15 | D3: 0.1 | E3: 0.1 | F3: 0.15 | G3: 0.1 | H3: 0.05 | I3: 0.05 | J3: 0.1 | K3: 0.05 | M3: =B3+C3+D3+E3+F3+G3+H3+I3+J3+K3+L3 -> 1
A4: დეპარტამენტის უფროსის მოადგილე | B4: 0.15 | C4: 0.15 | D4: 0.1 | E4: 0.1 | F4: 0.15 | G4: 0.1 | H4: 0.05 | I4: 0.05 | J4: 0.1 | K4: 0.05 | M4: =B4+C4+D4+E4+F4+G4+H4+I4+J4+K4+L4 -> 1
A5: მრჩეველი | B5: 0.1 | C5: 0.1 | D5: 0.1 | E5: 0.1 | F5: 0.15 | G5: 0.15 | H5: 0.1 | I5: 0.05 | J5: 0.1 | K5: 0.05 | M5: =B5+C5+D5+E5+F5+G5+H5+I5+J5+K5+L5 -> 1
A6: მარკეტინგის სამმართველო
A7: სამმართველოს უფროსი | B7: 0.1 | C7: 0.1 | D7: 0.1 | E7: 0.1 | F7: 0.15 | G7: 0.15 | H7: 0.1 | I7: 0.05 | J7: 0.1 | K7: 0.05 | M7: =B7+C7+D7+E7+F7+G7+H7+I7+J7+K7+L7 -> 1
A8: მთავარი სპეციალისტი | B8: 0.1 | C8: 0.05 | D8: 0.1 | E8: 0.1 | F8: 0.15 | G8: 0.2 | H8: 0.1 | I8: 0.05 | J8: 0.1 | K8: 0.05 | M8: =B8+C8+D8+E8+F8+G8+H8+I8+J8+K8+L8 -> 1
A9: უფროსი სპეციალისტი | B9: 0.1 | C9: 0.05 | D9: 0.1 | E9: 0.1 | F9: 0.15 | G9: 0.2 | H9: 0.1 | I9: 0.05 | J9: 0.1 | K9: 0.05 | M9: =B9+C9+D9+E9+F9+G9+H9+I9+J9+K9+L9 -> 1
A10: სპეციალისტი | B10: 0.1 | C10: 0.05 | D10: 0.1 | E10: 0.1 | F10: 0.15 | G10: 0.2 | H10: 0.1 | I10: 0.05 | J10: 0.1 | K10: 0.05 | M10: =B10+C10+D10+E10+F10+G10+H10+I10+J10+K10+L10 -> 1
A11: საზოგადოებასთან ურთიერთობის სამმართველო
A12: სამმართველოს უფროსი | B12: 0.1 | C12: 0.1 | D12: 0.1 | E12: 0.1 | F12: 0.15 | G12: 0.15 | H12: 0.1 | I12: 0.05 | J12: 0.1 | K12: 0.05 | M12: =B12+C12+D12+E12+F12+G12+H12+I12+J12+K12+L12 -> 1
A13: მთავარი სპეციალისტი | B13: 0.1 | C13: 0.05 | D13: 0.1 | E13: 0.1 | F13: 0.15 | G13: 0.2 | H13: 0.1 | I13: 0.05 | J13: 0.1 | K13: 0.05 | M13: =B13+C13+D13+E13+F13+G13+H13+I13+J13+K13+L13 -> 1
A14: უფროსი სპეციალისტი | B14: 0.1 | C14: 0.05 | D14: 0.1 | E14: 0.1 | F14: 0.15 | G14: 0.2 | H14: 0.1 | I14: 0.05 | J14: 0.1 | K14: 0.05 | M14: =B14+C14+D14+E14+F14+G14+H14+I14+J14+K14+L14 -> 1
A15: სპეციალისტი | B15: 0.1 | C15: 0.05 | D15: 0.1 | E15: 0.1 | F15: 0.15 | G15: 0.2 | H15: 0.1 | I15: 0.05 | J15: 0.1 | K15: 0.05 | M15: =B15+C15+D15+E15+F15+G15+H15+I15+J15+K15+L15 -> 1

Sheet არმ დეპარტამენტი
A1: პოზიცია | B1: ხარისხის, რისკებისა და ოპერაციების მართვა | C1: ლიდერობა და მართვა | D1: გუნდურობა | E1: პროაქტიურობა/ინიციატივა | F1: პრობლემის გადაჭრა/გადაწყვეტილების მიღება | G1: ზეპირი და წერილობითი კომუნიკაცია | H1: ანალიტიკური აზროვნება | I1: საბაზისო კომპიუტერული კომპეტენციები | J1: სტრატეგია და ხედვა | K1: სპეციფიური პროგრამული კომპეტენციები | L1: კანონმდებლობა
A2: ადამიანური რესურსების მართვისა და განვითარების დეპარტამენტი
A3: დეპარტამენტის უფროსი | B3: 0.15 | C3: 0.15 | D3: 0.05 | E3: 0.1 | F3: 0.15 | G3: 0.1 | H3: 0.05 | I3: 0.05 | J3: 0.1 | K3: 0.05 | L3: 0.05 | M3: =B3+C3+D3+E3+F3+G3+H3+I3+J3+K3+L3 -> 1
A4: დეპარტამენტის უფროსის მოადგილე | B4: 0.15 | C4: 0.15 | D4: 0.05 | E4: 0.1 | F4: 0.15 | G4: 0.1 | H4: 0.05 | I4: 0.05 | J4: 0.1 | K4: 0.05 | L4: 0.05 | M4: =B4+C4+D4+E4+F4+G4+H4+I4+J4+K4+L4 -> 1
A5: ადამიანური რესურსების განვითარების სამმართველო
A6: სამმართველოს უფროსი | B6: 0.1 | C6: 0.1 | D6: 0.1 | E6: 0.05 | F6: 0.1 | G6: 0.15 | H6: 0.1 | I6: 0.1 | J6: 0.1 | K6: 0.05 | L6: 0.05 | M6: =B6+C6+D6+E6+F6+G6+H6+I6+J6+K6+L6 -> 1
A7: მთავარი სპეციალისტი | B7: 0.1 | C7: 0.05 | D7: 0.1 | E7: 0.05 | F7: 0.15 | G7: 0.15 | H7: 0.1 | I7: 0.1 | J7: 0.1 | K7: 0.05 | L7: 0.05 | M7: =B7+C7+D7+E7+F7+G7+H7+I7+J7+K7+L7 -> 1
A8: შერჩევის და საკადრო ადმინისტრირების სამმართველო
A9: სამმართველოს უფროსი | B9: 0.1 | C9: 0.1 | D9: 0.05 | E9: 0.05 | F9: 0.1 | G9: 0.1 | H9: 0.1 | I9: 0.1 | J9: 0.1 | K9: 0.1 | L9: 0.1 | M9: =B9+C9+D9+E9+F9+G9+H9+I9+J9+K9+L9 -> 1
A10: მთავარი სპეციალისტი | B10: 0.1 | C10: 0.05 | D10: 0.1 | E10: 0.05 | F10: 0.05 | G10: 0.1 | H10: 0.1 | I10: 0.1 | J10: 0.05 | K10: 0.15 | L10: 0.15 | M10: =B10+C10+D10+E10+F10+G10+H10+I10+J10+K10+L10 -> 1
A11: უფროსი სპეციალისტი | B11: 0.1 | C11: 0.05 | D11: 0.1 | E11: 0.05 | F11: 0.05 | G11: 0.1 | H11: 0.1 | I11: 0.1 | J11: 0.05 | K11: 0.15 | L11: 0.15 | M11: =B11+C11+D11+E11+F11+G11+H11+I11+J11+K11+L11 -> 1
A12: დამხმარე მოსამსახურე | B12: 0.1 | C12: 0.05 | D12: 0.1 | E12: 0.05 | F12: 0.05 | G12: 0.1 | H12: 0.1 | I12: 0.1 | J12: 0.05 | K12: 0.15 | L12: 0.15 | M12: =B12+C12+D12+E12+F12+G12+H12+I12+J12+K12+L12 -> 1

Sheet საერთაშორისო ურთიერთ. დეპარტამე
A1: პოზიცია | B1: ხარისხის, რისკებისა და ოპერაციების მართვა | C1: ლიდერობა და მართვა | D1: გუნდურობა | E1: პროაქტიურობა/ინიციატივა | F1: პრობლემის გადაჭრა/გადაწყვეტილების მიღება | G1: ზეპირი და წერილობითი კომუნიკაცია | H1: ანალიტიკური აზროვნება | I1: საბაზისო კომპიუტერული კომპეტენციები | J1: სტრატეგია და ხედვა | K1: უცნო ენა | L1: კანონმდებლობა
A2: საერთაშორისო ურთიერთობათა დეპარტამენტი
A3: დეპარტამენტის უფროსი | B3: 0.15 | C3: 0.15 | D3: 0.05 | E3: 0.1 | F3: 0.15 | G3: 0.1 | H3: 0.05 | I3: 0.05 | J3: 0.1 | K3: 0.05 | L3: 0.05 | M3: =B3+C3+D3+E3+F3+G3+H3+I3+J3+K3+L3 -> 1
A4: დეპარტამენტის უფროსის მოადგილე | B4: 0.15 | C4: 0.15 | D4: 0.05 | E4: 0.1 | F4: 0.15 | G4: 0.1 | H4: 0.05 | I4: 0.05 | J4: 0.1 | K4: 0.05 | L4: 0.05 | M4: =B4+C4+D4+E4+F4+G4+H4+I4+J4+K4+L4 -> 1
A5: საერთაშორისო საბაჟო, სანიტარიულ-ფიტოსანიტარიული სასაზღვრო კონტროლის თანამშრომლობის სამმართველო
A6: სამმართველოს უფროსი | B6: 0.1 | C6: 0.1 | D6: 0.1 | E6: 0.1 | F6: 0.1 | G6: 0.15 | H6: 0.1 | I6: 0.02 | J6: 0.03 | K6: 0.1 | L6: 0.1 | M6: =B6+C6+D6+E6+F6+G6+H6+I6+J6+K6+L6 -> 1
A7: მრჩეველი | B7: 0.1 | C7: 0.05 | D7: 0.1 | E7: 0.15 | F7: 0.1 | G7: 0.15 | H7: 0.1 | I7: 0.02 | J7: 0.03 | K7: 0.1 | L7: 0.1 | M7: =B7+C7+D7+E7+F7+G7+H7+I7+J7+K7+L7 -> 1
A8: მთავარი სპეციალისტი | B8: 0.1 | C8: 0.05 | D8: 0.1 | E8: 0.15 | F8: 0.1 | G8: 0.15 | H8: 0.1 | I8: 0.02 | J8: 0.03 | K8: 0.1 | L8: 0.1 | M8: =B8+C8+D8+E8+F8+G8+H8+I8+J8+K8+L8 -> 1
A9: უფროსი სპეციალისტი | B9: 0.1 | C9: 0.05 | D9: 0.1 | E9: 0.15 | F9: 0.1 | G9: 0.15 | H9: 0.1 | I9: 0.02 | J9: 0.03 | K9: 0.1 | L9: 0.1 | M9: =B9+C9+D9+E9+F9+G9+H9+I9+J9+K9+L9 -> 1
A10: საერთაშორისო საგადასახადო თანამშრომლობის სამმართველო
A11: სამმართველოს უფროსი | B11: 0.1 | C11: 0.1 | D11: 0.1 | E11: 0.1 | F11: 0.1 | G11: 0.15 | H11: 0.1 | I11: 0.02 | J11: 0.03 | K11: 0.1 | L11: 0.1 | M11: =B11+C11+D11+E11+F11+G11+H11+I11+J11+K11+L11 -> 1
A12: მრჩეველი | B12: 0.1 | C12: 0.05 | D12: 0.1 | E12: 0.15 | F12: 0.1 | G12: 0.15 | H12: 0.1 | I12: 0.02 | J12: 0.03 | K12: 0.1 | L12: 0.1 | M12: =B12+C12+D12+E12+F12+G12+H12+I12+J12+K12+L12 -> 1
A13: მთავარი სპეციალისტი | B13: 0.1 | C13: 0.05 | D13: 0.1 | E13: 0.15 | F13: 0.1 | G13: 0.15 | H13: 0.1 | I13: 0.02 | J13: 0.03 | K13: 0.1 | L13: 0.1 | M13: =B13+C13+D13+E13+F13+G13+H13+I13+J13+K13+L13 -> 1
A14: სპეციალისტი | B14: 0.1 | C14: 0.05 | D14: 0.15 | E14: 0.15 | F14: 0.1 | G14: 0.1 | H14: 0.1 | I14: 0.02 | J14: 0.03 | K14: 0.1 | L14: 0.1 | M14: =B14+C14+D14+E14+F14+G14+H14+I14+J14+K14+L14 -> 1

Sheet მომსახურების დეპარტამენტი
A1: პოზიცია | B1: ხარისხის, რისკებისა და ოპერაციების მართვა | C1: ლიდერობა და მართვა | D1: გუნდურობა | E1: პროაქტიურობა/ინიციატივა | F1: პრობლემის გადაჭრა/გადაწყვეტილების მიღება | G1: ზეპირი და წერილობითი კომუნიკაცია | H1: ანალიტიკური აზროვნება | I1: საბაზისო კომპიუტერული კომპეტენციები | J1: სტრატეგია და ხედვა | K1: სპეციფიური პროგრამული კომპეტენციები | L1: კანონმდებლობა | M1: უცხო ენა
A2: მომსახურების დეპარტამენტი
A3: დეპარტამენტის უფროსი | B3: 0.15 | C3: 0.15 | D3: 0.05 | E3: 0.1 | F3: 0.15 | G3: 0.1 | H3: 0.05 | I3: 0.05 | J3: 0.1 | K3: 0.05 | L3: 0.05 | M3: 0 | N3: =B3+C3+D3+E3+F3+G3+H3+I3+J3+K3+L3+M3 -> 1
A4: დეპარტამენტის უფროსის მოადგილე | B4: 0.15 | C4: 0.15 | D4: 0.05 | E4: 0.1 | F4: 0.15 | G4: 0.1 | H4: 0.05 | I4: 0.05 | J4: 0.1 | K4: 0.05 | L4: 0.05 | M4: 0 | N4: =B4+C4+D4+E4+F4+G4+H4+I4+J4+K4+L4+M4 -> 1
A5: მრჩეველი | B5: 0.15 | C5: 0.05 | D5: 0.1 | E5: 0.1 | F5: 0.15 | G5: 0.1 | H5: 0.1 | I5: 0.05 | J5: 0.05 | K5: 0.05 | L5: 0.1 | M5: 0 | N5: =B5+C5+D5+E5+F5+G5+H5+I5+J5+K5+L5+M5 -> 1
A6: თანაშემწე | B6: 0.1 | C6: 0.05 | D6: 0.05 | E6: 0.05 | F6: 0.15 | G6: 0.15 | H6: 0.1 | I6: 0.1 | J6: 0.05 | K6: 0.1 | L6: 0.05 | M6: 0.05 | N6: =B6+C6+D6+E6+F6+G6+H6+I6+J6+K6+L6+M6 -> 1
A7: დამხმარე მოსამსახურე | B7: 0.1 | C7: 0.05 | D7: 0.25 | E7: 0.15 | F7: 0.15 | G7: 0.05 | H7: 0.05 | I7: 0.05 | J7: 0.05 | K7: 0.05 | L7: 0.05 | M7: 0 | N7: =B7+C7+D7+E7+F7+G7+H7+I7+J7+K7+L7+M7 -> 1
A8: გადამხდელთა მომსახურების სამმართველო
A9: სამმართველოს უფროსი | B9: 0.1 | C9: 0.1 | D9: 0.1 | E9: 0.1 | F9: 0.1 | G9: 0.1 | H9: 0.1 | I9: 0.05 | J9: 0.1 | K9: 0.05 | L9: 0.1 | M9: 0 | N9: =B9+C9+D9+E9+F9+G9+H9+I9+J9+K9+L9+M9 -> 1
A10: სამმართველოს უფროსის მოადგილე | B10: 0.1 | C10: 0.1 | D10: 0.1 | E10: 0.1 | F10: 0.1 | G10: 0.1 | H10: 0.1 | I10: 0.05 | J10: 0.1 | K10: 0.05 | L10: 0.1 | M10: 0 | N10: =B10+C10+D10+E10+F10+G10+H10+I10+J10+K10+L10+M10 -> 1
A11: აქციზური და არააქციზური საქონლის მარკირების ორგანიზების განყოფილება
A12: განყოფილების უფროსი | B12: 0.1 | C12: 0.1 | D12: 0.1 | E12: 0.1 | F12: 0.1 | G12: 0.1 | H12: 0.1 | I12: 0.05 | J12: 0.1 | K12: 0.05 | L12: 0.1 | M12: 0 | N12: =B12+C12+D12+E12+F12+G12+H12+I12+J12+K12+L12+M12 -> 1
A13: მთავარი ოფიცერი | B13: 0.08 | C13: 0.08 | D13: 0.1 | E13: 0.1 | F13: 0.07 | G13: 0.1 | H13: 0.1 | I13: 0.1 | J13: 0.07 | K13: 0.1 | L13: 0.1 | M13: 0 | N13: =B13+C13+D13+E13+F13+G13+H13+I13+J13+K13+L13+M13 -> 1
A14: ოფიცერი | B14: 0.08 | C14: 0.08 | D14: 0.1 | E14: 0.1 | F14: 0.07 | G14: 0.1 | H14: 0.1 | I14: 0.1 | J14: 0.07 | K14: 0.1 | L14: 0.1 | M14: 0 | N14: =B14+C14+D14+E14+F14+G14+H14+I14+J14+K14+L14+M14 -> 1
A15: შეღავათიანი დაბეგვრის რეგულირების განყოფილება
A16: განყოფილების უფროსი | B16: 0.1 | C16: 0.1 | D16: 0.1 | E16: 0.05 | F16: 0.1 | G16: 0.1 | H16: 0.1 | I16: 0.05 | J16: 0.1 | K16: 0.05 | L16: 0.1 | M16: 0.05 | N16: =B16+C16+D16+E16+F16+G16+H16+I16+J16+K16+L16+M16 -> 1
A17: მთავარი ოფიცერი | B17: 0.08 | C17: 0.08 | D17: 0.1 | E17: 0.05 | F17: 0.07 | G17: 0.1 | H17: 0.1 | I17: 0.1 | J17: 0.07 | K17: 0.1 | L17: 0.1 | M17: 0.05 | N17: =B17+C17+D17+E17+F17+G17+H17+I17+J17+K17+L17+M17 -> 1
A18: სერვისების მიწოდების და განვითარების განყოფილება
A19: განყოფილების უფროსი | B19: 0.1 | C19: 0.1 | D19: 0.1 | E19: 0.1 | F19: 0.1 | G19: 0.1 | H19: 0.1 | I19: 0.05 | J19: 0.1 | K19: 0.05 | L19: 0.1 | M19: 0 | N19: =B19+C19+D19+E19+F19+G19+H19+I19+J19+K19+L19+M19 -> 1
A20: მთავარი სპეციალისტი | B20: 0.08 | C20: 0.08 | D20: 0.1 | E20: 0.1 | F20: 0.07 | G20: 0.1 | H20: 0.1 | I20: 0.1 | J20: 0.07 | K20: 0.1 | L20: 0.1 | M20: 0 | N20: =B20+C20+D20+E20+F20+G20+H20+I20+J20+K20+L20+M20 -> 1
A21: მთავარი ოფიცერი | B21: 0.08 | C21: 0.08 | D21: 0.1 | E21: 0.1 | F21: 0.07 | G21: 0.1 | H21: 0.1 | I21: 0.1 | J21: 0.07 | K21: 0.1 | L21: 0.1 | M21: 0 | N21: =B21+C21+D21+E21+F21+G21+H21+I21+J21+K21+L21+M21 -> 1
A22: უფროსი ოფიცერი | B22: 0.08 | C22: 0.08 | D22: 0.1 | E22: 0.1 | F22: 0.07 | G22: 0.1 | H22: 0.1 | I22: 0.1 | J22: 0.07 | K22: 0.1 | L22: 0.1 | M22: 0 | N22: =B22+C22+D22+E22+F22+G22+H22+I22+J22+K22+L22+M22 -> 1
A23: ოფიცერი | B23: 0.08 | C23: 0.08 | D23: 0.1 | E23: 0.1 | F23: 0.07 | G23: 0.1 | H23: 0.1 | I23: 0.1 | J23: 0.07 | K23: 0.1 | L23: 0.1 | M23: 0 | N23: =B23+C23+D23+E23+F23+G23+H23+I23+J23+K23+L23+M23 -> 1
A24: საკონსულტაციო სამმართველო
A25: სამმართველოს უფროსი | B25: 0.07 | C25: 0.09 | D25: 0.07 | E25: 0.11 | F25: 0.11 | G25: 0.1 | H25: 0.15 | I25: 0.05 | J25: 0.08 | K25: 0.02 | L25: 0.15 | M25: 0 | N25: =B25+C25+D25+E25+F25+G25+H25+I25+J25+K25+L25+M25 -> 1
A26: სამმართველოს უფროსის მოადგილე | B26: 0.07 | C26: 0.09 | D26: 0.07 | E26: 0.11 | F26: 0.11 | G26: 0.1 | H26: 0.15 | I26: 0.05 | J26: 0.08 | K26: 0.02 | L26: 0.15 | M26: 0 | N26: =B26+C26+D26+E26+F26+G26+H26+I26+J26+K26+L26+M26 -> 1
A27: მთავარი ოფიცერი | B27: 0.07 | C27: 0.05 | D27: 0.08 | E27: 0.1 | F27: 0.1 | G27: 0.11 | H27: 0.15 | I27: 0.05 | J27: 0.06 | K27: 0.05 | L27: 0.15 | M27: 0.03 | N27: =B27+C27+D27+E27+F27+G27+H27+I27+J27+K27+L27+M27 -> 1
A28: უფროსი ოფიცერი | B28: 0.07 | C28: 0.05 | D28: 0.08 | E28: 0.1 | F28: 0.1 | G28: 0.11 | H28: 0.15 | I28: 0.05 | J28: 0.06 | K28: 0.05 | L28: 0.15 | M28: 0.03 | N28: =B28+C28+D28+E28+F28+G28+H28+I28+J28+K28+L28+M28 -> 1
A29: ოფიცერი | B29: 0.07 | C29: 0.05 | D29: 0.08 | E29: 0.1 | F29: 0.1 | G29: 0.11 | H29: 0.15 | I29: 0.05 | J29: 0.06 | K29: 0.05 | L29: 0.15 | M29: 0.03 | N29: =B29+C29+D29+E29+F29+G29+H29+I29+J29+K29+L29+M29 -> 1
A30: პირადი საგადასახადო მრჩევლების სამმართველო
A31: სამმართველოს უფროსი | B31: 0.09 | C31: 0.1 | D31: 0.1 | E31: 0.09 | F31: 0.09 | G31: 0.09 | H31: 0.09 | I31: 0.03 | J31: 0.09 | K31: 0.03 | L31: 0.15 | M31: 0.05 | N31: =B31+C31+D31+E31+F31+G31+H31+I31+J31+K31+L31+M31 -> 1
A32: სამმართველოს უფროსის მოადგილე | B32: 0.09 | C32: 0.1 | D32: 0.1 | E32: 0.09 | F32: 0.09 | G32: 0.09 | H32: 0.09 | I32: 0.03 | J32: 0.09 | K32: 0.03 | L32: 0.15 | M32: 0.05 | N32: =B32+C32+D32+E32+F32+G32+H32+I32+J32+K32+L32+M32 -> 1
A33: პირადი საგადასახადო მრჩეველი | B33: 0.09 | C33: 0.08 | D33: 0.09 | E33: 0.08 | F33: 0.08 | G33: 0.09 | H33: 0.09 | I33: 0.05 | J33: 0.05 | K33: 0.05 | L33: 0.2 | M33: 0.05 | N33: =B33+C33+D33+E33+F33+G33+H33+I33+J33+K33+L33+M33 -> 1
A34: მონაცემთა დამუშავების სამმართველო
A35: სამმართველოს უფროსი | B35: 0.1 | C35: 0.15 | D35: 0.05 | E35: 0.05 | F35: 0.1 | G35: 0.1 | H35: 0.1 | I35: 0.05 | J35: 0.05 | K35: 0.15 | L35: 0.1 | M35: 0 | N35: =B35+C35+D35+E35+F35+G35+H35+I35+J35+K35+L35+M35 -> 1
A36: სამმართველოს უფროსის მოადგილე | B36: 0.1 | C36: 0.15 | D36: 0.05 | E36: 0.05 | F36: 0.1 | G36: 0.1 | H36: 0.1 | I36: 0.05 | J36: 0.05 | K36: 0.15 | L36: 0.1 | M36: 0 | N36: =B36+C36+D36+E36+F36+G36+H36+I36+J36+K36+L36+M36 -> 1
A37: მთავარი ოფიცერი | B37: 0.1 | C37: 0.05 | D37: 0.05 | E37: 0.05 | F37: 0.1 | G37: 0.1 | H37: 0.1 | I37: 0.1 | J37: 0.05 | K37: 0.15 | L37: 0.15 | M37: 0 | N37: =B37+C37+D37+E37+F37+G37+H37+I37+J37+K37+L37+M37 -> 1
A38: უფროსი ოფიცერი | B38: 0.1 | C38: 0.05 | D38: 0.05 | E38: 0.05 | F38: 0.1 | G38: 0.1 | H38: 0.1 | I38: 0.1 | J38: 0.05 | K38: 0.15 | L38: 0.15 | M38: 0 | N38: =B38+C38+D38+E38+F38+G38+H38+I38+J38+K38+L38+M38 -> 1
A39: ოფიცერი | B39: 0.1 | C39: 0.05 | D39: 0.05 | E39: 0.05 | F39: 0.1 | G39: 0.1 | H39: 0.1 | I39: 0.1 | J39: 0.05 | K39: 0.15 | L39: 0.15 | M39: 0 | N39: =B39+C39+D39+E39+F39+G39+H39+I39+J39+K39+L39+M39 -> 1
A40: აღრიცხვის და სტატისტიკის სამმართველო
...

Sheet პროფესიული ეთიკისა მონიტორინგის
A1: პოზიცია | B1: ხარისხის, რისკებისა და ოპერაციების მართვა | C1: ლიდერობა და მართვა | D1: გუნდურობა | E1: პროაქტიურობა/ინიციატივა | F1: პრობლემის გადაჭრა/გადაწყვეტილების მიღება | G1: ზეპირი და წერილობითი კომუნიკაცია | H1: ანალიტიკური აზროვნება | I1: საბაზისო კომპიუტერული კომპეტენციები | J1: სტრატეგია და ხედვა | K1: სპეციფიური პროგრამული კომპეტენციები | L1: კანონმდებლობა
A2: პროფესიული ეთიკის და მონიტორინგის დეპარტამენტი
A3: დეპარტამენტის უფროსი | B3: 0.15 | C3: 0.15 | D3: 0.05 | E3: 0.1 | F3: 0.15 | G3: 0.1 | H3: 0.05 | I3: 0.05 | J3: 0.1 | K3: 0.05 | L3: 0.05 | M3: =B3+C3+D3+E3+F3+G3+H3+I3+J3+K3+L3 -> 1
A4: დეპარტამენტის უფროსის მოადგილე | B4: 0.15 | C4: 0.15 | D4: 0.05 | E4: 0.1 | F4: 0.15 | G4: 0.1 | H4: 0.05 | I4: 0.05 | J4: 0.1 | K4: 0.05 | L4: 0.05 | M4: =B4+C4+D4+E4+F4+G4+H4+I4+J4+K4+L4 -> 1
A5: მრჩეველი | B5: 0.1 | C5: 0.05 | D5: 0.1 | E5: 0.05 | F5: 0.1 | G5: 0.1 | H5: 0.1 | I5: 0.05 | J5: 0.05 | K5: 0.15 | L5: 0.15 | M5: =B5+C5+D5+E5+F5+G5+H5+I5+J5+K5+L5 -> 1
A6: მთავარი ოპერატიული ოფიცერი | B6: 0.1 | C6: 0.05 | D6: 0.1 | E6: 0.05 | F6: 0.1 | G6: 0.1 | H6: 0.1 | I6: 0.05 | J6: 0.05 | K6: 0.15 | L6: 0.15 | M6: =B6+C6+D6+E6+F6+G6+H6+I6+J6+K6+L6 -> 1
A7: მთავარი მონიტორ-ოფიცერი | B7: 0.1 | C7: 0.05 | D7: 0.1 | E7: 0.05 | F7: 0.1 | G7: 0.1 | H7: 0.1 | I7: 0.05 | J7: 0.05 | K7: 0.15 | L7: 0.15 | M7: =B7+C7+D7+E7+F7+G7+H7+I7+J7+K7+L7 -> 1
A8: უფროსი მონიტორ-ოფიცერი | B8: 0.1 | C8: 0.05 | D8: 0.1 | E8: 0.05 | F8: 0.1 | G8: 0.1 | H8: 0.1 | I8: 0.05 | J8: 0.05 | K8: 0.15 | L8: 0.15 | M8: =B8+C8+D8+E8+F8+G8+H8+I8+J8+K8+L8 -> 1
A9: უფროსი ოპერატიული ოფიცერი | B9: 0.1 | C9: 0.05 | D9: 0.1 | E9: 0.05 | F9: 0.1 | G9: 0.1 | H9: 0.1 | I9: 0.05 | J9: 0.05 | K9: 0.15 | L9: 0.15 | M9: =B9+C9+D9+E9+F9+G9+H9+I9+J9+K9+L9 -> 1
A10: ოპერატიული ოფიცერი | B10: 0.1 | C10: 0.05 | D10: 0.1 | E10: 0.05 | F10: 0.1 | G10: 0.1 | H10: 0.1 | I10: 0.05 | J10: 0.05 | K10: 0.15 | L10: 0.15 | M10: =B10+C10+D10+E10+F10+G10+H10+I10+J10+K10+L10 -> 1
A11: უფროსი სპეციალისტი | B11: 0.1 | C11: 0.05 | D11: 0.1 | E11: 0.05 | F11: 0.1 | G11: 0.1 | H11: 0.1 | I11: 0.05 | J11: 0.05 | K11: 0.15 | L11: 0.15 | M11: =B11+C11+D11+E11+F11+G11+H11+I11+J11+K11+L11 -> 1

Sheet შიდა აუდიტის დეპარტამენტი
A1: პოზიცია | B1: ხარისხის, რისკებისა და ოპერაციების მართვა | C1: ლიდერობა და მართვა | D1: გუნდურობა | E1: პროაქტიურობა/ინიციატივა | F1: პრობლემის გადაჭრა/გადაწყვეტილების მიღება | G1: ზეპირი და წერილობითი კომუნიკაცია | H1: ანალიტიკური აზროვნება | I1: საბაზისო კომპიუტერული კომპეტენციები | J1: სტრატეგია და ხედვა | K1: სპეციფიური პროგრამული კომპეტენციები | L1: კანონმდებლობა
A2: შიდა აუდიტის დეპარტამენტი
A3: დეპარტამენტის უფროსი | B3: 0.15 | C3: 0.15 | D3: 0.05 | E3: 0.1 | F3: 0.15 | G3: 0.1 | H3: 0.05 | I3: 0.05 | J3: 0.1 | K3: 0.05 | L3: 0.05 | M3: =B3+C3+D3+E3+F3+G3+H3+I3+J3+K3+L3 -> 1
A4: მთავარი აუდიტორი | B4: 0.1 | C4: 0.05 | D4: 0.1 | E4: 0.05 | F4: 0.1 | G4: 0.1 | H4: 0.1 | I4: 0.1 | J4: 0.05 | K4: 0.1 | L4: 0.15 | M4: =B4+C4+D4+E4+F4+G4+H4+I4+J4+K4+L4 -> 1

Sheet ანალიტიკური დეპარტამენტი
A1: პოზიცია | B1: ხარისხის, რისკებისა და ოპერაციების მართვა | C1: ლიდერობა და მართვა | D1: გუნდურობა | E1: პროაქტიურობა/ინიციატივა | F1: პრობლემის გადაჭრა/გადაწყვეტილების მიღება | G1: ზეპირი და წერილობითი კომუნიკაცია | H1: ანალიტიკური აზროვნება | I1: საბაზისო კომპიუტერული კომპეტენციები | J1: სტრატეგია და ხედვა | K1: სპეციფიური პროგრამული კომპეტენციები | L1: კანონმდებლობა
A2: ანალიტიკური დეპარტამენტი
A3: დეპარტამენტის უფროსი | B3: 0.15 | C3: 0.1 | D3: 0.05 | E3: 0.1 | F3: 0.15 | G3: 0.1 | H3: 0.1 | I3: 0.05 | J3: 0.1 | K3: 0.05 | L3: 0.05 | M3: =B3+C3+D3+E3+F3+G3+H3+I3+J3+K3+L3 -> 1
A4: დეპარტამენტის უფროსის მოადგილე | B4: 0.15 | C4: 0.1 | D4: 0.05 | E4: 0.1 | F4: 0.15 | G4: 0.1 | H4: 0.1 | I4: 0.05 | J4: 0.1 | K4: 0.05 | L4: 0.05 | M4: =B4+C4+D4+E4+F4+G4+H4+I4+J4+K4+L4 -> 1
A5: სპეციალისტი | B5: 0.1 | C5: 0.05 | D5: 0.1 | E5: 0.05 | F5: 0.1 | G5: 0.1 | H5: 0.15 | I5: 0.1 | J5: 0.05 | K5: 0.15 | L5: 0.05 | M5: =B5+C5+D5+E5+F5+G5+H5+I5+J5+K5+L5 -> 1
A6: საგადასახადო რისკების მართვის სამმართველო
A7: სამმართველოს უფროსი | B7: 0.1 | C7: 0.1 | D7: 0.1 | E7: 0.1 | F7: 0.1 | G7: 0.05 | H7: 0.15 | I7: 0.05 | J7: 0.05 | K7: 0.15 | L7: 0.05 | M7: =B7+C7+D7+E7+F7+G7+H7+I7+J7+K7+L7 -> 1
A8: სამმართველოს უფროსის მოადგილე | B8: 0.1 | C8: 0.1 | D8: 0.1 | E8: 0.1 | F8: 0.1 | G8: 0.05 | H8: 0.15 | I8: 0.05 | J8: 0.05 | K8: 0.15 | L8: 0.05 | M8: =B8+C8+D8+E8+F8+G8+H8+I8+J8+K8+L8 -> 1
A9: მთავარი ანალიტიკოსი | B9: 0.1 | C9: 0.05 | D9: 0.1 | E9: 0.1 | F9: 0.1 | G9: 0.05 | H9: 0.15 | I9: 0.05 | J9: 0.05 | K9: 0.2 | L9: 0.05 | M9: =B9+C9+D9+E9+F9+G9+H9+I9+J9+K9+L9 -> 1
A10: უფროსი ანალიტიკოსი | B10: 0.1 | C10: 0.05 | D10: 0.1 | E10: 0.1 | F10: 0.1 | G10: 0.05 | H10: 0.15 | I10: 0.05 | J10: 0.05 | K10: 0.2 | L10: 0.05 | M10: =B10+C10+D10+E10+F10+G10+H10+I10+J10+K10+L10 -> 1
A11: ანალიტიკოსი | B11: 0.1 | C11: 0.05 | D11: 0.1 | E11: 0.1 | F11: 0.1 | G11: 0.05 | H11: 0.15 | I11: 0.05 | J11: 0.05 | K11: 0.2 | L11: 0.05 | M11: =B11+C11+D11+E11+F11+G11+H11+I11+J11+K11+L11 -> 1
A12: ინფორმაციის დამუშავების და ანალიზის სამმართველო
A13: სამმართველოს უფროსი | B13: 0.1 | C13: 0.2 | D13: 0.05 | E13: 0.1 | F13: 0.1 | G13: 0.1 | H13: 0.15 | I13: 0.05 | J13: 0.1 | K13: 0.05 | L13: 0 | M13: =B13+C13+D13+E13+F13+G13+H13+I13+J13+K13+L13 -> 1
A14: სამმართველოს უფროსის მოადგილე | B14: 0.1 | C14: 0.2 | D14: 0.05 | E14: 0.1 | F14: 0.1 | G14: 0.1 | H14: 0.15 | I14: 0.05 | J14: 0.1 | K14: 0.05 | L14: 0 | M14: =B14+C14+D14+E14+F14+G14+H14+I14+J14+K14+L14 -> 1
A15: მთავარი ანალიტიკოსი | B15: 0.15 | C15: 0.1 | D15: 0.1 | E15: 0.1 | F15: 0.1 | G15: 0.1 | H15: 0.15 | I15: 0.05 | J15: 0.05 | K15: 0.1 | L15: 0 | M15: =B15+C15+D15+E15+F15+G15+H15+I15+J15+K15+L15 -> 1
A16: უფროსი ანალიტიკოსი | B16: 0.15 | C16: 0.1 | D16: 0.1 | E16: 0.1 | F16: 0.1 | G16: 0.1 | H16: 0.15 | I16: 0.05 | J16: 0.05 | K16: 0.1 | L16: 0 | M16: =B16+C16+D16+E16+F16+G16+H16+I16+J16+K16+L16 -> 1
A17: ანალიტიკური საინფორმაციო ბაზების განვითარების სამმართველო
A18: სამმართველოს უფროსი | B18: 0.15 | C18: 0.1 | D18: 0.1 | E18: 0.05 | F18: 0.1 | G18: 0.05 | H18: 0.1 | I18: 0.05 | J18: 0.1 | K18: 0.2 | L18: 0 | M18: =B18+C18+D18+E18+F18+G18+H18+I18+J18+K18+L18 -> 1
A19: სამმართველოს უფროსის მოადგილე | B19: 0.15 | C19: 0.1 | D19: 0.1 | E19: 0.05 | F19: 0.1 | G19: 0.05 | H19: 0.1 | I19: 0.05 | J19: 0.1 | K19: 0.2 | L19: 0 | M19: =B19+C19+D19+E19+F19+G19+H19+I19+J19+K19+L19 -> 1
A20: მთავარი ანალიტიკოსი | B20: 0.15 | C20: 0.05 | D20: 0.1 | E20: 0.05 | F20: 0.1 | G20: 0.05 | H20: 0.1 | I20: 0.05 | J20: 0.1 | K20: 0.25 | L20: 0 | M20: =B20+C20+D20+E20+F20+G20+H20+I20+J20+K20+L20 -> 1
A21: უფროსი ანალიტიკოსი | B21: 0.15 | C21: 0.05 | D21: 0.1 | E21: 0.05 | F21: 0.1 | G21: 0.05 | H21: 0.1 | I21: 0.05 | J21: 0.1 | K21: 0.25 | L21: 0 | M21: =B21+C21+D21+E21+F21+G21+H21+I21+J21+K21+L21 -> 1
A22: ანალიტიკოსი | B22: 0.15 | C22: 0.05 | D22: 0.1 | E22: 0.05 | F22: 0.1 | G22: 0.05 | H22: 0.1 | I22: 0.05 | J22: 0.1 | K22: 0.25 | L22: 0 | M22: =B22+C22+D22+E22+F22+G22+H22+I22+J22+K22+L22 -> 1
A23: საგადასახადო შეთანხმებების სამმართველო
A24: სამმართველოს უფროსი | B24: 0.1 | C24: 0.2 | D24: 0.05 | E24: 0.1 | F24: 0.1 | G24: 0.1 | H24: 0.15 | I24: 0.02 | J24: 0.1 | K24: 0.03 | L24: 0.05 | M24: =B24+C24+D24+E24+F24+G24+H24+I24+J24+K24+L24 -> 1
A25: სამმართველოს უფროსის მოადგილე | B25: 0.1 | C25: 0.2 | D25: 0.05 | E25: 0.1 | F25: 0.1 | G25: 0.1 | H25: 0.15 | I25: 0.02 | J25: 0.1 | K25: 0.03 | L25: 0.05 | M25: =B25+C25+D25+E25+F25+G25+H25+I25+J25+K25+L25 -> 1
A26: მთავარი სპეციალისტი | B26: 0.15 | C26: 0.1 | D26: 0.1 | E26: 0.1 | F26: 0.1 | G26: 0.1 | H26: 0.15 | I26: 0.05 | J26: 0.05 | K26: 0.05 | L26: 0.05 | M26: =B26+C26+D26+E26+F26+G26+H26+I26+J26+K26+L26 -> 1
A27: უფროსი სპეციალისტი | B27: 0.15 | C27: 0.1 | D27: 0.1 | E27: 0.1 | F27: 0.1 | G27: 0.1 | H27: 0.15 | I27: 0.05 | J27: 0.05 | K27: 0.05 | L27: 0.05 | M27: =B27+C27+D27+E27+F27+G27+H27+I27+J27+K27+L27 -> 1
A28: სპეციალისტი | B28: 0.15 | C28: 0.1 | D28: 0.1 | E28: 0.1 | F28: 0.1 | G28: 0.1 | H28: 0.15 | I28: 0.05 | J28: 0.05 | K28: 0.05 | L28: 0.05 | M28: =B28+C28+D28+E28+F28+G28+H28+I28+J28+K28+L28 -> 1
A29: საგადასახადო დავალიანების მართვის პოლიტიკის სამმართველო
A30: სამმართველოს უფროსი | B30: 0.1 | C30: 0.1 | D30: 0.1 | E30: 0.1 | F30: 0.1 | G30: 0.1 | H30: 0.1 | I30: 0.05 | J30: 0.05 | K30: 0.1 | L30: 0.1 | M30: =B30+C30+D30+E30+F30+G30+H30+I30+J30+K30+L30 -> 1
A31: სამმართველოს უფროსის მოადგილე | B31: 0.1 | C31: 0.1 | D31: 0.1 | E31: 0.1 | F31: 0.1 | G31: 0.1 | H31: 0.1 | I31: 0.05 | J31: 0.05 | K31: 0.1 | L31: 0.1 | M31: =B31+C31+D31+E31+F31+G31+H31+I31+J31+K31+L31 -> 1
A32: მთავარი ოფიცერი | B32: 0.1 | C32: 0.05 | D32: 0.1 | E32: 0.1 | F32: 0.1 | G32: 0.1 | H32: 0.1 | I32: 0.05 | J32: 0.05 | K32: 0.15 | L32: 0.1 | M32: =B32+C32+D32+E32+F32+G32+H32+I32+J32+K32+L32 -> 1
A33: უფროსი ოფიცერი | B33: 0.1 | C33: 0.05 | D33: 0.1 | E33: 0.1 | F33: 0.1 | G33: 0.1 | H33: 0.1 | I33: 0.05 | J33: 0.05 | K33: 0.15 | L33: 0.1 | M33: =B33+C33+D33+E33+F33+G33+H33+I33+J33+K33+L33 -> 1
A34: ოფიცერი | B34: 0.1 | C34: 0.05 | D34: 0.1 | E34: 0.1 | F34: 0.1 | G34: 0.1 | H34: 0.1 | I34: 0.05 | J34: 0.05 | K34: 0.15 | L34: 0.1 | M34: =B34+C34+D34+E34+F34+G34+H34+I34+J34+K34+L34 -> 1
A35: გადახდევინებისგან თავის არიდების გამოვლენის სამმართველო
A36: სამმართველოს უფროსი | B36: 0.1 | C36: 0.1 | D36: 0.1 | E36: 0.1 | F36: 0.1 | G36: 0.1 | H36: 0.1 | I36: 0.05 | J36: 0.05 | K36: 0.1 | L36: 0.1 | M36: =B36+C36+D36+E36+F36+G36+H36+I36+J36+K36+L36 -> 1
A37: სამმართველოს უფროსის მოადგილე | B37: 0.1 | C37: 0.1 | D37: 0.1 | E37: 0.1 | F37: 0.1 | G37: 0.1 | H37: 0.1 | I37: 0.05 | J37: 0.05 | K37: 0.1 | L37: 0.1 | M37: =B37+C37+D37+E37+F37+G37+H37+I37+J37+K37+L37 -> 1
A38: მთავარი ოფიცერი | B38: 0.1 | C38: 0.05 | D38: 0.1 | E38: 0.1 | F38: 0.1 | G38: 0.1 | H38: 0.1 | I38: 0.05 | J38: 0.05 | K38: 0.15 | L38: 0.1 | M38: =B38+C38+D38+E38+F38+G38+H38+I38+J38+K38+L38 -> 1
A39: უფროსი ოფიცერი | B39: 0.1 | C39: 0.05 | D39: 0.1 | E39: 0.1 | F39: 0.1 | G39: 0.1 | H39: 0.1 | I39: 0.05 | J39: 0.05 | K39: 0.15 | L39: 0.1 | M39: =B39+C39+D39+E39+F39+G39+H39+I39+J39+K39+L39 -> 1
A40: ოფიცერი | B40: 0.1 | C40: 0.05 | D40: 0.1 | E40: 0.05 | F40: 0.1 | G40: 0.1 | H40: 0.1 | I40: 0.05 | J40: 0.05 | K40: 0.15 | L40: 0.15 | M40: =B40+C40+D40+E40+F40+G40+H40+I40+J40+K40+L40 -> 1
...

Sheet საგადასახადო და საბაჟო მეთოდ.
A1: პოზიცია | B1: ხარისხის, რისკებისა და ოპერაციების მართვა | C1: ლიდერობა და მართვა | D1: გუნდურობა | E1: პროაქტიურობა/ინიციატივა | F1: პრობლემის გადაჭრა/გადაწყვეტილების მიღება | G1: ზეპირი და წერილობითი კომუნიკაცია | H1: ანალიტიკური აზროვნება | I1: საბაზისო კომპიუტერული კომპეტენციები | J1: სპეციფიური პროგრამული კომპეტენციები | K1: სტრატეგია და ხედვა | L1: კანონმდებლობა | M1: უცხო ენა
A2: საგადასახადო და საბაჟო მეთოდოლოგიის დეპარტამენტი
A3: დეპარტამენტის უფროსი | B3: 0.15 | C3: 0.1 | D3: 0.05 | E3: 0.1 | F3: 0.1 | G3: 0.1 | H3: 0.1 | I3: 0.05 | J3: 0 | K3: 0.1 | L3: 0.15 | M3: 0 | N3: =B3+C3+D3+E3+F3+G3+H3+I3+K3+L3+M3 -> 1
A4: დეპარტამენტის უფროსის მოადგილე | B4: 0.15 | C4: 0.1 | D4: 0.05 | E4: 0.1 | F4: 0.1 | G4: 0.1 | H4: 0.1 | I4: 0.05 | J4: 0 | K4: 0.1 | L4: 0.15 | M4: 0 | N4: =B4+C4+D4+E4+F4+G4+H4+I4+K4+L4+M4 -> 1
A5: თანაშემწე | B5: 0.15 | C5: 0.05 | D5: 0.1 | E5: 0.1 | F5: 0.1 | G5: 0.15 | H5: 0.1 | I5: 0.1 | J5: 0 | K5: 0.05 | L5: 0.05 | M5: 0.05 | N5: =B5+C5+D5+E5+F5+G5+H5+I5+K5+L5+M5 -> 1
A6: საგადასახადო კონტროლის მეთოდოლოგიის სამმართველო
A7: სამმართველოს უფროსი | B7: 0.11 | C7: 0.15 | D7: 0.1 | E7: 0.11 | F7: 0.11 | G7: 0.06 | H7: 0.11 | I7: 0.02 | J7: 0 | K7: 0.11 | L7: 0.1 | M7: 0.02 | N7: =B7+C7+D7+E7+F7+G7+H7+I7+J7+K7+L7+M7 -> 1
A8: სამმართველოს უფროსის მოადგილე | B8: 0.11 | C8: 0.15 | D8: 0.1 | E8: 0.11 | F8: 0.11 | G8: 0.06 | H8: 0.11 | I8: 0.02 | J8: 0 | K8: 0.11 | L8: 0.1 | M8: 0.02 | N8: =B8+C8+D8+E8+F8+G8+H8+I8+J8+K8+L8+M8 -> 1
A9: მთავარი სპეციალისტი | B9: 0.15 | C9: 0.05 | D9: 0.05 | E9: 0.05 | F9: 0.15 | G9: 0.15 | H9: 0.07 | I9: 0.03 | J9: 0.03 | K9: 0.07 | L9: 0.15 | M9: 0.05 | N9: =B9+C9+D9+E9+F9+G9+H9+I9+J9+K9+L9+M9 -> 1
A10: უფროსი სპეციალისტი | B10: 0.15 | C10: 0.05 | D10: 0.05 | E10: 0.05 | F10: 0.15 | G10: 0.15 | H10: 0.07 | I10: 0.03 | J10: 0.03 | K10: 0.07 | L10: 0.15 | M10: 0.05 | N10: =B10+C10+D10+E10+F10+G10+H10+I10+J10+K10+L10+M10 -> 1
A11: სპეციალისტი | B11: 0.15 | C11: 0.05 | D11: 0.05 | E11: 0.05 | F11: 0.15 | G11: 0.15 | H11: 0.07 | I11: 0.03 | J11: 0.03 | K11: 0.07 | L11: 0.15 | M11: 0.05 | N11: =B11+C11+D11+E11+F11+G11+H11+I11+J11+K11+L11+M11 -> 1
A12: დაბეგვრისა და ანგარიშგების მეთოდოლოგიის სამმართველო
A13: სამმართველოს უფროსი | B13: 0.1 | C13: 0.1 | D13: 0.07 | E13: 0.07 | F13: 0.12 | G13: 0.12 | H13: 0.1 | I13: 0.05 | J13: 0 | K13: 0.07 | L13: 0.15 | M13: 0.05 | N13: =B13+C13+D13+E13+F13+G13+H13+I13++J13+K13+L13+M13 -> 1
A14: სამმართველოს უფროსის მოადგილე | B14: 0.1 | C14: 0.1 | D14: 0.07 | E14: 0.07 | F14: 0.12 | G14: 0.12 | H14: 0.1 | I14: 0.05 | J14: 0 | K14: 0.07 | L14: 0.15 | M14: 0.05 | N14: =B14+C14+D14+E14+F14+G14+H14+I14++J14+K14+L14+M14 -> 1
A15: მთავარი სპეციალისტი | B15: 0.1 | C15: 0.09 | D15: 0.1 | E15: 0.08 | F15: 0.12 | G15: 0.1 | H15: 0.1 | I15: 0.06 | J15: 0 | K15: 0.05 | L15: 0.15 | M15: 0.05 | N15: =B15+C15+D15+E15+F15+G15+H15+I15++J15+K15+L15+M15 -> 1
A16: უფროსი სპეციალისტი | B16: 0.1 | C16: 0.09 | D16: 0.1 | E16: 0.08 | F16: 0.12 | G16: 0.1 | H16: 0.1 | I16: 0.06 | J16: 0 | K16: 0.05 | L16: 0.15 | M16: 0.05 | N16: =B16+C16+D16+E16+F16+G16+H16+I16++J16+K16+L16+M16 -> 1
A17: სპეციალისტი | B17: 0.1 | C17: 0.09 | D17: 0.1 | E17: 0.08 | F17: 0.12 | G17: 0.1 | H17: 0.1 | I17: 0.06 | J17: 0 | K17: 0.05 | L17: 0.15 | M17: 0.05 | N17: =B17+C17+D17+E17+F17+G17+H17+I17++J17+K17+L17+M17 -> 1
A18: საბაჟო მეთოდოლოგიის სამმართველო
A19: სამმართველოს უფროსი | B19: 0.1 | C19: 0.1 | D19: 0.08 | E19: 0.08 | F19: 0.1 | G19: 0.1 | H19: 0.08 | I19: 0.05 | J19: 0 | K19: 0.09 | L19: 0.2 | M19: 0.02 | N19: =B19+C19+D19+E19+F19+G19+H19+I19+J19+K19+L19+M19 -> 1
A20: სამმართველოს უფროსის მოადგილე | B20: 0.1 | C20: 0.1 | D20: 0.08 | E20: 0.08 | F20: 0.1 | G20: 0.1 | H20: 0.08 | I20: 0.05 | J20: 0 | K20: 0.09 | L20: 0.2 | M20: 0.02 | N20: =B20+C20+D20+E20+F20+G20+H20+I20+J20+K20+L20+M20 -> 1
A21: მთავარი სპეციალისტი | B21: 0.1 | C21: 0.07 | D21: 0.08 | E21: 0.08 | F21: 0.1 | G21: 0.15 | H21: 0.1 | I21: 0.05 | J21: 0 | K21: 0.05 | L21: 0.2 | M21: 0.02 | N21: =B21+C21+D21+E21+F21+G21+H21+I21+J21+K21+L21+M21 -> 1
A22: უფროსი სპეციალისტი | B22: 0.1 | C22: 0.07 | D22: 0.08 | E22: 0.08 | F22: 0.1 | G22: 0.15 | H22: 0.1 | I22: 0.05 | J22: 0 | K22: 0.05 | L22: 0.2 | M22: 0.02 | N22: =B22+C22+D22+E22+F22+G22+H22+I22+J22+K22+L22+M22 -> 1
A23: სპეციალისტი | B23: 0.1 | C23: 0.06 | D23: 0.08 | E23: 0.08 | F23: 0.1 | G23: 0.15 | H23: 0.1 | I23: 0.06 | J23: 0 | K23: 0.05 | L23: 0.2 | M23: 0.02 | N23: =B23+C23+D23+E23+F23+G23+H23+I23+J23+K23+L23+M23 -> 1
A24: გადამხდელთა განათლებისა და მომსახურების მეთოდოლოგიის სამმართველო
A25: სამმართველოს უფროსი | B25: 0.11 | C25: 0.11 | D25: 0.05 | E25: 0.11 | F25: 0.11 | G25: 0.1 | H25: 0.11 | I25: 0.03 | J25: 0.02 | K25: 0.1 | L25: 0.1 | M25: 0.05 | N25: =B25+C25+D25+E25+F25+G25+H25+I25+K25+L25+M25+J25 -> 1
A26: მთავარი სპეციალისტი | B26: 0.1 | C26: 0.05 | D26: 0.03 | E26: 0.05 | F26: 0.1 | G26: 0.13 | H26: 0.15 | I26: 0.06 | J26: 0.06 | K26: 0.1 | L26: 0.12 | M26: 0.05 | N26: =B26+C26+D26+E26+F26+G26+H26+I26+K26+L26+M26+J26 -> 1
A27: მთავარი ანალიტიკოსი | B27: 0.1 | C27: 0.05 | D27: 0.03 | E27: 0.05 | F27: 0.1 | G27: 0.13 | H27: 0.15 | I27: 0.06 | J27: 0.06 | K27: 0.1 | L27: 0.12 | M27: 0.05 | N27: =B27+C27+D27+E27+F27+G27+H27+I27+K27+L27+M27+J27 -> 1
A28: უფროსი სპეციალისტი | B28: 0.1 | C28: 0.05 | D28: 0.03 | E28: 0.05 | F28: 0.1 | G28: 0.13 | H28: 0.15 | I28: 0.06 | J28: 0.06 | K28: 0.1 | L28: 0.12 | M28: 0.05 | N28: =B28+C28+D28+E28+F28+G28+H28+I28+K28+L28+M28+J28 -> 1
A29: ზოგადი ადმინისტრირების მეთოდოლოგიის სამმართველო
A30: სამმართველოს უფროსი | B30: 0.1 | C30: 0.1 | D30: 0.09 | E30: 0.1 | F30: 0.1 | G30: 0.1 | H30: 0.1 | I30: 0.02 | J30: 0.02 | K30: 0.06 | L30: 0.2 | M30: 0.01 | N30: =B30+C30+D30+E30+F30+G30+H30+I30+K30+L30+M30+J30 -> 1
A31: მთავარი სპეციალისტი | B31: 0.1 | C31: 0.04 | D31: 0.08 | E31: 0.1 | F31: 0.11 | G31: 0.14 | H31: 0.1 | I31: 0.03 | J31: 0.03 | K31: 0.05 | L31: 0.2 | M31: 0.02 | N31: =B31+C31+D31+E31+F31+G31+H31+I31+K31+L31+M31+J31 -> 1
A32: სპეციალისტი | B32: 0.1 | C32: 0.04 | D32: 0.08 | E32: 0.1 | F32: 0.11 | G32: 0.14 | H32: 0.1 | I32: 0.03 | J32: 0.03 | K32: 0.05 | L32: 0.2 | M32: 0.02 | N32: =B32+C32+D32+E32+F32+G32+H32+I32+K32+L32+M32+J32 -> 1
A33: მომსახურების ხარისხის კონტროლის სამმართველო
A34: სამმართველოს უფროსი | B34: 0.1 | C34: 0.1 | D34: 0.05 | E34: 0.1 | F34: 0.11 | G34: 0.1 | H34: 0.1 | I34: 0.03 | J34: 0.03 | K34: 0.1 | L34: 0.08 | M34: 0.1 | N34: 1
A35: მთავარი სპეციალისტი | B35: 0.09 | C35: 0.05 | D35: 0.05 | E35: 0.06 | F35: 0.08 | G35: 0.11 | H35: 0.1 | I35: 0.06 | J35: 0.08 | K35: 0.1 | L35: 0.12 | M35: 0.1 | N35: 1

Sheet იურიდიული დეპარტამენტი
A1: პოზიცია | B1: ხარისხის, რისკებისა და ოპერაციების მართვა | C1: ლიდერობა და მართვა | D1: გუნდურობა | E1: პროაქტიურობა/ინიციატივა | F1: პრობლემის გადაჭრა/გადაწყვეტილების მიღება | G1: ზეპირი და წერილობითი კომუნიკაცია | H1: ანალიტიკური აზროვნება | I1: საბაზისო კომპიუტერული კომპეტენციები | J1: სტრატეგია და ხედვა | K1: კანონმდებლობა
A2: იურიდიული დეპარტამენტი
A3: დეპარტამენტის უფროსი | B3: 0.15 | C3: 0.1 | D3: 0.05 | E3: 0.1 | F3: 0.1 | G3: 0.1 | H3: 0.1 | I3: 0.05 | J3: 0.1 | K3: 0.15 | L3: =B3+C3+D3+E3+F3+G3+H3+I3+J3+K3 -> 1
A4: დეპარტამენტის უფროსის მოადგილე | B4: 0.15 | C4: 0.1 | D4: 0.05 | E4: 0.1 | F4: 0.1 | G4: 0.1 | H4: 0.1 | I4: 0.05 | J4: 0.1 | K4: 0.15 | L4: =B4+C4+D4+E4+F4+G4+H4+I4+J4+K4 -> 1
A5: თანაშემწე | B5: 0.15 | C5: 0.05 | D5: 0.05 | E5: 0.05 | F5: 0.15 | G5: 0.15 | H5: 0.15 | I5: 0.1 | J5: 0.05 | K5: 0.1 | L5: =B5+C5+D5+E5+F5+G5+H5+I5+J5+K5 -> 1
A6: სამართლებრივი უზრუნველყოფის სამმართველო
A7: სამმართველოს უფროსი | B7: 0.15 | C7: 0.1 | D7: 0.1 | E7: 0.05 | F7: 0.1 | G7: 0.1 | H7: 0.1 | I7: 0.05 | J7: 0.05 | K7: 0.2 | L7: =B7+C7+D7+E7+F7+G7+H7+I7+J7+K7 -> 1
A8: მრჩეველი | B8: 0.1 | C8: 0.05 | D8: 0.1 | E8: 0.05 | F8: 0.1 | G8: 0.15 | H8: 0.1 | I8: 0.1 | J8: 0.05 | K8: 0.2 | L8: =B8+C8+D8+E8+F8+G8+H8+I8+J8+K8 -> 1
A9: მთავარი სპეციალისტი | B9: 0.1 | C9: 0.05 | D9: 0.1 | E9: 0.05 | F9: 0.1 | G9: 0.15 | H9: 0.1 | I9: 0.1 | J9: 0.05 | K9: 0.2 | L9: =B9+C9+D9+E9+F9+G9+H9+I9+J9+K9 -> 1
A10: უფროსი სპეციალისტი | B10: 0.1 | C10: 0.05 | D10: 0.1 | E10: 0.05 | F10: 0.1 | G10: 0.15 | H10: 0.1 | I10: 0.1 | J10: 0.05 | K10: 0.2 | L10: =B10+C10+D10+E10+F10+G10+H10+I10+J10+K10 -> 1
A11: სპეციალისტი | B11: 0.1 | C11: 0.05 | D11: 0.1 | E11: 0.05 | F11: 0.05 | G11: 0.15 | H11: 0.1 | I11: 0.15 | J11: 0.05 | K11: 0.2 | L11: =B11+C11+D11+E11+F11+G11+H11+I11+J11+K11 -> 1
A12: წინასწარი გადაწყვეტილებების სამმართველო
A13: სამმართველოს უფროსი | B13: 0.15 | C13: 0.1 | D13: 0.1 | E13: 0.05 | F13: 0.1 | G13: 0.1 | H13: 0.1 | I13: 0.05 | J13: 0.05 | K13: 0.2 | L13: =B13+C13+D13+E13+F13+G13+H13+I13+J13+K13 -> 1
A14: მრჩეველი | B14: 0.1 | C14: 0.05 | D14: 0.1 | E14: 0.05 | F14: 0.1 | G14: 0.15 | H14: 0.1 | I14: 0.1 | J14: 0.05 | K14: 0.2 | L14: =B14+C14+D14+E14+F14+G14+H14+I14+J14+K14 -> 1
A15: მთავარი სპეციალისტი | B15: 0.1 | C15: 0.05 | D15: 0.1 | E15: 0.05 | F15: 0.1 | G15: 0.15 | H15: 0.1 | I15: 0.1 | J15: 0.05 | K15: 0.2 | L15: =B15+C15+D15+E15+F15+G15+H15+I15+J15+K15 -> 1
A16: უფროსი სპეციალისტი | B16: 0.1 | C16: 0.05 | D16: 0.1 | E16: 0.05 | F16: 0.1 | G16: 0.15 | H16: 0.1 | I16: 0.1 | J16: 0.05 | K16: 0.2 | L16: =B16+C16+D16+E16+F16+G16+H16+I16+J16+K16 -> 1

Sheet დავების დეპარტამენტი
A1: პოზიცია | B1: ხარისხის, რისკებისა და ოპერაციების მართვა | C1: ლიდერობა და მართვა | D1: გუნდურობა | E1: პროაქტიურობა / ინიციატივა | F1: პრობლემის გადაჭრა/ გადაწყვეტილების მიღება | G1: ზეპირი და წერილობითი კომუნიკაცია | H1: ანალიტიკური აზროვნება | I1: საბაზისო კომპიუტერული კომპეტენციები | J1: სტრატეგია და ხედვა | K1: სპეციფიური პროგრამული კომპეტენციები | L1: კანონმდებლობა
A2: დავების დეპარტამენტი
A3: დეპარტამენტის უფროსი | B3: 0.15 | C3: 0.1 | D3: 0.05 | E3: 0.1 | F3: 0.15 | G3: 0.1 | H3: 0.1 | I3: 0.05 | J3: 0.1 | K3: 0 | L3: 0.1 | M3: =B3+C3+D3+E3+F3+G3+H3+I3+J3+K3+L3 -> 1
A4: დეპარტამენტის უფროსის პირველი მოადგილე | B4: 0.15 | C4: 0.1 | D4: 0.05 | E4: 0.1 | F4: 0.15 | G4: 0.1 | H4: 0.1 | I4: 0.05 | J4: 0.1 | K4: 0 | L4: 0.1 | M4: =B4+C4+D4+E4+F4+G4+H4+I4+J4+K4+L4 -> 1
A5: დეპარტამენტის უფროსის მოადგილე | B5: 0.15 | C5: 0.1 | D5: 0.05 | E5: 0.1 | F5: 0.15 | G5: 0.1 | H5: 0.1 | I5: 0.05 | J5: 0.1 | K5: 0 | L5: 0.1 | M5: =B5+C5+D5+E5+F5+G5+H5+I5+J5+K5+L5 -> 1
A6: დამხმარე მოსამსახურე | B6: 0.45 | C6: 0.05 | D6: 0.05 | E6: 0.05 | F6: 0.05 | G6: 0.05 | H6: 0.05 | I6: 0.05 | J6: 0.05 | K6: 0 | L6: 0.15 | M6: =B6+C6+D6+E6+F6+G6+H6+I6+J6+K6+L6 -> 1
A7: სასამართლო დავების სამმართველო
A8: სამმართველოს უფროსი | B8: 0.15 | C8: 0.1 | D8: 0.05 | E8: 0.1 | F8: 0.1 | G8: 0.1 | H8: 0.1 | I8: 0.05 | J8: 0.1 | K8: 0 | L8: 0.15 | M8: =B8+C8+D8+E8+F8+G8+H8+I8+J8+K8+L8 -> 1
A9: სამმართველოს უფროსის მოადგილე | B9: 0.15 | C9: 0.1 | D9: 0.05 | E9: 0.1 | F9: 0.1 | G9: 0.1 | H9: 0.1 | I9: 0.05 | J9: 0.1 | K9: 0 | L9: 0.15 | M9: =B9+C9+D9+E9+F9+G9+H9+I9+J9+K9+L9 -> 1
A10: მთავარი სპეციალისტი | B10: 0.45 | C10: 0.05 | D10: 0.05 | E10: 0.05 | F10: 0.05 | G10: 0.05 | H10: 0.05 | I10: 0.05 | J10: 0.05 | K10: 0 | L10: 0.15 | M10: =B10+C10+D10+E10+F10+G10+H10+I10+J10+K10+L10 -> 1
A11: უფროსი სპეციალისტი | B11: 0.45 | C11: 0.05 | D11: 0.05 | E11: 0.05 | F11: 0.05 | G11: 0.05 | H11: 0.05 | I11: 0.05 | J11: 0.05 | K11: 0 | L11: 0.15 | M11: =B11+C11+D11+E11+F11+G11+H11+I11+J11+K11+L11 -> 1
A12: სპეციალისტი | B12: 0.45 | C12: 0.05 | D12: 0.05 | E12: 0.05 | F12: 0.05 | G12: 0.05 | H12: 0.05 | I12: 0.05 | J12: 0.05 | K12: 0 | L12: 0.15 | M12: =B12+C12+D12+E12+F12+G12+H12+I12+J12+K12+L12 -> 1
A13: დამხმარე მოსამსახურე | B13: 0.45 | C13: 0.05 | D13: 0.05 | E13: 0.05 | F13: 0.05 | G13: 0.05 | H13: 0.05 | I13: 0.05 | J13: 0.05 | K13: 0 | L13: 0.15 | M13: =B13+C13+D13+E13+F13+G13+H13+I13+J13+K13+L13 -> 1
A14: საჩივრების სამმართველო
A15: სამმართველოს უფროსი | B15: 0.15 | C15: 0.1 | D15: 0.1 | E15: 0.05 | F15: 0.1 | G15: 0.1 | H15: 0.1 | I15: 0.05 | J15: 0.1 | K15: 0 | L15: 0.15 | M15: =B15+C15+D15+E15+F15+G15+H15+I15+J15+K15+L15 -> 1
A16: სამმართველოს უფროსის მოადგილე | B16: 0.15 | C16: 0.1 | D16: 0.1 | E16: 0.05 | F16: 0.1 | G16: 0.1 | H16: 0.1 | I16: 0.05 | J16: 0.1 | K16: 0 | L16: 0.15 | M16: =B16+C16+D16+E16+F16+G16+H16+I16+J16+K16+L16 -> 1
A17: მთავარი სპეციალისტი | B17: 0.45 | C17: 0.05 | D17: 0.05 | E17: 0.05 | F17: 0.05 | G17: 0.05 | H17: 0.05 | I17: 0.05 | J17: 0.05 | K17: 0 | L17: 0.15 | M17: =B17+C17+D17+E17+F17+G17+H17+I17+J17+K17+L17 -> 1
A18: უფროსი სპეციალისტი | B18: 0.45 | C18: 0.05 | D18: 0.05 | E18: 0.05 | F18: 0.05 | G18: 0.05 | H18: 0.05 | I18: 0.05 | J18: 0.05 | K18: 0 | L18: 0.15 | M18: =B18+C18+D18+E18+F18+G18+H18+I18+J18+K18+L18 -> 1
A19: სპეციალისტი | B19: 0.45 | C19: 0.05 | D19: 0.05 | E19: 0.05 | F19: 0.05 | G19: 0.05 | H19: 0.05 | I19: 0.05 | J19: 0.05 | K19: 0 | L19: 0.15 | M19: =B19+C19+D19+E19+F19+G19+H19+I19+J19+K19+L19 -> 1
A20: გადაწყვეტილებების მონიტორინგის განყოფილება
A21: განყოფილების უფროსი | B21: 0.15 | C21: 0.1 | D21: 0.1 | E21: 0.05 | F21: 0.1 | G21: 0.1 | H21: 0.1 | I21: 0.05 | J21: 0.1 | K21: 0 | L21: 0.15 | M21: =B21+C21+D21+E21+F21+G21+H21+I21+J21+K21+L21 -> 1
A22: მთავარი სპეციალისტი | B22: 0.45 | C22: 0.05 | D22: 0.05 | E22: 0.05 | F22: 0.05 | G22: 0.05 | H22: 0.05 | I22: 0.05 | J22: 0.05 | K22: 0 | L22: 0.15 | M22: =B22+C22+D22+E22+F22+G22+H22+I22+J22+K22+L22 -> 1
A23: უფროსი სპეციალისტი | B23: 0.45 | C23: 0.05 | D23: 0.05 | E23: 0.05 | F23: 0.05 | G23: 0.05 | H23: 0.05 | I23: 0.05 | J23: 0.05 | K23: 0 | L23: 0.15 | M23: =B23+C23+D23+E23+F23+G23+H23+I23+J23+K23+L23 -> 1
A24: სპეციალისტი | B24: 0.45 | C24: 0.05 | D24: 0.05 | E24: 0.05 | F24: 0.05 | G24: 0.05 | H24: 0.05 | I24: 0.05 | J24: 0.05 | K24: 0 | L24: 0.15 | M24: =B24+C24+D24+E24+F24+G24+H24+I24+J24+K24+L24 -> 1

Sheet საინფორმაციო ტექნოლოგიების ცენტ
A1: პოზიცია | B1: ხარისხის, რისკებისა და ოპერაციების მართვა | C1: ლიდერობა და მართვა | D1: გუნდურობა | E1: პროაქტიურობა / ინიციატივა | F1: პრობლემის გადაჭრა / გადაწყვეტილების მიღება | G1: ზეპირი და წერილობითი კომუნიკაცია | H1: ანალიტიკური აზროვნება | I1: საბაზისო კომპიუტერული კომპეტენციები | J1: სტრატეგია და ხედვა | K1: სპეციფიური პროგრამული კომპეტენციები | L1: კანონმდებლობა
A2: საინფორმაციო ტექნოლოგიების ცენტრი
A3: საინფორმაციო ტექნოლოგიების ცენტრის უფროსი | B3: 0.15 | C3: 0.1 | D3: 0.05 | E3: 0.1 | F3: 0.1 | G3: 0.1 | H3: 0.1 | I3: 0.05 | J3: 0.1 | K3: 0.15 | L3: 0 | M3: =B3+C3+D3+E3+F3+G3+H3+I3+J3+K3+L3 -> 1
A4: საინფორმაციო ტექნოლოგიების ცენტრის უფროსის მოადგილე | B4: 0.15 | C4: 0.1 | D4: 0.05 | E4: 0.1 | F4: 0.1 | G4: 0.1 | H4: 0.1 | I4: 0.05 | J4: 0.1 | K4: 0.15 | L4: 0 | M4: =B4+C4+D4+E4+F4+G4+H4+I4+J4+K4+L4 -> 1
A5: პროექტების დაგეგმვისა და მართვის სამმართველო
A6: სამმართველოს უფროსი | B6: 0.15 | C6: 0.1 | D6: 0.1 | E6: 0.1 | F6: 0.1 | G6: 0.1 | H6: 0.1 | I6: 0.05 | J6: 0.05 | K6: 0.15 | L6: 0 | M6: =B6+C6+D6+E6+F6+G6+H6+I6+J6+K6+L6 -> 1
A7: სამმართველოს უფროსის მოადგილე | B7: 0.15 | C7: 0.1 | D7: 0.1 | E7: 0.1 | F7: 0.1 | G7: 0.1 | H7: 0.1 | I7: 0.05 | J7: 0.05 | K7: 0.15 | L7: 0 | M7: =B7+C7+D7+E7+F7+G7+H7+I7+J7+K7+L7 -> 1
A8: მთავარი ანალიტიკოსი | B8: 0.15 | C8: 0.05 | D8: 0.1 | E8: 0.05 | F8: 0.1 | G8: 0.1 | H8: 0.15 | I8: 0.1 | J8: 0.05 | K8: 0.15 | L8: 0 | M8: =B8+C8+D8+E8+F8+G8+H8+I8+J8+K8+L8 -> 1
A9: წამყვანი ანალიტიკოსი | B9: 0.15 | C9: 0.05 | D9: 0.1 | E9: 0.05 | F9: 0.1 | G9: 0.1 | H9: 0.15 | I9: 0.1 | J9: 0.05 | K9: 0.15 | L9: 0 | M9: =B9+C9+D9+E9+F9+G9+H9+I9+J9+K9+L9 -> 1
A10: ანალიტიკოსი | B10: 0.15 | C10: 0.05 | D10: 0.1 | E10: 0.05 | F10: 0.1 | G10: 0.1 | H10: 0.1 | I10: 0.15 | J10: 0.05 | K10: 0.15 | L10: 0 | M10: =B10+C10+D10+E10+F10+G10+H10+I10+J10+K10+L10 -> 1
A11: პროგრამული უზრუნველყოფის სამმართველო
A12: სამმართველოს უფროსი | B12: 0.1 | C12: 0.1 | D12: 0.1 | E12: 0.1 | F12: 0.1 | G12: 0.1 | H12: 0.1 | I12: 0.05 | J12: 0.05 | K12: 0.2 | L12: 0 | M12: =B12+C12+D12+E12+F12+G12+H12+I12+J12+K12+L12 -> 1
A13: სამმართველოს უფროსის მოადგილე | B13: 0.1 | C13: 0.1 | D13: 0.1 | E13: 0.1 | F13: 0.1 | G13: 0.1 | H13: 0.1 | I13: 0.05 | J13: 0.05 | K13: 0.2 | L13: 0 | M13: =B13+C13+D13+E13+F13+G13+H13+I13+J13+K13+L13 -> 1
A14: მთავარი პროგრამისტი | B14: 0.15 | C14: 0.05 | D14: 0.1 | E14: 0.1 | F14: 0.1 | G14: 0.05 | H14: 0.15 | I14: 0.05 | J14: 0.05 | K14: 0.2 | L14: 0 | M14: =B14+C14+D14+E14+F14+G14+H14+I14+J14+K14+L14 -> 1
A15: წამყვანი პროგრამისტი | B15: 0.15 | C15: 0.05 | D15: 0.1 | E15: 0.1 | F15: 0.1 | G15: 0.05 | H15: 0.15 | I15: 0.05 | J15: 0.05 | K15: 0.2 | L15: 0 | M15: =B15+C15+D15+E15+F15+G15+H15+I15+J15+K15+L15 -> 1
A16: პროგრამისტი | B16: 0.15 | C16: 0.05 | D16: 0.1 | E16: 0.1 | F16: 0.1 | G16: 0.05 | H16: 0.15 | I16: 0.05 | J16: 0.05 | K16: 0.2 | L16: 0 | M16: =B16+C16+D16+E16+F16+G16+H16+I16+J16+K16+L16 -> 1
A17: ტექნიკური მხარდაჭერის და მომსახურების სამმართველო
A18: სამმართველოს უფროსი | B18: 0.15 | C18: 0.1 | D18: 0.1 | E18: 0.1 | F18: 0.1 | G18: 0.1 | H18: 0.1 | I18: 0.05 | J18: 0.05 | K18: 0.15 | L18: 0 | M18: =B18+C18+D18+E18+F18+G18+H18+I18+J18+K18+L18 -> 1
A19: სამმართველოს უფროსის მოადგილე | B19: 0.15 | C19: 0.1 | D19: 0.1 | E19: 0.1 | F19: 0.1 | G19: 0.1 | H19: 0.1 | I19: 0.05 | J19: 0.05 | K19: 0.15 | L19: 0 | M19: =B19+C19+D19+E19+F19+G19+H19+I19+J19+K19+L19 -> 1
A20: მთავარი ინჟინერი | B20: 0.15 | C20: 0.05 | D20: 0.1 | E20: 0.05 | F20: 0.15 | G20: 0.05 | H20: 0.15 | I20: 0.1 | J20: 0.05 | K20: 0.15 | L20: 0 | M20: =B20+C20+D20+E20+F20+G20+H20+I20+J20+K20+L20 -> 1
A21: წამყვანი ინჟინერი | B21: 0.15 | C21: 0.05 | D21: 0.1 | E21: 0.05 | F21: 0.15 | G21: 0.05 | H21: 0.15 | I21: 0.1 | J21: 0.05 | K21: 0.15 | L21: 0 | M21: =B21+C21+D21+E21+F21+G21+H21+I21+J21+K21+L21 -> 1
A22: უფროსი ინჟინერი | B22: 0.15 | C22: 0.05 | D22: 0.1 | E22: 0.05 | F22: 0.15 | G22: 0.05 | H22: 0.15 | I22: 0.1 | J22: 0.05 | K22: 0.15 | L22: 0 | M22: =B22+C22+D22+E22+F22+G22+H22+I22+J22+K22+L22 -> 1
A23: ინჟინერი | B23: 0.15 | C23: 0.05 | D23: 0.1 | E23: 0.05 | F23: 0.15 | G23: 0.05 | H23: 0.15 | I23: 0.1 | J23: 0.05 | K23: 0.15 | L23: 0 | M23: =B23+C23+D23+E23+F23+G23+H23+I23+J23+K23+L23 -> 1
A24: სპეციალისტი | B24: 0.15 | C24: 0.05 | D24: 0.1 | E24: 0.05 | F24: 0.15 | G24: 0.05 | H24: 0.15 | I24: 0.1 | J24: 0.05 | K24: 0.15 | L24: 0 | M24: =B24+C24+D24+E24+F24+G24+H24+I24+J24+K24+L24 -> 1
A25: ვებრესურსების მართვის სამმართველო
A26: სამმართველოს უფროსი | B26: 0.1 | C26: 0.1 | D26: 0.1 | E26: 0.1 | F26: 0.1 | G26: 0.1 | H26: 0.1 | I26: 0.05 | J26: 0.1 | K26: 0.15 | L26: 0 | M26: =B26+C26+D26+E26+F26+G26+H26+I26+J26+K26+L26 -> 1
A27: სამმართველოს უფროსის მოადგილე | B27: 0.1 | C27: 0.1 | D27: 0.1 | E27: 0.1 | F27: 0.1 | G27: 0.1 | H27: 0.1 | I27: 0.05 | J27: 0.1 | K27: 0.15 | L27: 0 | M27: =B27+C27+D27+E27+F27+G27+H27+I27+J27+K27+L27 -> 1
A28: ვებ-დიზაინერი | B28: 0.1 | C28: 0.05 | D28: 0.05 | E28: 0.15 | F28: 0.15 | G28: 0.05 | H28: 0.1 | I28: 0.05 | J28: 0.05 | K28: 0.25 | L28: 0 | M28: =B28+C28+D28+E28+F28+G28+H28+I28+J28+K28+L28 -> 1
A29: მთავარი პროგრამისტი | B29: 0.15 | C29: 0.05 | D29: 0.05 | E29: 0.1 | F29: 0.1 | G29: 0.05 | H29: 0.15 | I29: 0.05 | J29: 0.05 | K29: 0.25 | L29: 0 | M29: =B29+C29+D29+E29+F29+G29+H29+I29+J29+K29+L29 -> 1
A30: წამყვანი პროგრამისტი | B30: 0.15 | C30: 0.05 | D30: 0.05 | E30: 0.1 | F30: 0.1 | G30: 0.05 | H30: 0.15 | I30: 0.05 | J30: 0.05 | K30: 0.25 | L30: 0 | M30: =B30+C30+D30+E30+F30+G30+H30+I30+J30+K30+L30 -> 1
A31: პროგრამისტი | B31: 0.15 | C31: 0.05 | D31: 0.05 | E31: 0.1 | F31: 0.1 | G31: 0.05 | H31: 0.15 | I31: 0.05 | J31: 0.05 | K31: 0.25 | L31: 0 | M31: =B31+C31+D31+E31+F31+G31+H31+I31+J31+K31+L31 -> 1
A32: სისტემური არქიტექტურის და მონაცემთა გაცვლის სამმართველო
A33: სამმართველოს უფროსი | B33: 0.15 | C33: 0.1 | D33: 0.1 | E33: 0.1 | F33: 0.1 | G33: 0.05 | H33: 0.1 | I33: 0.05 | J33: 0.05 | K33: 0.2 | L33: 0 | M33: =B33+C33+D33+E33+F33+G33+H33+I33+J33+K33+L33 -> 1
A34: წამყვანი პროგრამისტი | B34: 0.1 | C34: 0.05 | D34: 0.1 | E34: 0.1 | F34: 0.15 | G34: 0.05 | H34: 0.15 | I34: 0.05 | J34: 0.05 | K34: 0.2 | L34: 0 | M34: =B34+C34+D34+E34+F34+G34+H34+I34+J34+K34+L34 -> 1

Sheet აუდიტის დეპარტამენტი
A1: პოზიცია | B1: ხარისხის, რისკებისა და ოპერაციების მართვა | C1: ლიდერობა და მართვა | D1: გუნდურობა | E1: პროაქტიურობა / ინიციატივა | F1: პრობლემის გადაჭრა / გადაწყვეტილების მიღება | G1: ზეპირი და წერილობითი კომუნიკაცია | H1: ანალიტიკური აზროვნება | I1: საბაზისო კომპიუტერული კომპეტენციები | J1: სტრატეგია და ხედვა | K1: სპეციფიური პროგრამული კომპეტენციები | L1: კანონმდებლობა
A2: აუდიტის დეპარტამენტი
A3: დეპარტამენტის უფროსი | B3: 0.15 | C3: 0.1 | D3: 0.05 | E3: 0.1 | F3: 0.15 | G3: 0.1 | H3: 0.1 | I3: 0.05 | J3: 0.1 | K3: 0.05 | L3: 0.05 | M3: =B3+C3+D3+E3+F3+G3+H3+I3+J3+K3+L3 -> 1
A4: აუდიტის დეპარტამენტის უფროსის მოადგილე | B4: 0.15 | C4: 0.1 | D4: 0.05 | E4: 0.1 | F4: 0.15 | G4: 0.1 | H4: 0.1 | I4: 0.05 | J4: 0.1 | K4: 0.05 | L4: 0.05 | M4: =B4+C4+D4+E4+F4+G4+H4+I4+J4+K4+L4 -> 1
A5: მთავარი სპეციალისტი | B5: 0.15 | C5: 0.05 | D5: 0.1 | E5: 0.1 | F5: 0.15 | G5: 0.1 | H5: 0.1 | I5: 0.08 | J5: 0.05 | K5: 0.07 | L5: 0.05 | M5: =B5+C5+D5+E5+F5+G5+H5+I5+J5+K5+L5 -> 1
A6: უფროსი სპეციალისტი | B6: 0.15 | C6: 0.05 | D6: 0.1 | E6: 0.1 | F6: 0.15 | G6: 0.1 | H6: 0.1 | I6: 0.08 | J6: 0.05 | K6: 0.07 | L6: 0.05 | M6: =B6+C6+D6+E6+F6+G6+H6+I6+J6+K6+L6 -> 1
A7: სპეციალისტი | B7: 0.15 | C7: 0.05 | D7: 0.1 | E7: 0.1 | F7: 0.15 | G7: 0.1 | H7: 0.1 | I7: 0.08 | J7: 0.05 | K7: 0.07 | L7: 0.05 | M7: =B7+C7+D7+E7+F7+G7+H7+I7+J7+K7+L7 -> 1
A8: თანაშემწე | B8: 0.15 | C8: 0.05 | D8: 0.1 | E8: 0.1 | F8: 0.15 | G8: 0.1 | H8: 0.1 | I8: 0.08 | J8: 0.05 | K8: 0.07 | L8: 0.05 | M8: =B8+C8+D8+E8+F8+G8+H8+I8+J8+K8+L8 -> 1
A9: საგადასახადო შემოწმების N1 სამმართველო
A10: სამმართველოს უფროსი | B10: 0.1 | C10: 0.1 | D10: 0.05 | E10: 0.1 | F10: 0.1 | G10: 0.1 | H10: 0.15 | I10: 0.05 | J10: 0.05 | K10: 0.05 | L10: 0.15 | M10: =B10+C10+D10+E10+F10+G10+H10+I10+J10+K10+L10 -> 1
A11: სამმართველოს უფროსის მოადგილე | B11: 0.1 | C11: 0.1 | D11: 0.05 | E11: 0.1 | F11: 0.1 | G11: 0.1 | H11: 0.15 | I11: 0.05 | J11: 0.05 | K11: 0.05 | L11: 0.15 | M11: =B11+C11+D11+E11+F11+G11+H11+I11+J11+K11+L11 -> 1
A12: მთავარი აუდიტორი | B12: 0.15 | C12: 0.05 | D12: 0.05 | E12: 0.05 | F12: 0.1 | G12: 0.1 | H12: 0.15 | I12: 0.05 | J12: 0.05 | K12: 0.1 | L12: 0.15 | M12: =B12+C12+D12+E12+F12+G12+H12+I12+J12+K12+L12 -> 1
A13: უფროსი აუდიტორი | B13: 0.15 | C13: 0.05 | D13: 0.05 | E13: 0.05 | F13: 0.1 | G13: 0.1 | H13: 0.15 | I13: 0.05 | J13: 0.05 | K13: 0.1 | L13: 0.15 | M13: =B13+C13+D13+E13+F13+G13+H13+I13+J13+K13+L13 -> 1
A14: აუდიტორი | B14: 0.15 | C14: 0.05 | D14: 0.05 | E14: 0.05 | F14: 0.1 | G14: 0.1 | H14: 0.15 | I14: 0.05 | J14: 0.05 | K14: 0.1 | L14: 0.15 | M14: =B14+C14+D14+E14+F14+G14+H14+I14+J14+K14+L14 -> 1
A15: საგადასახადო შემოწმების N2 სამმართველო
A16: სამმართველოს უფროსი | B16: 0.1 | C16: 0.1 | D16: 0.05 | E16: 0.1 | F16: 0.1 | G16: 0.1 | H16: 0.15 | I16: 0.05 | J16: 0.05 | K16: 0.05 | L16: 0.15 | M16: =B16+C16+D16+E16+F16+G16+H16+I16+J16+K16+L16 -> 1
A17: სამმართველოს უფროსის მოადგილე | B17: 0.1 | C17: 0.1 | D17: 0.05 | E17: 0.1 | F17: 0.1 | G17: 0.1 | H17: 0.15 | I17: 0.05 | J17: 0.05 | K17: 0.05 | L17: 0.15 | M17: =B17+C17+D17+E17+F17+G17+H17+I17+J17+K17+L17 -> 1
A18: მთავარი აუდიტორი | B18: 0.15 | C18: 0.05 | D18: 0.05 | E18: 0.05 | F18: 0.1 | G18: 0.1 | H18: 0.15 | I18: 0.05 | J18: 0.05 | K18: 0.1 | L18: 0.15 | M18: =B18+C18+D18+E18+F18+G18+H18+I18+J18+K18+L18 -> 1
A19: უფროსი აუდიტორი | B19: 0.15 | C19: 0.05 | D19: 0.05 | E19: 0.05 | F19: 0.1 | G19: 0.1 | H19: 0.15 | I19: 0.05 | J19: 0.05 | K19: 0.1 | L19: 0.15 | M19: =B19+C19+D19+E19+F19+G19+H19+I19+J19+K19+L19 -> 1
A20: აუდიტორი | B20: 0.15 | C20: 0.05 | D20: 0.05 | E20: 0.05 | F20: 0.1 | G20: 0.1 | H20: 0.15 | I20: 0.05 | J20: 0.05 | K20: 0.1 | L20: 0.15 | M20: =B20+C20+D20+E20+F20+G20+H20+I20+J20+K20+L20 -> 1
A21: საგადასახადო შემოწმების N3 სამმართველო
A22: სამმართველოს უფროსი | B22: 0.1 | C22: 0.1 | D22: 0.05 | E22: 0.1 | F22: 0.1 | G22: 0.1 | H22: 0.15 | I22: 0.05 | J22: 0.05 | K22: 0.05 | L22: 0.15 | M22: =B22+C22+D22+E22+F22+G22+H22+I22+J22+K22+L22 -> 1
A23: სამმართველოს უფროსის მოადგილე | B23: 0.1 | C23: 0.1 | D23: 0.05 | E23: 0.1 | F23: 0.1 | G23: 0.1 | H23: 0.15 | I23: 0.05 | J23: 0.05 | K23: 0.05 | L23: 0.15 | M23: =B23+C23+D23+E23+F23+G23+H23+I23+J23+K23+L23 -> 1
A24: მთავარი აუდიტორი | B24: 0.15 | C24: 0.05 | D24: 0.05 | E24: 0.05 | F24: 0.1 | G24: 0.1 | H24: 0.15 | I24: 0.05 | J24: 0.05 | K24: 0.1 | L24: 0.15 | M24: =B24+C24+D24+E24+F24+G24+H24+I24+J24+K24+L24 -> 1
A25: უფროსი აუდიტორი | B25: 0.15 | C25: 0.05 | D25: 0.05 | E25: 0.05 | F25: 0.1 | G25: 0.1 | H25: 0.15 | I25: 0.05 | J25: 0.05 | K25: 0.1 | L25: 0.15 | M25: =B25+C25+D25+E25+F25+G25+H25+I25+J25+K25+L25 -> 1
A26: აუდიტორი | B26: 0.15 | C26: 0.05 | D26: 0.05 | E26: 0.05 | F26: 0.1 | G26: 0.1 | H26: 0.15 | I26: 0.05 | J26: 0.05 | K26: 0.1 | L26: 0.15 | M26: =B26+C26+D26+E26+F26+G26+H26+I26+J26+K26+L26 -> 1
A27: საგადასახადო შემოწმების N4 სამმართველო
A28: სამმართველოს უფროსი | B28: 0.1 | C28: 0.1 | D28: 0.05 | E28: 0.1 | F28: 0.1 | G28: 0.1 | H28: 0.15 | I28: 0.05 | J28: 0.05 | K28: 0.05 | L28: 0.15 | M28: =B28+C28+D28+E28+F28+G28+H28+I28+J28+K28+L28 -> 1
A29: სამმართველოს უფროსის მოადგილე | B29: 0.1 | C29: 0.1 | D29: 0.05 | E29: 0.1 | F29: 0.1 | G29: 0.1 | H29: 0.15 | I29: 0.05 | J29: 0.05 | K29: 0.05 | L29: 0.15 | M29: =B29+C29+D29+E29+F29+G29+H29+I29+J29+K29+L29 -> 1
A30: მთავარი აუდიტორი | B30: 0.15 | C30: 0.05 | D30: 0.05 | E30: 0.05 | F30: 0.1 | G30: 0.1 | H30: 0.15 | I30: 0.05 | J30: 0.05 | K30: 0.1 | L30: 0.15 | M30: =B30+C30+D30+E30+F30+G30+H30+I30+J30+K30+L30 -> 1
A31: უფროსი აუდიტორი | B31: 0.15 | C31: 0.05 | D31: 0.05 | E31: 0.05 | F31: 0.1 | G31: 0.1 | H31: 0.15 | I31: 0.05 | J31: 0.05 | K31: 0.1 | L31: 0.15 | M31: =B31+C31+D31+E31+F31+G31+H31+I31+J31+K31+L31 -> 1
A32: აუდიტორი | B32: 0.15 | C32: 0.05 | D32: 0.05 | E32: 0.05 | F32: 0.1 | G32: 0.1 | H32: 0.15 | I32: 0.05 | J32: 0.05 | K32: 0.1 | L32: 0.15 | M32: =B32+C32+D32+E32+F32+G32+H32+I32+J32+K32+L32 -> 1
A33: საგადასახადო შემოწმების N5 სამმართველო
A34: სამმართველოს უფროსი | B34: 0.1 | C34: 0.1 | D34: 0.05 | E34: 0.1 | F34: 0.1 | G34: 0.1 | H34: 0.15 | I34: 0.05 | J34: 0.05 | K34: 0.05 | L34: 0.15 | M34: =B34+C34+D34+E34+F34+G34+H34+I34+J34+K34+L34 -> 1
A35: სამმართველოს უფროსის მოადგილე | B35: 0.1 | C35: 0.1 | D35: 0.05 | E35: 0.1 | F35: 0.1 | G35: 0.1 | H35: 0.15 | I35: 0.05 | J35: 0.05 | K35: 0.05 | L35: 0.15 | M35: =B35+C35+D35+E35+F35+G35+H35+I35+J35+K35+L35 -> 1
A36: მთავარი აუდიტორი | B36: 0.15 | C36: 0.05 | D36: 0.05 | E36: 0.05 | F36: 0.1 | G36: 0.1 | H36: 0.15 | I36: 0.05 | J36: 0.05 | K36: 0.1 | L36: 0.15 | M36: =B36+C36+D36+E36+F36+G36+H36+I36+J36+K36+L36 -> 1
A37: უფროსი აუდიტორი | B37: 0.15 | C37: 0.05 | D37: 0.05 | E37: 0.05 | F37: 0.1 | G37: 0.1 | H37: 0.15 | I37: 0.05 | J37: 0.05 | K37: 0.1 | L37: 0.15 | M37: =B37+C37+D37+E37+F37+G37+H37+I37+J37+K37+L37 -> 1
A38: აუდიტორი | B38: 0.15 | C38: 0.05 | D38: 0.05 | E38: 0.05 | F38: 0.1 | G38: 0.1 | H38: 0.15 | I38: 0.05 | J38: 0.05 | K38: 0.1 | L38: 0.15 | M38: =B38+C38+D38+E38+F38+G38+H38+I38+J38+K38+L38 -> 1
A39: საგადასახადო შემოწმების N6 სამმართველო
A40: სამმართველოს უფროსი | B40: 0.1 | C40: 0.1 | D40: 0.05 | E40: 0.1 | F40: 0.1 | G40: 0.1 | H40: 0.15 | I40: 0.05 | J40: 0.05 | K40: 0.05 | L40: 0.15 | M40: =B40+C40+D40+E40+F40+G40+H40+I40+J40+K40+L40 -> 1
...

Sheet რეფორმებისა და დაგეგმვის დეპარტ
A1: პოზიცია | B1: ხარისხის, რისკებისა და ოპერაციების მართვა | C1: ლიდერობა და მართვა | D1: გუნდურობა | E1: პროაქტიურობა / ინიციატივა | F1: პრობლემის გადაჭრა / გადაწყვეტილების მიღება | G1: ზეპირი და წერილობითი კომუნიკაცია | H1: ანალიტიკური აზროვნება | I1: საბაზისო კომპიუტერული კომპეტენციები | J1: სტრატეგია და ხედვა | K1: სპეციფიური პროგრამული კომპეტენციები | L1: კანონმდებლობა | M1: უცხო ენა
A2: რეფორმებისა და დაგეგმვის დეპარტამენტი
A3: დეპარტამენტის უფროსი | B3: 0.15 | C3: 0.1 | D3: 0.05 | E3: 0.1 | F3: 0.1 | G3: 0.1 | H3: 0.05 | I3: 0.05 | J3: 0.1 | K3: 0.05 | L3: 0.05 | M3: 0.1 | N3: =B3+C3+D3+E3+F3+G3+H3+I3+J3+K3+L3+M3 -> 1
A4: დეპარტამენტის უფროსის მოადგილე | B4: 0.15 | C4: 0.1 | D4: 0.05 | E4: 0.1 | F4: 0.1 | G4: 0.1 | H4: 0.05 | I4: 0.05 | J4: 0.1 | K4: 0.05 | L4: 0.05 | M4: 0.1 | N4: =B4+C4+D4+E4+F4+G4+H4+I4+J4+K4+L4+M4 -> 1
A5: მთავარი სპეციალისტი | B5: 0.1 | C5: 0.05 | D5: 0.1 | E5: 0.05 | F5: 0.1 | G5: 0.1 | H5: 0.1 | I5: 0.1 | J5: 0.1 | K5: 0.05 | L5: 0.05 | M5: 0.1 | N5: =B5+C5+D5+E5+F5+G5+H5+I5+J5+K5+L5+M5 -> 1
A6: უფროსი სპეციალისტი | B6: 0.1 | C6: 0.05 | D6: 0.1 | E6: 0.05 | F6: 0.1 | G6: 0.1 | H6: 0.1 | I6: 0.1 | J6: 0.1 | K6: 0.05 | L6: 0.05 | M6: 0.1 | N6: =B6+C6+D6+E6+F6+G6+H6+I6+J6+K6+L6+M6 -> 1
A7: ოპერაციული დაგეგმვისა და მენეჯერული ინფორმაციის სამმართველო
A8: სამმართველოს უფროსი | B8: 0.1 | C8: 0.1 | D8: 0.05 | E8: 0.05 | F8: 0.1 | G8: 0.1 | H8: 0.1 | I8: 0.05 | J8: 0.1 | K8: 0.1 | L8: 0.05 | M8: 0.1 | N8: =B8+C8+D8+E8+F8+G8+H8+I8+J8+K8+L8+M8 -> 1
A9: მთავარი სპეციალისტი | B9: 0.1 | C9: 0.05 | D9: 0.1 | E9: 0.05 | F9: 0.1 | G9: 0.1 | H9: 0.1 | I9: 0.1 | J9: 0.05 | K9: 0.1 | L9: 0.05 | M9: 0.1 | N9: =B9+C9+D9+E9+F9+G9+H9+I9+J9+K9+L9+M9 -> 1
A10: უფროსი სპეციალისტი | B10: 0.1 | C10: 0.05 | D10: 0.1 | E10: 0.05 | F10: 0.1 | G10: 0.1 | H10: 0.1 | I10: 0.1 | J10: 0.05 | K10: 0.1 | L10: 0.05 | M10: 0.1 | N10: =B10+C10+D10+E10+F10+G10+H10+I10+J10+K10+L10+M10 -> 1

Sheet საგადასახადო მონიტორინგის დეპარ
A1: პოზიცია | B1: ხარისხის, რისკებისა და ოპერაციების მართვა | C1: ლიდერობა და მართვა | D1: გუნდურობა | E1: პროაქტიურობა / ინიციატივა | F1: პრობლემის გადაჭრა / გადაწყვეტილების მიღება | G1: ზეპირი და წერილობითი კომუნიკაცია | H1: ანალიტიკური აზროვნება | I1: საბაზისო კომპიუტერული კომპეტენციები | J1: სტრატეგია და ხედვა | K1: სპეციფიური პროგრამული კომპეტენციები | L1: კანონმდებლობა
A2: საგადასახადო მონიტორინგის დეპარტამენტი
A3: =[1]აგვისტო!A1938 -> დეპარტამენტის უფროსი | B3: 0.15 | C3: 0.1 | D3: 0.05 | E3: 0.1 | F3: 0.15 | G3: 0.1 | H3: 0.1 | I3: 0.05 | J3: 0.1 | K3: 0.05 | L3: 0.05 | M3: =B3+C3+D3+E3+F3+G3+H3+I3+J3+K3+L3 -> 1
A4: =[1]აგვისტო!A1939 -> დეპარტამენტის უფროსის მოადგილე | B4: 0.15 | C4: 0.1 | D4: 0.05 | E4: 0.1 | F4: 0.15 | G4: 0.1 | H4: 0.1 | I4: 0.05 | J4: 0.1 | K4: 0.05 | L4: 0.05 | M4: =B4+C4+D4+E4+F4+G4+H4+I4+J4+K4+L4 -> 1
A5: =[1]აგვისტო!A1942 -> მრჩეველი | B5: 0.15 | C5: 0.05 | D5: 0.05 | E5: 0.05 | F5: 0.15 | G5: 0.15 | H5: 0.1 | I5: 0.1 | J5: 0.05 | K5: 0.1 | L5: 0.05 | M5: =B5+C5+D5+E5+F5+G5+H5+I5+J5+K5+L5 -> 1
A6: =[1]აგვისტო!A1943 -> უფროსი სპეციალისტი | B6: 0.15 | C6: 0.05 | D6: 0.05 | E6: 0.05 | F6: 0.15 | G6: 0.15 | H6: 0.1 | I6: 0.1 | J6: 0.05 | K6: 0.1 | L6: 0.05 | M6: =B6+C6+D6+E6+F6+G6+H6+I6+J6+K6+L6 -> 1
A7: =[1]აგვისტო!A1945 -> სამართლებრივ საკითხთა სამმართველო
A8: =[1]აგვისტო!A1946 -> სამმართველოს უფროსი | B8: 0.15 | C8: 0.1 | D8: 0.1 | E8: 0.05 | F8: 0.1 | G8: 0.1 | H8: 0.1 | I8: 0.05 | J8: 0.05 | K8: 0.1 | L8: 0.1 | M8: =B8+C8+D8+E8+F8+G8+H8+I8+J8+K8+L8 -> 1
A9: =[1]აგვისტო!A1947 -> სამმართველოს უფროსის მოადგილე | B9: 0.15 | C9: 0.1 | D9: 0.1 | E9: 0.05 | F9: 0.1 | G9: 0.1 | H9: 0.1 | I9: 0.05 | J9: 0.05 | K9: 0.1 | L9: 0.1 | M9: =B9+C9+D9+E9+F9+G9+H9+I9+J9+K9+L9 -> 1
A10: =[1]აგვისტო!A1948 -> მთავარი ოფიცერი | B10: 0.15 | C10: 0.05 | D10: 0.1 | E10: 0.05 | F10: 0.1 | G10: 0.1 | H10: 0.1 | I10: 0.05 | J10: 0.05 | K10: 0.1 | L10: 0.15 | M10: =B10+C10+D10+E10+F10+G10+H10+I10+J10+K10+L10 -> 1
A11: =[1]აგვისტო!A1954 -> უფროსი ოფიცერი | B11: 0.1 | C11: 0.05 | D11: 0.1 | E11: 0.05 | F11: 0.1 | G11: 0.1 | H11: 0.1 | I11: 0.1 | J11: 0.05 | K11: 0.1 | L11: 0.15 | M11: =B11+C11+D11+E11+F11+G11+H11+I11+J11+K11+L11 -> 1
A12: =[1]აგვისტო!A1961 -> ოფიცერი | B12: 0.1 | C12: 0.05 | D12: 0.1 | E12: 0.05 | F12: 0.1 | G12: 0.1 | H12: 0.1 | I12: 0.1 | J12: 0.05 | K12: 0.1 | L12: 0.15 | M12: =B12+C12+D12+E12+F12+G12+H12+I12+J12+K12+L12 -> 1
A13: =[1]აგვისტო!$A$1968 -> მონიტორინგის სამმართველო
A14: =[1]აგვისტო!A1969 -> სამმართველოს უფროსი | B14: 0.15 | C14: 0.15 | D14: 0.1 | E14: 0.05 | F14: 0.1 | G14: 0.1 | H14: 0.1 | I14: 0.03 | J14: 0.05 | K14: 0.07 | L14: 0.1 | M14: =B14+C14+D14+E14+F14+G14+H14+I14+J14+K14+L14 -> 1
A15: =[1]აგვისტო!A1970 -> სამმართველოს უფროსის მოადგილე | B15: 0.15 | C15: 0.15 | D15: 0.1 | E15: 0.05 | F15: 0.1 | G15: 0.1 | H15: 0.1 | I15: 0.03 | J15: 0.05 | K15: 0.07 | L15: 0.1 | M15: =B15+C15+D15+E15+F15+G15+H15+I15+J15+K15+L15 -> 1
A16: =[1]აგვისტო!A1973 -> აღმოსავლეთის განყოფილება
A17: =[1]აგვისტო!A1974 -> განყოფილების უფროსი | B17: 0.15 | C17: 0.1 | D17: 0.1 | E17: 0.05 | F17: 0.1 | G17: 0.1 | H17: 0.1 | I17: 0.05 | J17: 0.05 | K17: 0.1 | L17: 0.1 | M17: =B17+C17+D17+E17+F17+G17+H17+I17+J17+K17+L17 -> 1
A18: =[1]აგვისტო!A1976 -> უფროსი ოფიცერი | B18: 0.15 | C18: 0.05 | D18: 0.15 | E18: 0.05 | F18: 0.1 | G18: 0.1 | H18: 0.1 | I18: 0.05 | J18: 0.05 | K18: 0.1 | L18: 0.1 | M18: =B18+C18+D18+E18+F18+G18+H18+I18+J18+K18+L18 -> 1
A19: =[1]აგვისტო!A1984 -> ოფიცერი | B19: 0.15 | C19: 0.05 | D19: 0.15 | E19: 0.05 | F19: 0.1 | G19: 0.1 | H19: 0.1 | I19: 0.05 | J19: 0.05 | K19: 0.1 | L19: 0.1 | M19: =B19+C19+D19+E19+F19+G19+H19+I19+J19+K19+L19 -> 1
A20: =[1]აგვისტო!$A$2031 -> დასავლეთის განყოფილება
A21: =[1]აგვისტო!A2032 -> განყოფილების უფროსი | B21: 0.15 | C21: 0.1 | D21: 0.1 | E21: 0.05 | F21: 0.1 | G21: 0.1 | H21: 0.1 | I21: 0.05 | J21: 0.05 | K21: 0.1 | L21: 0.1 | M21: =B21+C21+D21+E21+F21+G21+H21+I21+J21+K21+L21 -> 1
A22: =[1]აგვისტო!A2033 -> უფროსი ოფიცერი | B22: 0.15 | C22: 0.05 | D22: 0.15 | E22: 0.05 | F22: 0.1 | G22: 0.1 | H22: 0.1 | I22: 0.05 | J22: 0.05 | K22: 0.1 | L22: 0.1 | M22: =B22+C22+D22+E22+F22+G22+H22+I22+J22+K22+L22 -> 1
A23: =[1]აგვისტო!A2037 -> ოფიცერი | B23: 0.15 | C23: 0.05 | D23: 0.15 | E23: 0.05 | F23: 0.1 | G23: 0.1 | H23: 0.1 | I23: 0.05 | J23: 0.05 | K23: 0.1 | L23: 0.1 | M23: =B23+C23+D23+E23+F23+G23+H23+I23+J23+K23+L23 -> 1
A24: =[1]აგვისტო!$A$2053 -> მიმდინარე კონტროლის სამმართველო
A25: =[1]აგვისტო!A2054 -> სამმართველოს უფროსი | B25: 0.1 | C25: 0.1 | D25: 0.1 | E25: 0.1 | F25: 0.1 | G25: 0.1 | H25: 0.1 | I25: 0.05 | J25: 0.05 | K25: 0.05 | L25: 0.15 | M25: =B25+C25+D25+E25+F25+G25+H25+I25+J25+K25+L25 -> 1
A26: =[1]აგვისტო!A2055 -> სამმართველოს უფროსის მოადგილე | B26: 0.1 | C26: 0.1 | D26: 0.1 | E26: 0.1 | F26: 0.1 | G26: 0.1 | H26: 0.1 | I26: 0.05 | J26: 0.05 | K26: 0.05 | L26: 0.15 | M26: =B26+C26+D26+E26+F26+G26+H26+I26+J26+K26+L26 -> 1
A27: =[1]აგვისტო!A2057 -> მთავარი ოფიცერი | B27: 0.15 | C27: 0.05 | D27: 0.1 | E27: 0.05 | F27: 0.1 | G27: 0.1 | H27: 0.15 | I27: 0.05 | J27: 0.05 | K27: 0.05 | L27: 0.15 | M27: =B27+C27+D27+E27+F27+G27+H27+I27+J27+K27+L27 -> 1
