Workbook

Sheet TDSheet
A1: კოდი | C1: დასახელება | D1: Заб. | E1: Акт. | F1: GE | G1: check | H1: English Name | I1: Level one | J1: Level 2
A2: 0 | C2: დამხმარე ანგარიში | D2: არა | E2: АП | F2: =VLOOKUP($A2,Sheet1!A:D,2,FALSE) -> #N/A | G2: T | H2: Supplementary Account | I2: =RIGHT($A2,3) -> 0 | J2: =RIGHT($A2,2) -> 0
A3: 1000 | C3: მიმდინარე აქტივები | D3: არა | E3: АП | F3: =VLOOKUP($A3,Sheet1!$A:$D,2,FALSE) -> მიმდინარე აქტივები | G3: =EXACT(C3,F3) -> TRUE | H3: Current assets | I3: =RIGHT(A3,3) -> 000 | J3: =RIGHT($A3,2) -> 00
A4: 1100 | C4: ნაღდი ფული სალაროში | D4: არა | E4: А | F4: =VLOOKUP($A4,Sheet1!A:D,2,FALSE) -> ნაღდი ფული სალაროში | G4: =EXACT(C4,F4) -> TRUE | H4: Cash on Hand | I4: =RIGHT(A4,3) -> 100 | J4: =RIGHT($A4,2) -> 00
A5: 1110 | C5: ნაღდი ფული ეროვნულ ვალუტაში | D5: არა | E5: А | F5: =VLOOKUP($A5,Sheet1!A:D,2,FALSE) -> ნაღდი ფული ეროვნულ ვალუტაში | G5: =EXACT(C5,F5) -> TRUE | H5: Cash on hand national currency | I5: =RIGHT(A5,3) -> 110 | J5: =RIGHT($A5,2) -> 10
A6: 1120 | C6: ნაღდი ფული უცხოურ ვალუტაში | D6: არა | E6: А | F6: =VLOOKUP($A6,Sheet1!A:D,2,FALSE) -> ნაღდი ფული უცხოურ ვალუტაში | G6: =EXACT(C6,F6) -> TRUE | H6: Cash on hand foreign currency | I6: =RIGHT(A6,3) -> 120 | J6: =RIGHT($A6,2) -> 20
A7: 1200 | C7: ფული საბანკო ანგარიშებზე | D7: არა | E7: А | F7: =VLOOKUP($A7,Sheet1!A:D,2,FALSE) -> ფული საბანკო ანგარიშებზე | G7: =EXACT(C7,F7) -> TRUE | H7: Cash in Bank | I7: =RIGHT(A7,3) -> 200 | J7: =RIGHT($A7,2) -> 00
A8: 1210 | C8: ეროვნული ვალუტა რეზიდენტ ბანკში | D8: არა | E8: А | F8: =VLOOKUP($A8,Sheet1!A:D,2,FALSE) -> ეროვნული ვალუტა რეზიდენტ ბანკში | G8: =EXACT(C8,F8) -> TRUE | H8: Bank - national currency (resident banks) | I8: =RIGHT(A8,3) -> 210 | J8: =RIGHT($A8,2) -> 10
A9: 1220 | C9: უცხოური ვალუტა რეზიდენტ ბანკში | D9: არა | E9: А | F9: =VLOOKUP($A9,Sheet1!A:D,2,FALSE) -> უცხოური ვალუტა რეზიდენტ ბანკში | G9: =EXACT(C9,F9) -> TRUE | H9: Bank - foreign currency (resident banks) | I9: =RIGHT(A9,3) -> 220 | J9: =RIGHT($A9,2) -> 20
A10: 1230 | C10: უცხოური ვალუტა არარეზიდენტ ბანკში | D10: არა | E10: А | F10: =VLOOKUP($A10,Sheet1!A:D,2,FALSE) -> უცხოური ვალუტა არარეზიდენტ ბანკში | G10: =EXACT(C10,F10) -> TRUE | H10: International Bank-foreign currency | I10: =RIGHT(A10,3) -> 230 | J10: =RIGHT($A10,2) -> 30
A11: 1290 | C11: ტრანზიტული ანგარიში დაფინანსებიდან | D11: არა | E11: А | F11: =VLOOKUP($A11,Sheet1!A:D,2,FALSE) -> ფული სხვა საბანკო ანგარიშებზე | G11: t | H11: Transit account from financing | I11: =RIGHT(A11,3) -> 290 | J11: =RIGHT($A11,2) -> 90
A12: 1291 | C12: ფული გზაში | D12: არა | E12: А | F12: =VLOOKUP($A12,Sheet1!A:D,2,FALSE) -> #N/A | G12: t | H12: Cash in transit | I12: =RIGHT(A12,3) -> 291 | J12: =RIGHT($A12,2) -> 91
A13: 1292 | C13: საბანკო გარანტიები | D13: დიახ | E13: А | F13: =VLOOKUP($A13,Sheet1!A:D,2,FALSE) -> #N/A | G13: t | H13: Bank Guarantees | I13: =RIGHT(A13,3) -> 292 | J13: =RIGHT($A13,2) -> 92
A14: 1300 | C14: მოკლევადიანი ინვესტიციები | D14: არა | E14: А | F14: =VLOOKUP($A14,Sheet1!A:D,2,FALSE) -> მოკლევადიანი ინვესტიციები | G14: =EXACT(C14,F14) -> TRUE | H14: Short - term investments | I14: =RIGHT(A14,3) -> 300 | J14: =RIGHT($A14,2) -> 00
A15: 1310 | C15: მოკლევადიანი ინვესტიციები საწარმოთა ფასიან | D15: არა | E15: А | F15: =VLOOKUP($A15,Sheet1!A:D,2,FALSE) -> მოკლევად.ინვესტ.საწარმ.ფასიან ქაღალდებში | G15: t | H15: Marketable securities | I15: =RIGHT(A15,3) -> 310 | J15: =RIGHT($A15,2) -> 10
A16: 1320 | C16: მოკლევადიანი ინვესტიციები სახელმწიფო ფასიან | D16: არა | E16: А | F16: =VLOOKUP($A16,Sheet1!A:D,2,FALSE) -> მოკლევად. ინვესტიც.სახ.ფასიან ქაღალდებში | G16: t | H16: Government securities | I16: =RIGHT(A16,3) -> 320 | J16: =RIGHT($A16,2) -> 20
A17: 1330 | C17: გრძელვადიანი ინვესტიციების მიმდინარე ნაწილი | D17: არა | E17: А | F17: =VLOOKUP($A17,Sheet1!A:D,2,FALSE) -> გრძელვად. ინვესტიციების მიმდინარე ნაწილი | G17: t | H17: Current portion of long-term investments | I17: =RIGHT(A17,3) -> 330 | J17: =RIGHT($A17,2) -> 30
A18: 1390 | C18: სხვა მოკლევადიანი ინვესტიციები | D18: არა | E18: А | F18: =VLOOKUP($A18,Sheet1!A:D,2,FALSE) -> სხვა მოკლევადიანი ინვესტიციები | G18: =EXACT(C18,F18) -> TRUE | H18: Other short - term investments | I18: =RIGHT(A18,3) -> 390 | J18: =RIGHT($A18,2) -> 90
A19: 1400 | C19: მოკლევადიანი მოთხოვნები | D19: არა | E19: А | F19: =VLOOKUP($A19,Sheet1!A:D,2,FALSE) -> მოკლევადიანი მოთხოვნები | G19: =EXACT(C19,F19) -> TRUE | H19: Receivables | I19: =RIGHT(A19,3) -> 400 | J19: =RIGHT($A19,2) -> 00
A20: 1410 | C20: მოთხოვნები მიწოდებიდან და მომსახურებიდან | D20: არა | E20: А | F20: =VLOOKUP($A20,Sheet1!A:D,2,FALSE) -> მოთხოვნები მიწოდებიდან და მომსახურებიდან | G20: =EXACT(C20,F20) -> TRUE | H20: Accounts receivable - trade | I20: =RIGHT(A20,3) -> 410 | J20: =RIGHT($A20,2) -> 10
A21: 1410.01 | C21: ძირითადი მოთხოვნები მიწოდებიდან და მომსახურებიდან | D21: არა | E21: А | F21: =VLOOKUP($A21,Sheet1!A:D,2,FALSE) -> #N/A | G21: t | H21: Acc. Receivable. Principal | I21: =RIGHT(A21,3) -> .01 | J21: =RIGHT($A21,2) -> 01
A22: 1410.02 | C22: საურავი მოთხოვნებიდან მიწ. და მომს. | D22: არა | E22: А | F22: =VLOOKUP($A22,Sheet1!A:D,2,FALSE) -> #N/A | G22: t | H22: Acc. Receivable. Fines | I22: =RIGHT(A22,3) -> .02 | J22: =RIGHT($A22,2) -> 02
A23: 1410.03 | C23: ძველი მოთხოვნები მიწოდებიდან და მომსახურებიდან | D23: არა | E23: А | F23: =VLOOKUP($A23,Sheet1!A:D,2,FALSE) -> #N/A | G23: t | H23: Acc. Receivable. Old | I23: =RIGHT(A23,3) -> .03 | J23: =RIGHT($A23,2) -> 03
A24: 1412 | C24: თელასის დისკონტირებული ღირებულების სხვაობა | D24: არა | E24: П | F24: =VLOOKUP($A24,Sheet1!A:D,2,FALSE) -> #N/A | G24: t | H24: Difference of Telesis Discounted | I24: =RIGHT(A24,3) -> 412 | J24: =RIGHT($A24,2) -> 12
A25: 1413 | C25: საეჭვო მოთხოვნები სავაჭრო დებიტორებიდან | D25: არა | E25: П | F25: =VLOOKUP($A25,Sheet1!A:D,2,FALSE) -> #N/A | G25: t | H25: Doubtful Acc. Receivables from trade debtors | I25: =RIGHT(A25,3) -> 413 | J25: =RIGHT($A25,2) -> 13
A26: 1414 | C26: ძირითადი მოთხოვნები მიწოდებიდან და მომსახურებიდან | D26: არა | E26: А | F26: =VLOOKUP($A26,Sheet1!A:D,2,FALSE) -> #N/A | G26: t | H26: The basic Acc receivables (?) | I26: =RIGHT(A26,3) -> 414 | J26: =RIGHT($A26,2) -> 14
A27: 1415 | D27: არა | E27: А | I27: =RIGHT(A27,3) -> 415 | J27: =RIGHT($A27,2) -> 15
A28: 1416 | C28: საეჭვო მოთხოვნები სხვა აქტივებიდან | D28: არა | E28: П | F28: =VLOOKUP($A28,Sheet1!A:D,2,FALSE) -> #N/A | G28: t | H28: Doubtful receivables from other assets | I28: =RIGHT(A28,3) -> 416 | J28: =RIGHT($A28,2) -> 16
A29: 1420 | C29: მოთხოვნები მეკავშირე საწარმოს მიმართ | D29: არა | E29: А | F29: =VLOOKUP($A29,Sheet1!A:D,2,FALSE) -> მოთხოვნები მეკავშირე საწარმოს მიმართ | G29: =EXACT(C29,F29) -> TRUE | H29: Accounts receivable from subsidiaries | I29: =RIGHT(A29,3) -> 420 | J29: =RIGHT($A29,2) -> 20
A30: 1430 | C30: მოთხოვნები საწარმოს პერსონალის მიმართ | D30: არა | E30: АП | F30: =VLOOKUP($A30,Sheet1!A:D,2,FALSE) -> მოთხოვნები საწარმოს პერსონალის მიმართ | G30: =EXACT(C30,F30) -> TRUE | H30: Accounts receivable - employees | I30: =RIGHT(A30,3) -> 430 | J30: =RIGHT($A30,2) -> 30
A31: 1430.01 | C31: ანგარიშსწორება მივლინებით | D31: არა | E31: АП | F31: =VLOOKUP($A31,Sheet1!A:D,2,FALSE) -> #N/A | G31: t | H31: Advances on Business Trip | I31: =RIGHT(A31,3) -> .01 | J31: =RIGHT($A31,2) -> 01
A32: 1430.02 | C32: ანგარიშსწორება საქვენგარიშო თანხებით | D32: არა | E32: АП | F32: =VLOOKUP($A32,Sheet1!A:D,2,FALSE) -> #N/A | G32: t | H32: Imprest | I32: =RIGHT(A32,3) -> .02 | J32: =RIGHT($A32,2) -> 02
A33: 1430.03 | C33: ანგარიშსწორება დანაკლისებით | D33: არა | E33: АП | F33: =VLOOKUP($A33,Sheet1!A:D,2,FALSE) -> #N/A | G33: t | H33: Settlement by deficit | I33: =RIGHT(A33,3) -> .03 | J33: =RIGHT($A33,2) -> 03
A34: 1430.04 | C34: სხვა მოთხოვნები ანგარიშვალდებული პირების მიმართ | D34: არა | E34: АП | F34: =VLOOKUP($A34,Sheet1!A:D,2,FALSE) -> #N/A | G34: t | H34: Other requirements from person accountable | I34: =RIGHT(A34,3) -> .04 | J34: =RIGHT($A34,2) -> 04
A35: 1432 | C35: სატრანზიტო | D35: არა | E35: АП | F35: =VLOOKUP($A35,Sheet1!A:D,2,FALSE) -> #N/A | G35: t | H35: Transit account | I35: =RIGHT(A35,3) -> 432 | J35: =RIGHT($A35,2) -> 32
A36: 1435 | C36: თანამშრომლებზე გაცემული ავანსები | D36: არა | E36: А | F36: =VLOOKUP($A36,Sheet1!A:D,2,FALSE) -> #N/A | G36: t | H36: Advance Payment to Employers | I36: =RIGHT(A36,3) -> 435 | J36: =RIGHT($A36,2) -> 35
A37: 1445 | C37: მოთხოვნები ხელმძღვანელებისა და | D37: არა | E37: А | F37: =VLOOKUP($A37,Sheet1!A:D,2,FALSE) -> #N/A | G37: t | H37: Requirements from Management | I37: =RIGHT(A37,3) -> 445 | J37: =RIGHT($A37,2) -> 45
A38: 1450 | C38: მოთხოვნები პარტნიორებზე გაცემული სესხიდან | D38: არა | E38: А | F38: =VLOOKUP($A38,Sheet1!A:D,2,FALSE) -> მოთხ.პარტნიორებზე გაცემული სესხიდან | G38: t | H38: Receivables from loans to partners | I38: =RIGHT(A38,3) -> 450 | J38: =RIGHT($A38,2) -> 50
A39: 1460 | C39: მოთხოვნა კაპიტალის შევსებაზე | D39: არა | E39: А | F39: =VLOOKUP($A39,Sheet1!A:D,2,FALSE) -> კაპიტ.შევს.პარტნ.გრძელვ.მოთხ.მიმდ.ნაწილი | G39: t | H39: Requirement on capital replenishment | I39: =RIGHT(A39,3) -> 460 | J39: =RIGHT($A39,2) -> 60
A40: 1461 | C40: მოთხოვნა დამფუძნებლების მიმართ | D40: არა | E40: А | F40: =VLOOKUP($A40,Sheet1!A:D,2,FALSE) -> #N/A | G40: t | H40: Requirements to Shareholders | I40: =RIGHT(A40,3) -> 461 | J40: =RIGHT($A40,2) -> 61
...

Sheet Sheet1
A1: ანგა | B1: Georgian name | C1: English name
A2: 1000 | B2: =TRIM(F2) -> მიმდინარე აქტივები | C2: Current assets | D2: mimdinare aqtivebi | F2: მიმდინარე აქტივები
A3: 1100 | B3: =TRIM(F3) -> ნაღდი ფული სალაროში | C3: Cash on Hand | D3: naRdi fuli salaroSi | F3: ნაღდი ფული სალაროში
A4: 1110 | B4: =TRIM(F4) -> ნაღდი ფული ეროვნულ ვალუტაში | C4: Cash on hand national currency | D4: naRdi fuli erovnul valutaSi | F4: ნაღდი ფული ეროვნულ ვალუტაში
A5: 1120 | B5: =TRIM(F5) -> ნაღდი ფული უცხოურ ვალუტაში | C5: Cash on hand foreign currency | D5: naRdi fuli ucxour valutaSi | F5: ნაღდი ფული უცხოურ ვალუტაში
A6: 1200 | B6: =TRIM(F6) -> ფული საბანკო ანგარიშებზე | C6: Cash in Bank | D6: fuli sabanko angariSebze | F6: ფული საბანკო ანგარიშებზე
A7: 1210 | B7: =TRIM(F7) -> ეროვნული ვალუტა რეზიდენტ ბანკში | C7: Bank - national currency (resident banks) | D7: erovnuli valuta rezident bankSi | F7: ეროვნული ვალუტა რეზიდენტ ბანკში
A8: 1220 | B8: =TRIM(F8) -> უცხოური ვალუტა რეზიდენტ ბანკში | C8: Bank - foreign currency (resident banks) | D8: ucxouri valuta rezident bankSi | F8: უცხოური ვალუტა რეზიდენტ ბანკში
A9: 1230 | B9: =TRIM(F9) -> უცხოური ვალუტა არარეზიდენტ ბანკში | C9: International Bank-foreign currency | D9: ucxouri valuta ararezident bankSi | F9: უცხოური ვალუტა არარეზიდენტ ბანკში
A10: 1290 | B10: =TRIM(F10) -> ფული სხვა საბანკო ანგარიშებზე | C10: Cash on other bank account | D10: fuli sxva sabanko angariSebze | F10: ფული სხვა საბანკო ანგარიშებზე
A11: 1300 | B11: =TRIM(F11) -> მოკლევადიანი ინვესტიციები | C11: Short - term investments | D11: moklevadiani investiciebi | F11: მოკლევადიანი ინვესტიციები
A12: 1310 | B12: =TRIM(F12) -> მოკლევად.ინვესტ.საწარმ.ფასიან ქაღალდებში | C12: Marketable securities | D12: moklevad.invest.sawarm.fasian qaRaldebSi | F12: მოკლევად.ინვესტ.საწარმ.ფასიან ქაღალდებში
A13: 1320 | B13: =TRIM(F13) -> მოკლევად. ინვესტიც.სახ.ფასიან ქაღალდებში | C13: Government securities | D13: moklevad. investic.sax.fasian qaRaldebSi | F13: მოკლევად. ინვესტიც.სახ.ფასიან ქაღალდებში
... A212: 9210 | B212: =TRIM(F212) -> მოგების გადასახადი | C212: Profit tax | D212: mogebis gadasaxadi | F212: მოგების გადასახადი

Sheet 1-Short Term Assets
I1: დანართი №1.1
A2: 1000 | B2: მიმდინარე აქტივები
A3: 1100 | B3: ნაღდი ფული სალაროში
A4: 1110 | B4: ნაღდი ფული ეროვნულ ვალუტაში
A5: 1120 | B5: ნაღდი ფული უცხოურ ვალუტაში
A6: 1200 | B6: ფული საბანკო ანგარიშებზე
A7: 1210 | B7: ეროვნული ვალუტა რეზიდენტ ბანკში
A8: 1220 | B8: უცხოური ვალუტა რეზიდენტ ბანკში
A9: 1230 | B9: უცხოური ვალუტა არარეზიდენტ ბანკში
A10: 1290 | B10: ფული სხვა საბანკო ანგარიშებზე
A11: 1300 | B11: მოკლევადიანი ინვესტიციები
A12: 1310 | B12: მოკლევადიანი ინვესტიციები საწარმოთა ფასიან ქაღალდებში
A13: 1320 | B13: მოკლევადიანი ინვესტიციებისახელმწიფო ფასიან ქაღალდებში
... A57: 1910.2 | B57: სხვა მიმდინარე აქტივები;არარეგულირებადი საქმიანობა

Sheet 2-Long Term Assets
A2: 2000 | B2: გრძელვადიანი აქტივები
A3: 2100 | B3: ძირითადი საშუალებები
A4: 2110 | B4: მიწის ნაკვეთები
A5: 2110.1 | B5: მიწა,რეგულირებადი ელექტროენერგეტიკული საქმიანობა
A6: 2110.11 | B6: მიწა, რეგულირებადი ელექტროენერგეტიკული საქმიანობა, დისპეტჩერიზაცია
A7: 2110.12 | B7: მიწა, რეგულირებადი ელექტროენერგეტიკული საქმიანობა, გადაცემა
A8: 2110.121 | B8: მიწა, რეგულირებადი ელექტროენერგეტიკული საქმიანობა, გადაცემა 500 კვ
A9: 2110.122 | B9: მიწა, რეგულირებადი ელექტროენერგეტიკული საქმიანობა, გადაცემა 400 კვ
A10: 2110.123 | B10: მიწა, რეგულირებადი ელექტროენერგეტიკული საქმიანობა, გადაცემა 330 კვ
A11: 2110.124 | B11: მიწა, რეგულირებადი ელექტროენერგეტიკული საქმიანობა, გადაცემა 220 კვ
A12: 2110.125 | B12: მიწა, რეგულირებადი ელექტროენერგეტიკული საქმიანობა, გადაცემა 110 კვ
A13: 2110.126 | B13: მიწა, რეგულირებადი ელექტროენერგეტიკული საქმიანობა, გადაცემა 35 კვ
... A962: 2690.9 | B962: აკუმულირებული ამორტიზაცია / სხვა არამატერიალური აქტივები, არარეგულირებადი საქმიანობა

Sheet 3-ST Liabilities
A2: 3000 | B2: მიმდინარე ვალდებულებები
A3: 3100 | B3: მოკლევადიანი ვალდებულებები
A4: 3110 | B4: მოწოდებიდან და მომსახურებიდან წარმოქმნილი ვალდებულებები
A5: 3120 | B5: მიღებული ავანსები
A6: 3130 | B6: გადასახდელი ხელფასები
A7: 3140 | B7: როიალტი
A8: 3150 | B8: საკომისიო გადასახდელები
A9: 3160 | B9: ვალდებულებები საწარმოს პერსონალის წინაშე
A10: 3170 | B10: ვალდებულებები მეკავშირე საწაროების წინაშე
A11: 3190 | B11: სხვა მოკლევადიანი ვალდებულებები
A12: 3200 | B12: მოკლევადიანი სესხები
A13: 3210 | B13: მოკლევადიანი სესხები
... A29: 3490 | B29: სხვა დარიცხული ვალდებულებები

Sheet 4-LT Liability
A2: 4000 | B2: გრძელვადიანი ვალდებულებები
A3: 4100 | B3: გრძელვადიანი სასესხო ვალდებულებები
A4: 4110 | B4: გასანაღდებელი ობლიგაციები
A5: 4120 | B5: გასანაღდებელი თამასუქები
A6: 4130 | B6: ვალდებულებები ფინანსურ იჯარაზე
A7: 4140 | B7: გრძელვადიანი სესხები
A8: 4190 | B8: სხვა გრძელვავდიანი სასესხო ვალდებულებები
A9: 4200 | B9: გადავადებული გადასახადები და სხვა გრძელვადიანი ვალდებულებები
A10: 4210 | B10: გადავადებული მოგების გადასახადი
A11: 4220 | B11: სხვა გრძელვადიანი ვალდებულებები
A12: 4300 | B12: ანარიცხები
A13: 4310 | B13: საპენსიო უზრუნველყოფის ანარიცხები
... A16: 4410 | B16: გადავადებული შემოსავალი

Sheet 5-Equity
A2: 5000 | B2: საკუთარი კაპიტალი
A3: 5100 | B3: საწესდებო კაპიტალი
A4: 5110 | B4: ჩვეულებრივი აქციები
A5: 5120 | B5: პრივილეგიური აქციები
A6: 5130 | B6: გამოსყიდული საკუთარი აქციები
A7: 5140 | B7: საემისიო კაპიტალი
A8: 5150 | B8: საწესდებო კაპიტალი შპს-ში
A9: 5200 | B9: პარტნიორთა კაპიტალი (შეზღუდული ქონებრივი პასუხისმგებლობის არმქონე საზოგადოებებში)
A10: 5210 | B10: პარტნიორთა კაპიტალი
A11: 5300 | B11: მოგება/ზარალი
A12: 5310 | B12: გაუნაწილებელი მოგება
A13: 5320 | B13: დაუფარავი ზარალი
... A19: 5490 | B19: სხვა რეზერვები და დაფინანსება

Sheet 6-Income
A2: 6000 | B2: საოპერაციო შემოსავალი
A3: 6100 | B3: საოპერაციო შემოსავლები
A4: 6100.1 | B4: შემოსავალი: რეგულირებადი საქმიანობა
A5: 6100.11 | B5: შემოსავალი: რეგულირებადი საქმიანობა, დისპეტჩერიზაცია
A6: 6100.111 | B6: ტარიფის ტიპი 1 (თეთრი/კვტ.სთ)
A7: 6100.1111 | B7: შემოსავალი
A8: 6100.1112 | B8: კორექტირება
A9: 6100.12 | B9: შემოსავალი: რეგულირებადი საქმიანობა, გადაცემა
A10: 6100.121 | B10: ტარიფის ტიპი 1 (თეთრი/კვტ.სთ)
A11: 6100.1211 | B11: შემოსავალი
A12: 6100.1212 | B12: კორექტირება
A13: 6100.13 | B13: შემოსავალი: რეგულირებადი საქმიანობა, განაწილება (ქსელი)
... A31: 6190 | B31: სხვა საოპერაციო შემოსავლები

Sheet 7-Expenses 
A2: 7000 | B2: საოპერაციო ხარჯები
A3: 7100 | B3: რეალიზებული პროდუქციის თვითღირებულება (პროდუქციის მწარმოებელ და მომსახურების სფეროს საწარმოებისათვის)
A4: 7100.1 | B4: წარმოების (მომსახურების) ღირებულება: რეგულირებადი ელექტროენერგეტიკული საქმიანობა
A5: 7100.11 | B5: მომსახურების ღირებულება: რეგულირებადი ელექტროენერგეტიკული საქმიანობა, დისპეტჩერიზაცია
A6: 7100.111 | B6: მომსახურების ღირებულება, ენერგომომამრაგების ქსელის დისპეტჩერიზაციის საქმიანობა
A7: 7100.1111 | B7: საოპერაციო და მოვლა, შენახვა, მიმდინარე რემონტის ხარჯი
A8: 7100.1111 | B8: პერსონალზე გაწეული საოპერაციო და მოვლა-შენახვის, მიმდინარე რემონტის ხარჯი, დისპეტჩერიზაცია
A9: 7100.1111 | B9: მასალაზე გაწეული საოპერაციო და მოვლა-შენახვის, მიმდინარე რემონტის ხარჯი, დისპეტჩერიზაცია
A10: 7100.1111 | B10: მოწვეულ კონტრაჰენტებზე გაწეული საოპერაციო ხარჯისაოპერაციო და მოვლა-შენახვის, მიმდინარე რემონტის ხარჯი, დისპეტჩერიზაცია
A11: 7100.1111 | B11: მოხმარებულ ელექტროენერგიასა და სხვა კომუნალურ მომსახრებებზე გაწეული საოპერაციო და მოვლა-შენახვის, მიმდინარე რემონტის ხარჯი, დისპეტჩერიზაცია
A12: 7100.1111 | B12: საოპერაციო ლიზინგზე გაწეული საოპერაციო და მოვლა-შენახვის, მიმდინარე რემონტის ხარჯი, დისპეტჩერიზაცია
A13: 7100.1112 | B13: ცვეთა, დისპეტჩერიზაციის საქმიანობა, ძირითადი საშუალებები ექსპლუატაციაში,
... A730: 7700.95 | B730: დანახარჯები არამატერიალური აქტივებზე ექსპლუატაციაში, სხვა

Sheet 8-Non-Oprt I&E
A2: 8000 | B2: არასაოპერაციო შემოსავლები და ხარჯები
A3: 8100 | B3: არასაოპერაციო შემოსავლები
A4: 8100.1 | B4: შემოსავალი გრანტებიდან: რეგულირებადი ელექტროენერგეტიკული საქმიანობა
A5: 8100.11 | B5: შემოსავალი გრანტებიდან: რეგულირებადი ელექტროენერგეტიკული საქმიანობა, დისპეტჩერიზაცია,
A6: 8100.12 | B6: შემოსავალი გრანტებიდან: რეგულირებადი ელექტროენერგეტიკული საქმიანობა, გადაცემა
A7: 8100.13 | B7: შემოსავალი გრანტებიდან: რეგულირებადი ელექტროენერგეტიკული საქმიანობა, განაწილება (ქსელი)
A8: 8100.14 | B8: შემოსავალი გრანტებიდან: რეგულირებადი ელექტროენერგეტიკული საქმიანობა, განაწილება (მიწოდება)
A9: 8100.15 | B9: შემოსავალი გრანტებიდან: რეგულირებადი ელექტროენერგეტიკული საქმიანობა, გენერაცია
A10: 8100.19 | B10: შემოსავალი გრანტებიდან: რეგულირებადი ელექტროენერგეტიკული საქმიანობა, სხვა
A11: 8110 | B11: საპროცენტო შემოსავლები
A12: 8120 | B12: დივიდენდები
A13: 8130 | B13: არასაოპერაციო მოგება
... A25: 8290 | B25: სხვა არასაოპერაციო ხარჯები

Sheet 9-Special I&E
A2: 9000 | B2: განსაკუთრებული და სხვა შემოსავლები და ხარჯები
A3: 9100 | B3: განსაკუთრებელი შემოსავლები და ხარჯები
A4: 9110 | B4: განსაკუთრებული შემოსავლები
A5: 9120 | B5: განსაკუთრებული ხარჯები
A6: 9200 | B6: სხვა ხარჯები
A7: 9210 | B7: მოგების გადასახადი
