Workbook

Sheet TOC
E1: დანართი №5.5
A2: სარჩევი | D2: ლიცენზიის ტიპი | H2: განაწილება, მიწოდება
A4: ფინანსური ანგარიშები
A7: ცხრილი 1 | B7: შემოსავლის განაცხადი რეგულირების მიზნებისთვის
A8: ცხრილი 2 | B8: ფინანსური მდგომარეობის განაცხადი რეგულირების მიზნებისთვის
A9: ცხრილი 3 | B9: ძრითადი საშუალებების მოძრაობა
A10: ცხრილი 4 | B10: რეგულირებადი ხარჯების ჩამონათვალი ტიპის მიხედვით
A11: ცხრილი 5 | B11: ძირითადი საშუალებების ჩამონათვალი სადგურის დანიშნულების მიხედვით
A12: ცხრილი 6 | B12: სავარაუდო ბალანსი
A13: ცხრილი 7 | B13: კაპიტალური დანახარჯების ფორმა
A17: არაფინანსური ანგარიში
A19: ცხრილი 8 | B19: არ ვრცელდება მიწოდების განაწილებაზე
A20: ცხრილი 9 | B20: ელექტროენერგიის წარმოების შესახებ ინფორმაცია - არ ვრცელდება მიწოდების განაწილებაზე
A21: ცხრილი 10 | B21: ორგანიზაციული გეგმა
A22: ცხრილი11 | B22: პერსონალის შესახებ ინფორმაციის ფორმა
A23: ცხრილი 12 | B23: ანგარიში გამყიდველის შესახებ
A24: ცხრილი 13 | B24: ანგარიში დაკავშირებული პირების ტრანზაქციების შესახებ

Sheet Table 1
A1: Statement | B1: Income statement
A2: Entry/Cum | B2: entry account
A3: Activity (1) | B3: (Multiple Items)
F5: წინა პერიოდის შედეგები | G5: საანგარიშგებო პერიოდის შედეგები
A6: 6 საოპერაციო შემოსავალი
B7: 61 საოპერაციო შემოსავალი
C8: 6100 საოპერაციო შემოსავალი
D9: 6100.1 შემოსავალი: რეგულირებადი ელექტროენერგეტიკული საქმიანობა განაწილება(მიწოდება)
E10: 6100.14 შემოსავალი: ელექტროენერგეტიკული საქმიანობა, განაწილება(მიწოდება)
C11: 6110 შემოსავალი რეალიზაციიდან
D12: " "
E13: " "
C14: 6120 გაყიდული საქონელის დაბრუნება და ფასდათმობა
D15: " "
E16: " "
C17: 6190 სხვა საოპერაციო ხარჯი
D18: " "
E19: " "
A20: 7 საოპერაციო ხარჯები
B21: 71 გაყიდული პროდუქტის ღირებულება (საქონლის მწარმოებელი და მომსახურების გამწევი მრეწველობები)
C22: 7110 მასალები / შეძენილი
D23: " "
E24: " "
C25: 7120 პირდაპირი ხელფასი
D26: " "
E27: " "
C28: 7130 პირდაპირი შრომის გადასახადები და სოციალური დაზღვევა
D29: " "
E30: " "
C31: 7140 არაპირდაპირი მასალები (შესყიდული)
D32: " "
E33: " "
C34: 7150 არაპირდაპირი შრომა
D35: " "
E36: " "
C37: 7160 არაპირდაპირი შრომის გადასახადების და სარგებლის ხარჯები
D38: " "
E39: " "
C40: 7170 ცვეთა და ამორტიზაცია
D41: " "
...

Sheet Table 2
A1: Statement | B1: Balance Sheet
A2: Entry/Cum | B2: entry account
A3: Activity (1) | B3: (Multiple Items)
F5: პერიოდის საწყისი ბალანსი | G5: პერიოდის საბოლოო ბალანსი
A6: 1 მიმდინარე აქტივები
B7: 11 ნაღდი ფული სალაროში
C8: 1110 ნაღდი ფული ეროვნულ ვალუტაში
D9: " "
E10: " "
C11: 1120 ნაღდი ფული უცხოურ ვალუტაში
D12: " "
E13: " "
B14: 12 ფული საბანკო ანგარიშზე
C15: 1210 ეროვნული ვალუტა რეზიდენტ ბანკში
D16: " "
E17: " "
C18: 1220 უცხოური ვალუტა რეზიდენტ ბანკში
D19: " "
E20: " "
C21: 1230 უცხოური ვალუტა არარეზიდენტ ბანკში
D22: " "
E23: " "
C24: 1290 ფული სხვა საბანკო ანგარიშზე
D25: " "
E26: " "
B27: 13 მოკლევადიანი ინვესტიციები
C28: 1310 საწარმოს ფასიანი ქაღალდები
D29: " "
E30: " "
C31: 1320 სახელმწიფოს ფასიანი ქაღალდები
D32: " "
E33: " "
C34: 1330 გრძელვადიანი ინვესტიციების მიმდინარე ნაწილი
D35: " "
E36: " "
C37: 1390 სხვა მოკლევადიანი ინვესტიციები
D38: " "
E39: " "
B40: 14 მოკლევადიანი მოთხოვნები
C41: 1410 მოთხოვნები მიწოდებიდან და მომსახურებიდან
...

Sheet Table 3
A1: კომპანიის სახელწოდება | C1: ანგარიშგების პერიოდი | G1: წარსადგენი ვერსია
A3: ძირითადი საშუალებების საბუღალტრო კოდი (ოთხნიშნა) | B3: ჯგუფის სახელწოდება | C3: პერიოდის დასაწყისისთვის ისტორიული ხარჯი | D3: პერიოდის დასაწყისისთვის აკუმულირებული ცვეთა | E3: ნებისმიერი სხვა მოძრაობა პერიოდის დასაწყისისთვის | F3: ნარჩენი საბალანსო ღირებულება პერიოდის დასაწყისში | G3: დამატებები | H3: ამოღება | I3: ზარალიt | J3: ცვეთის რაოდენობა | K3: საანგარიშგებო პერიოდისთვის ცვეთის დანახარჯი | L3: პერიოდის დასასრულისთვის ნარჩენი საბალანსო ღირებულება | O3: ცვეთის კოეფიციენტი | P3: სალიკვიდაციო ღირებულება | Q3: ცვეთის მეთოდი | R3: ჯგუფის საშუალო ასაკი
A4: 1 | B4: 2 | C4: 3 | D4: 4 | E4: 5 | F4: 6 | G4: 7 | H4: 8 | I4: 9 | J4: 10 | K4: 11 | L4: 12 | O4: 13 | P4: 14 | Q4: 15 | R4: 16
A5: 2110 | B5: მიწა
A6: 2120 | B6: დაუმთავრებელი მშენებლობები
A7: 2130 | B7: შენობები
A8: 2140 | B8: ნაგებობები
A9: 2150 | B9: მანქანა-დანადგარები
A10: 2155 | B10: გადამცემი საშუალებები
A11: 2157 | B11: შენატანები და გრანტები
A12: 2160 | B12: ოფისის აღჭურვილობა
A13: 2170 | B13: ავეჯი და სხვა საშუალებები
A14: 2180 | B14: სატრანსპორტო საშუალებები
A15: 2185 | B15: ინსტრუმენტები და სხვა გამოყენებული ძრითადი საშუალებები
A16: 2190 | B16: საიჯარო ქონების გაუმჯობესებანი
... A22: 2590 | B22: სხვა არამატერიალური საშუალებები
B23: ჯამი

Sheet Table 4
A1: Statement | B1: Managerial Accounting
A2: Entry/Cum | B2: entry account
A3: Activity (1) | B3: (Multiple Items)
I5: Prior Period Results | J5: Reporting Period Results
A6: 7 საოპერაციო ხარჯები
B7: 71 გაყიდული პროდუქტის ხარჯი (წარმოებისა და მომსახურების მრეწველობა)
C8: 7100 გაყიდული პროდუქტის ხარჯი (წარმოებისა და მომსახურების მრეწველობა)
D9: 7100.1 ელექტროენერგიის/რეგულირებადი საქმიანობის როდუქციის(მომსახურების) ღირებულება
E10: 7100.14 რეგულირებადი ელექტროენერგიის განაწილების(მიწოდების)საქმიანობის ხარჯები
F11: 7100.141 აქტიური ელექტროენერგიის მიწოდების ხარჯი
G12: 7100.1411 ელექტროენერგიის შეძენის ხარჯი
H13: 7100.14111 გასაყიდად შეძენილი აქტიური ელექტროენერგიის ხარჯი
G14: 7100.1412 საოპერაციო და შენახვის ხარჯები
H15: 7100.14128 გამოყენებული განაწილების(მიწოდების) საშუალებების ცვეთის ხარჯი
H16: 7100.14129 სხვა განაწილების(მიწოდების) საოპერაციო და შენახვის ხარჯები
H17: 7100.14121პერსონალზე გაწეული განაწილების (მიწოდების) საოპერაციო და შენახვის ხარჯები
H18: 7100.14122 მასალაზე გაწეული განაწილების (მიწოდების) საოპერაციო და შენახვის ხარჯები
H19: 7100.14123 აუთსორსინგზე გაწეული განაწილების (მიწოდების) საოპერაციო და შენახვის ხარჯები
H20: 7100.14124 მოხმარებულ ელექტროენერგიასა და სხვა კომუნალურ მომსახურებაზე გაწეული განაწილების (მიწოდების) საოპერაციო და შენახვის ხარჯები
H21: 7100.14125 საოპერაციო იჯარაზე გაწეული განაწილების (მიწოდების) საოპერაციო და შენახვის ხარჯები
G22: 7100.1413 აქტიური ელექტროენერგიის ზარალის ხარჯი
H23: " "
G24: 7100.1419 აქტიური ელექტროენერგიის ზარალის სხვა ხარჯები
H25: " "
F26: 7100.149 სხვა განაწილების(მიწოდების) საქმიანობის ხარჯი
G27: " "
B28: 74 ზოგადი და ადმინისტრაციული დანახარჯები
C29: 7400 ზოგადი და ადმინისტრაციული დანახარჯები
D30: 7400.1 რეგულირებადი ელექტროენერგეტიკული საქმიანობის ზოგადი და ადმინისტრაციული დანახარჯები
E31: 7400.14რეგულირებადი ელექტროენერგეტიკული განაწილების(მიწოდების) საქმიანობის ზოგადი და ადმინისტრაციული ხარჯები
F32: 7400.141 რეგულირებადი ელექტროენერგეტიკული (განაწილების)საქმიანობის ადმინისტრაციული ხარჯები
G33: 7400.1411 ადმინიტრაციის სახელფასო ხარჯები
H34: " "
G35: 7400.1412 საოპერაციო იჯარა
H36: " "
G37: 7400.1413 ოფისის მარაგი
H38: " "
G39: 7400.1414 კომუნიკაცია
G40: 7400.1415 კომუნალური მომსახურებები
G41: 7400.1416 რემონტი
...

Sheet Table 5
A1: Entry/Cum | B1: entry account
A2: Statement | B2: Balance Sheet
A3: 2hN | B3: (Multiple Items)
A4: Activity (1) | B4: (Multiple Items)
D6: პერიოდის საწყისი ბალანსი | E6: პერიოდის საბოლოო ბალანსი
A7: განაწილება (მიწოდება) / ძირითადი სადგური
B8: 24 | C8: 2110.14 მიწა: რეგულირებადი ელექტროენერგეტიკული საქმიანობა: განაწილება(მიწოდება)
B10: 66 | C10: 2130.14 შენობა: რეგულირებადი ელექტროენერგეტიკული საქმიანობა: განაწილება(მიწოდება)
C11: 2230.14 შენობის აკუმულირებული ცვეთა: რეგულირებადი ელექტროენერგეტიკული საქმიანობა: განაწილება(მიწოდება)
B13: 99 | C13: 2140.14 ნაგებობა: რეგულირებადი ელექტროენერგეტიკული საქმიანობა: განაწილება(მიწოდება)
C14: 2240.14 ნაგებობის აკუმულირებული ცვეთა : რეგულირებადი ელექტროენერგეტიკული საქმიანობა: განაწილება(მიწოდება)
B16: 207 | C16: 2150.14 მანქანა-დანადგარები: რეგულირებადი ელექტროენერგეტიკული საქმიანობა: განაწილება(მიწოდება)
C17: 2250.14 მანქანა-დანადგარების აკუმულირებული ცვეთა: რეგულირებადი ელექტროენერგეტიკული საქმიანობა: განაწილება(მიწოდება)
B19: 325 | C19: 2155.14 გადამცემი საშუალებები: რეგულირებადი ელექტროენერგეტიკული საქმიანობა: განაწილება(მიწოდება)
C20: 2255.14 გადამცემი საშუალებების აკუმულირებული ცვეთა: რეგულირებადი ელექტროენერგეტიკული საქმიანობა: განაწილება(მიწოდება)
B22: 362 | C22: 2157.1411 მესამე მხარის მიერ დაფინანსებული განაწილების (მიწოდების) საშუალებები: საწყისი ღირებულება(მესამე მხარის მიერ დაფინანსებული ღირებულება)
C23: 2257.1411 მესამე მხარის მიერ დაფინანსებული განაწილების (მიწოდების)საშუალებების აკუმულირებული ცვეთა :საწყისი ღირებულება(მესამე მხარის მიერ დაფინანსებული ღირებულება)
B25: 363 | C25: 2157.1412 მესამე მხარის მიერ დაფინანსებული განაწილების(მიწოდების) საშუალებები: საწყისი ღირებულება(მომხმარებლის მიერ გადახდილი ღირებულება)
C26: 2257.1412 მესამე მხარის მიერ დაფინანსებული განაწილების(მიწოდების) საშუალებების აკუმულირებული ცვეთა: საწყისი ღირებულება(მომხმარებლის მიერ გადახდილი ღირებულება)
B28: 364 | C28: 2157.1413 მესამე მხარის მიერ დაფინანსებული განაწილების(მიწოდების) საშუალებები: საწყისი ღირებულება(კომპანიის მიერ გადახდილი ღირებულება)
C29: 2257.1413 მესამე მხარის მიერ დაფინანსებული განაწილების(მიწოდების) საშუალებები: საწყისი ღირებულება(კომპანიის მიერ გადახდილი ღირებულება)
B31: 365 | C31: 2157.1414 მესამე მხარის მიერ დაფინანსებული განაწილების(მიწოდების) საშუალებები : რემონტი, გადაკეთებ და სხვა გაუმჯობესებანი
C32: 2257.1414 მესამე მხარის მიერ დაფინანსებული განაწილების(მიწოდების) საშუალებების აკუმულირებული ცვეთა : რემონტი, გადაკეთებ და სხვა გაუმჯობესებანი
B34: 389 | C34: 2160.141 ოფისის აღჭურვილობა: რეგულირებადი ელექტროენერგეტიკული საქმიანობა, განწილება(მიწოდება),კომპიუტერები და პერიფერული აღჭურვილობა
C35: 2260.141 ოფისის აღჭურვილობის აკუმულირებული ცვეთა: რეგულირებადი ელექტროენერგეტიკული საქმიანობა, განწილება(მიწოდება),კომპიუტერები და პერიფერული აღჭურვილობა
B37: 390 | C37: 2160.142 ოფისის აღჭურვილობა: რეგულირებადი ელექტროენერგეტიკული საქმიანობა, განაწილება(მიწოდება), საკომუნიკაციო აღჭურვილობა და მოწყობილობები
C38: 2260.142 ოფისის აღჭურვილობის აკუმულირებული ცვეთა:რეგულირებადი ელექტროენერგეტიკული საქმიანობა,განაწილება(მიწოდება), საკომუნიკაციო აღჭურვილობა და მოწყობილობები
B40: 391 | C40: 2160.149 ოფისის აღჭურვილობა: რეგულირებადი ელექტროენერგეტიკული საქმიანობა, განაწილება(მიწოდება),სხვა
C41: 2260.149 ოფისის აღჭურვილობის ცვეთა: რეგულირებადი ელექტროენერგეტიკული საქმიანობა, განაწილება(მიწოდება),სხვა
B43: 403 | C43: 2170.14 ავეჯი და სხვა მოწყობილობები: რეგულირებადი ელექტროენერგეტიკული საქმიანობა,განაწილება(ქსელი)
C44: 2270.14 ავეჯი და სხვა მოწყობილობების აკუმულირებული ცვეთა: რეგულირებადი ელექტროენერგეტიკული საქმიანობა,განაწილება(ქსელი)
B46: 424 | C46: 2180.14სატრანსპორტო საშუალებები: რეგულირებადი ელექტროენერგეტიკული საქმიანობა,განაწილება(ქსელი)
C47: 2280.14 სატრანსპორტო საშუალებების აკუმულირებული ცვეთა: რეგულირებადი ელექტროენერგეტიკული საქმიანობა,განაწილება(ქსელი)
B49: 437 | C49: 2185.14 გამოყენებული ინსტრუმენტები და სხვა გრძელვადიანი მატერიალური აქტივები: რეგულირებადი ელექტროენერგეტიკული საქმიანობა,განაწილება(ქსელი)
C50: 2285.14 გამოყენებული ინსტრუმენტებისა და სხვა გრძელვადიანი მატერიალური აქტივების აკუმულირებული ცვეთა: რეგულირებადი ელექტროენერგეტიკული საქმიანობა,განაწილება(ქსელი)
B52: 446 | C52: 2190.14 იჯარით აღებული ქონების გაუმჯობესებანი: რეგულირებადი ელექტროენერგეტიკული საქმიანობა, განაწილება(მიწოდება)
C53: 2290.14 იჯარით აღებული ქონების გაუმჯობესებების აკუმულირებული ცვეთა: რეგულირებადი ელექტროენერგეტიკული საქმიანობა, განაწილება(მიწოდება)
A55: განაწილება(მიწოდება) რეგულირებადი ძირითადი საშუალებები, სამომავალო გამოყენებისთვის
B56: 455 | C56: 2195.14 გამოუყენებელი გრძელვადიანი მატერიალური აქტივები საწყობში:რეგულირებადი ელექტროენერგეტიკული საქმიანობა, განაწილება(მიწოდება)
A58: დაუმთავრებელი მშენებლობის განაწილება(მიწოდება)
...

Sheet Table 6
A1: Entry/Cum | B1: entry account
A2: Activity (1) | B2: (Multiple Items)
A4: Statement | B4: ერთიანი საბუღალტრო სააღრიცხვო სისტემის ანგარიში | C4: პერიოდის საწყისი ბალანსი | D4: პერიოდის დებეტის მოძრაობა | E4: პერიოდის კრედიტის მოძრაობა | F4: პერიოდის საბოლოო ბალანსი
A5: სავარაუდო ბალანსი
B6: 1110 ნაღდი ფული ანგარიშზე ეროვნულ ვალუტაში
B7: 1120 ნაღდი ფული ანგარიშზე უცხოურ ვალუტაში
B8: 1210 ეროვნული ვალუტა რეზიდენტ ბანკში
B9: 1220 უცხოური ვალუტა რეზიდენტ ბანკში
B10: 1230 უცხოური ვალუტა არარეზიდენტ ბანკში
B11: 1290 ფული სხვა საბანკო ანგარიშზე
B12: 1310 საწარმოს ფასიანი ქაღალდები
B13: 1320 სახელმწიფო ფასიანი ქაღალდები
B14: 1330 გრძელვადიანი ინვესტიციების მიმდინარე ნაწილი
B15: 1390 სხვა მოკლევადიანი ინვესტიციები
B16: 1410.14 მოთხოვნები რეგულირებადი განაწილების(მიწოდება) საქმიანობიდან
B17: 1410.19 მოთხოვნები რეგულირებადი საქმიანობიდან
... B206: 5490 სხვა რეზერვები და დაფინანსება
A207: შემოსავლის ანგარიში
B208: 6100.1411შემოსავალი
B209: 6100.1412 კორექტირება
B210: 6100.19 შემოსავალი: რეგულირებადი ელექტროენერგეტიკული საქმიანობა, სხვა
B211: 6110 შემოსავალი ვაჭრობიდან
B212: 6120 გაყიდული საქონლის უკან დაბრუნება და ფასდათმობა
B213: 6190 სხვა საოპერაციო შემოსავალი
B214: 7110 მასალები/ შეძენილი
B215: 7120 პირდაპირი გადასახადი
B216: 7130 პირდაპირი შრომის გადასახადები და სოციალური დაზღვევა
B217: 7140 არაპირდაპირი მასსალები(შეძენილი)
B218: 7150 არაპირდაპირი შრომა
B219: 7160 სოციალური დანარიცხები არაპირდაპირ ხელფასზე
... B294: 9210მოგების გადასახადი
A295: მენეჯერული ანგარიშები
B296: 7100.14111 გასაყიდად შეძენილი აქტიური ელექტროენერგიის ხარჯი
B297: 7100.14121 პერსონალზე გაწეული განაწილების (მიწოდების) საოპერაციო და შენახვის ხარჯი
B298: 7100.14122 მასალაზე გაწეული განაწილების (მიწოდების) საოპერაციო და შენახვის ხარჯი
B299: 7100.14123 აუთსორსინგზე გაწეული განაწილების (მიწოდების) საოპერაციო და შენახვის ხარჯი
B300: 7100.14124 მოხმარებულ ელექტროენერგიასა და სხვა კომუნალურ მომსახურებაზე გაწეული განაწილების (მიწოდების) საოპერაციო და შენახვის ხარჯი
B301: 7100.14125 საოპერაციო იჯარაზე გაწეული განაწილების (მიწოდების) საოპერაციო და შენახვის ხარჯი
B302: 7100.14128 გამოყენებული განაწილების(მიწოდების) საშუალებების ცვეთის ხარჯი
B303: 7100.14129 სხვა საქმიანობაზე გაწეული განაწილების (მიწოდების) საოპერაციო და შენახვის ხარჯი
...

Sheet heading tables
A1: 1000 | B1: Current Assets (ST Assets) | C1: 1Headings
A2: 1100 | B2: Cash on Hand | C2: 2Headings
A3: 1110 | B3: Cash on Hand Local Currency | C3: Heading & Entry Account | G3: 4 | H3: M
A4: 1120 | B4: Cash on Hand Foreign Currency | C4: Heading & Entry Account | G4: 6 | H4: L1
A5: 1200 | B5: Cash in Bank | C5: 2Headings | G5: 7 | H5: L2
A6: 1210 | B6: Bank - national currency (resident banks) | C6: Heading & Entry Account | G6: 8 | H6: L3
A7: 1220 | B7: Bank - foreign currency (resident banks) | C7: Heading & Entry Account | G7: 9 | H7: L4
A8: 1230 | B8: International Bank-foreign currency | C8: Heading & Entry Account | G8: 10 | H8: L5
A9: 1290 | B9: Cash on other bank account | C9: Heading & Entry Account | G9: 16 | H9: L5
A10: 1300 | B10: ST Investments | C10: 2Headings
A11: 1310 | B11: Marketable securities | C11: Heading & Entry Account
A12: 1320 | B12: Government securities | C12: Heading & Entry Account
A13: 1330 | B13: Current portion of long-term investments | C13: Heading & Entry Account
A14: 1390 | B14: Other short-term investments | C14: Heading & Entry Account
A15: 1400 | B15: ST Receivables | C15: 2Headings
A16: 1410 | B16: Accounts receivable - trade | C16: Head accounts
A17: 1415 | B17: Allowance for doubtful debts | C17: Heading & Entry Account
A18: 1420 | B18: AR from subsidiaries | C18: Heading & Entry Account
A19: 1430 | B19: AR - employees | C19: Heading & Entry Account
A20: 1440 | B20: AR - officers and directors | C20: Heading & Entry Account
A21: 1450 | B21: AR - partn. on the loans issued | C21: Heading & Entry Account
... A217: 9210 | B217: Profit Tax | C217: Heading & Entry Account
A222: =LEFT(C222,1) -> 1 | B222: Current Assets | C222: 1000
A223: =LEFT(C223,1) -> 2 | B223: Non-current Assets | C223: 2000
A224: =LEFT(C224,1) -> 3 | B224: Current Liabilities | C224: 3000
A225: =LEFT(C225,1) -> 4 | B225: Non-current Liabilities | C225: 4000
A226: =LEFT(C226,1) -> 5 | B226: Equity | C226: 5000
A227: =LEFT(C227,1) -> 6 | B227: Operating Income | C227: 6000
A228: =LEFT(C228,1) -> 7 | B228: Operating Expenses | C228: 7000
A229: =LEFT(C229,1) -> 8 | B229: Non-Operating Income and Expense | C229: 8000
A230: =LEFT(C230,1) -> 9 | B230: Extraordinary Gains or Losses | C230: 9000
A233: =LEFT(C233,2) -> 11 | B233: Cash on Hand | C233: 1100
A234: =LEFT(C234,2) -> 12 | B234: Cash in Bank | C234: 1200
A235: =LEFT(C235,2) -> 13 | B235: ST Investments | C235: 1300
A236: =LEFT(C236,2) -> 14 | B236: ST Receivables | C236: 1400
A237: =LEFT(C237,2) -> 15 | B237: ST Notes Receivable | C237: 1500
A238: =LEFT(C238,2) -> 16 | B238: Inventory | C238: 1600
A239: =LEFT(C239,2) -> 17 | B239: Prepaid expenses | C239: 1700
A240: =LEFT(C240,2) -> 18 | B240: Accrued receivables | C240: 1800
A241: =LEFT(C241,2) -> 19 | B241: Other Current Assets | C241: 1900
...

Sheet Capital expenditure form

Sheet Table 7 
A1: კომპანიის სახელწოდება | C1: ანგარიშგების პერიოდი | G1: წარსადგენი ვერსია
A3: ეს ფორმაში შეიტანება საანგარიშგებო პერიოდში აშენებული და/ან შექმნილი და ამოქმედებული ყველა კაპიტალური აქტივი - 20 000 ლარზე ზევით
A5: აქტივის საბუღალტრო-სააღრიცხვო კოდი | B5: ძირითადი საშუალებების კოდი | C5: აქტივის სახელწოდება | D5: მიზანი | E5: საკუთარი სახსრებით მშენებლობა / გარე კონტრაქტორი
A9: გთხოვთ მიუთითოთ აქტივების ზოგადი აღწერილობა და მისი მახასიათებლები
A18: ხარჯების ჩამონათვალი ფუნქციის მიხედვით | B18: შრომა | D18: მასალები და მარაგები | F18: საწვავი | H18: სხვა ხარჯები | I18: საერთო ჯამი
B19: რაოდენობა და მოცულობა | C19: საერთო ჯამი | D19: რაოდენობა და მოცულობა | E19: საერთო ჯამი | F19: რაოდენობა და მოცულობა | G19: საერთო ჯამი
A26: ჯამი

Sheet Table 8
A1: Company Name | D1: Reporting Period | G1: Submission Version
A4: km of lines - underground
A8: Km of underground lines by voltage
A9: -
A10: -
A11: -
A12: -
A13: -
A14: -
A16: Km of overhead lines
A17: -
A18: -
A19: -
... A25: Number of Power transformers (companies are encouraged to give farther subgroups if they wish to do so)

Sheet Table 9 
A2: ='Table 8'!A1 -> Company Name | D2: ='Table 8'!D1 -> Reporting Period | G2: ='Table 8'!G1 -> Submission Version
A5: Type of Generation Plant
A6: Installed Capacity
B11: Quantity | C11: GEL Amount | D11: Fuel Type and dimension
A12: Fuel Purchases
B14: Quantity | E14: Quantity
A15: Electricity Produced | D15: Electricity Self Consumption
B17: Quantity | C17: GEL Amount
A18: Electricity Sold

Sheet Table 10
A3: ლიცენზიანტებმა უნდა წარმოადგინონ ორგანიზაციული გეგმა ამ ფორმაში.

Sheet Table 11
A2: კომპანიის სახელწოდება | C2: ანგარიშგების პერიოდი | G2: წარსადგენი ვერსია
A4: ფორმას აქვს სტატისტიკური, შედარებითი და ჯვარედინი შემოწმების ფუნქცია
A7: ადმინისტრაციული დაწესებულების სახელწოდება | B7: ფუნქციები | C7: დაქირავებულთა რაოდენობა | D7: მინიმალური ხელფასი | E7: მაქსიმალური ხელფასი | F7: საშუალო ხელფასი | G7: საბუღალტრო აღრიცხვის პერიოდში გადარიცხული ხელფასის საერთო ჯამი | H7: კაპიტალური დანახარჯებისთვის განაწილებული ხელფასის საერთო ჯამი
A21: ჯამი
A23: დირექტორთა საბჭოს თაობაზე ინფორმაცია
A24: თანამდებობის დასახელება | B24: ხელფასი | C24: სხვა დანარჩენი სარგებელი | D24: ანაზღაურების ჯამი
A38: Total

Sheet Table 12
A1: ='[1]table 13'!A1 -> კომპანიის სახელწოდება | D1: ='[1]table 13'!C1 -> ანგარიშგების პერიოდი | G1: ='[1]table 13'!G1 -> წარსადგენი ვერსია
A4: ეს ფორმა უნდა შეივსოს პროდუქტის/სერვისის 20 საუკეთესო მიმწოდებელთან დაკავშირებით.
A7: გამყიდველის სახელი | B7: დაკავშირებული მხარეY/N | C7: კონტრაქტის აღწერილობა | D7: კონტრაქტის ღირებულება (მსგავსი კონტრაქტები) | E7: გამყიდველის შერჩევის ფორმა | F7: პროდუქტის მიწოდების/მომსახურების გაწევის თარიღი | G7: შენიშვნები

Sheet Table 13
A1: კომპანიის სახელწოდება | C1: ანგარიშგების პერიოდი | G1: წარსადგენი ვერსია
A4: ეს ფორმა უნდა შეივსოს ნებისმიერი ღონისძიებისას, როდესაც პროდუქტის/სერვისის მიმწოდებელი იყო დაკავშრებული პირი *
A5: * (კომპანიებმა იმის განსასაზღვრად თუ ვინ არის დაკავშირებული პირი უნდა გამოიყენონ საქართველოს საგადასახადო კოდექსის განმარტება)
A10: გამყიდველის სახელი | B10: ურთიერთობა | C10: კონტრაქტის აღწერილობა | D10: კონტრაქტის ღირებულება (მსგავსი კონტრაქტები) | E10: გამყიდველის შერჩევის ფორმა | F10: პროდუქტის მიწოდების/მომსახურების გაწევის თარიღი | G10: დაარსების წელი | H10: შენიშვნები

Sheet coa-database
A1: USOA Acc | B1: Acc Name | C1: Usoa acc # & Name) | D1: Activity (1) | E1: Gnerc L1 | F1: Gnerc L2 | G1: Sub account/entry account | H1: Level | I1: len | J1: Statement | K1: quant | L1: ending | M1: 1H | N1: 2H | O1: 4H | P1: 1Hn | Q1: 2hN | R1: 4HN | S1: 2H for balance sheet | T1: 4H for balance sheet | U1: 2HB | V1: 4HB | W1: 6 | X1: 7 | Y1: 8 | Z1: 9 | AA1: 10 | AB1: 6 name | AC1: 7name | AD1: 8 name | AE1: 9 name | AF1: 10 name | AG1: Reporting Level 1 | AH1: Reporting Level 2 | AI1: Long Names | AJ1: Entry/Cum | AK1: KV | AL1: Plant Number | AM1: Pl Ass. For Reporting Purposes | AN1: Starting Balance of the Period | AO1: Period Debit Movement | AP1: Period Credit Movement | AQ1: Prior Period Results | AR1: Reporting Period Results | AS1: Ending Balance of the Period | AT1: Plant assignment | AZ1: " "
A2: 1000 | B2: Current Assets (ST Assets) | C2: =CONCATENATE(A2," ",B2) -> 1000 Current Assets (ST Assets) | D2: General | E2: 09 Current assets - other | F2: 0 | G2: 1Headings | H2: =VLOOKUP(I2,'heading tables'!$G$3:$H$9,2,FALSE) -> M | I2: =LEN(A2) -> 4 | J2: =IF(ABS(M2)>5,"Income statement","Balance Sheet") -> Balance Sheet | K2: =COUNTIF(O:O,O2) -> 42 | L2: =RIGHT(A2,2) -> 00 | M2: =LEFT($A2,1) -> 1 | N2: =LEFT($A2,2) -> 10 | O2: Not include | P2: =CONCATENATE(M2," ",VLOOKUP(M2,'heading tables'!$A:$C,2,FALSE)) -> 1 Current Assets | Q2: not include | R2: Not include | S2: =N2 -> 10 | T2: =O2 -> Not include | U2: Not Include | V2: Not Include | W2: =IF(LEFT($A2,W$1)=O2,$AZ$1,LEFT($A2,W$1)) -> 1000 | X2: =IF(OR(LEFT($A2,X$1)=W2,W2=$AZ$1),$AZ$1,LEFT($A2,X$1)) -> " " | Y2: =IF(OR(LEFT($A2,Y$1)=X2,X2=$AZ$1),$AZ$1,LEFT($A2,Y$1)) -> " " | Z2: =IF(OR(LEFT($A2,Z$1)=Y2,Y2=$AZ$1),$AZ$1,LEFT($A2,Z$1)) -> " " | AA2: =IF(OR(LEFT($A2,AA$1)=Z2,Z2=$AZ$1),$AZ$1,LEFT($A2,AA$1)) -> " " | AB2: =IFERROR(VLOOKUP(ABS(W2),$A:$C,3,FALSE),$AZ$1) -> 1000 Current Assets (ST Assets) | AC2: =IFERROR(VLOOKUP(ABS(X2),$A:$C,3,FALSE),$AZ$1) -> " " | AD2: =IFERROR(VLOOKUP(ABS(Y2),$A:$C,3,FALSE),$AZ$1) -> " " | AE2: =IFERROR(VLOOKUP(ABS(Z2),$A:$C,3,FALSE),$AZ$1) -> " " | AF2: =IFERROR(VLOOKUP(ABS(AA2),$A:$C,3,FALSE),$AZ$1) -> " " | AI2: Current Assets (ST Assets) | AJ2: Main | AV2: Current Assets (ST Assets) | AW2: =LEN(AV2) -> 26
A3: 1100 | B3: Cash on Hand | C3: =CONCATENATE(A3," ",B3) -> 1100 Cash on Hand | D3: General | E3: 01 Cash on Hand | F3: 0 | G3: 2Headings | H3: =VLOOKUP(I3,'heading tables'!$G$3:$H$9,2,FALSE) -> M | I3: =LEN(A3) -> 4 | J3: =IF(ABS(M3)>5,"Income statement","Balance Sheet") -> Balance Sheet | K3: =COUNTIF(O:O,O3) -> 42 | L3: =RIGHT(A3,2) -> 00 | M3: =LEFT($A3,1) -> 1 | N3: =LEFT($A3,2) -> 11 | O3: Not include | P3: =CONCATENATE(M3," ",VLOOKUP(M3,'heading tables'!$A:$C,2,FALSE)) -> 1 Current Assets | Q3: =CONCATENATE(N3," ",VLOOKUP(N3,'heading tables'!$A:$C,2,FALSE)) -> 11 Cash on Hand | R3: Not include | S3: =N3 -> 11 | T3: =O3 -> Not include | U3: =CONCATENATE(S3," ",VLOOKUP(S3,'heading tables'!$A:$C,2,FALSE)) -> 11 Cash on Hand | V3: Not Include | W3: =IF(LEFT($A3,W$1)=O3,$AZ$1,LEFT($A3,W$1)) -> 1100 | X3: =IF(OR(LEFT($A3,X$1)=W3,W3=$AZ$1),$AZ$1,LEFT($A3,X$1)) -> " " | Y3: =IF(OR(LEFT($A3,Y$1)=X3,X3=$AZ$1),$AZ$1,LEFT($A3,Y$1)) -> " " | Z3: =IF(OR(LEFT($A3,Z$1)=Y3,Y3=$AZ$1),$AZ$1,LEFT($A3,Z$1)) -> " " | AA3: =IF(OR(LEFT($A3,AA$1)=Z3,Z3=$AZ$1),$AZ$1,LEFT($A3,AA$1)) -> " " | AB3: =IFERROR(VLOOKUP(ABS(W3),$A:$C,3,FALSE),$AZ$1) -> 1100 Cash on Hand | AC3: =IFERROR(VLOOKUP(ABS(X3),$A:$C,3,FALSE),$AZ$1) -> " " | AD3: =IFERROR(VLOOKUP(ABS(Y3),$A:$C,3,FALSE),$AZ$1) -> " " | AE3: =IFERROR(VLOOKUP(ABS(Z3),$A:$C,3,FALSE),$AZ$1) -> " " | AF3: =IFERROR(VLOOKUP(ABS(AA3),$A:$C,3,FALSE),$AZ$1) -> " " | AI3: Cash on Hand | AJ3: Main | AV3: Cash on Hand | AW3: =LEN(AV3) -> 12
A4: 1110 | B4: Cash on Hand Local Currency | C4: =CONCATENATE(A4," ",B4) -> 1110 Cash on Hand Local Currency | D4: General | E4: 01 Cash on Hand | F4: 1110 Cash on Hand Local Currency | G4: Heading & Entry Account | H4: =VLOOKUP(I4,'heading tables'!$G$3:$H$9,2,FALSE) -> M | I4: =LEN(A4) -> 4 | J4: =IF(ABS(M4)>5,"Income statement","Balance Sheet") -> Balance Sheet | K4: =COUNTIF(O:O,O4) -> 1 | L4: =RIGHT(A4,2) -> 10 | M4: =LEFT($A4,1) -> 1 | N4: =LEFT($A4,2) -> 11 | O4: =LEFT($A4,4) -> 1110 | P4: =CONCATENATE(M4," ",VLOOKUP(M4,'heading tables'!$A:$C,2,FALSE)) -> 1 Current Assets | Q4: =CONCATENATE(N4," ",VLOOKUP(N4,'heading tables'!$A:$C,2,FALSE)) -> 11 Cash on Hand | R4: =CONCATENATE(O4," ",VLOOKUP(ABS(O4),'heading tables'!$A:$C,2,FALSE)) -> 1110 Cash on Hand Local Currency | S4: =N4 -> 11 | T4: =O4 -> 1110 | U4: =CONCATENATE(S4," ",VLOOKUP(S4,'heading tables'!$A:$C,2,FALSE)) -> 11 Cash on Hand | V4: =CONCATENATE(T4," ",VLOOKUP(ABS(T4),'heading tables'!$A:$C,2,FALSE)) -> 1110 Cash on Hand Local Currency | W4: =IF(LEFT($A4,W$1)=O4,$AZ$1,LEFT($A4,W$1)) -> " " | X4: =IF(OR(LEFT($A4,X$1)=W4,W4=$AZ$1),$AZ$1,LEFT($A4,X$1)) -> " " | Y4: =IF(OR(LEFT($A4,Y$1)=X4,X4=$AZ$1),$AZ$1,LEFT($A4,Y$1)) -> " " | Z4: =IF(OR(LEFT($A4,Z$1)=Y4,Y4=$AZ$1),$AZ$1,LEFT($A4,Z$1)) -> " " | AA4: =IF(OR(LEFT($A4,AA$1)=Z4,Z4=$AZ$1),$AZ$1,LEFT($A4,AA$1)) -> " " | AB4: =IFERROR(VLOOKUP(ABS(W4),$A:$C,3,FALSE),$AZ$1) -> " " | AC4: =IFERROR(VLOOKUP(ABS(X4),$A:$C,3,FALSE),$AZ$1) -> " " | AD4: =IFERROR(VLOOKUP(ABS(Y4),$A:$C,3,FALSE),$AZ$1) -> " " | AE4: =IFERROR(VLOOKUP(ABS(Z4),$A:$C,3,FALSE),$AZ$1) -> " " | AF4: =IFERROR(VLOOKUP(ABS(AA4),$A:$C,3,FALSE),$AZ$1) -> " " | AI4: Cash on Hand Local Currency | AJ4: entry account | AV4: Cash on Hand Local Currency | AW4: =LEN(AV4) -> 27
A5: 1120 | B5: Cash on Hand Foreign Currency | C5: =CONCATENATE(A5," ",B5) -> 1120 Cash on Hand Foreign Currency | D5: General | E5: 01 Cash on Hand | F5: 1120 Cash on Hand Foreign Currency | G5: Heading & Entry Account | H5: =VLOOKUP(I5,'heading tables'!$G$3:$H$9,2,FALSE) -> M | I5: =LEN(A5) -> 4 | J5: =IF(ABS(M5)>5,"Income statement","Balance Sheet") -> Balance Sheet | K5: =COUNTIF(O:O,O5) -> 1 | L5: =RIGHT(A5,2) -> 20 | M5: =LEFT($A5,1) -> 1 | N5: =LEFT($A5,2) -> 11 | O5: =LEFT($A5,4) -> 1120 | P5: =CONCATENATE(M5," ",VLOOKUP(M5,'heading tables'!$A:$C,2,FALSE)) -> 1 Current Assets | Q5: =CONCATENATE(N5," ",VLOOKUP(N5,'heading tables'!$A:$C,2,FALSE)) -> 11 Cash on Hand | R5: =CONCATENATE(O5," ",VLOOKUP(ABS(O5),'heading tables'!$A:$C,2,FALSE)) -> 1120 Cash on Hand Foreign Currency | S5: =N5 -> 11 | T5: =O5 -> 1120 | U5: =CONCATENATE(S5," ",VLOOKUP(S5,'heading tables'!$A:$C,2,FALSE)) -> 11 Cash on Hand | V5: =CONCATENATE(T5," ",VLOOKUP(ABS(T5),'heading tables'!$A:$C,2,FALSE)) -> 1120 Cash on Hand Foreign Currency | W5: =IF(LEFT($A5,W$1)=O5,$AZ$1,LEFT($A5,W$1)) -> " " | X5: =IF(OR(LEFT($A5,X$1)=W5,W5=$AZ$1),$AZ$1,LEFT($A5,X$1)) -> " " | Y5: =IF(OR(LEFT($A5,Y$1)=X5,X5=$AZ$1),$AZ$1,LEFT($A5,Y$1)) -> " " | Z5: =IF(OR(LEFT($A5,Z$1)=Y5,Y5=$AZ$1),$AZ$1,LEFT($A5,Z$1)) -> " " | AA5: =IF(OR(LEFT($A5,AA$1)=Z5,Z5=$AZ$1),$AZ$1,LEFT($A5,AA$1)) -> " " | AB5: =IFERROR(VLOOKUP(ABS(W5),$A:$C,3,FALSE),$AZ$1) -> " " | AC5: =IFERROR(VLOOKUP(ABS(X5),$A:$C,3,FALSE),$AZ$1) -> " " | AD5: =IFERROR(VLOOKUP(ABS(Y5),$A:$C,3,FALSE),$AZ$1) -> " " | AE5: =IFERROR(VLOOKUP(ABS(Z5),$A:$C,3,FALSE),$AZ$1) -> " " | AF5: =IFERROR(VLOOKUP(ABS(AA5),$A:$C,3,FALSE),$AZ$1) -> " " | AI5: Cash on Hand Foreign Currency | AJ5: entry account | AV5: Cash on Hand Foreign Currency | AW5: =LEN(AV5) -> 29
A6: 1200 | B6: Cash in Bank | C6: =CONCATENATE(A6," ",B6) -> 1200 Cash in Bank | D6: General | E6: 02 Cash in Bank | F6: 0 | G6: 2Headings | H6: =VLOOKUP(I6,'heading tables'!$G$3:$H$9,2,FALSE) -> M | I6: =LEN(A6) -> 4 | J6: =IF(ABS(M6)>5,"Income statement","Balance Sheet") -> Balance Sheet | K6: =COUNTIF(O:O,O6) -> 42 | L6: =RIGHT(A6,2) -> 00 | M6: =LEFT($A6,1) -> 1 | N6: =LEFT($A6,2) -> 12 | O6: Not include | P6: =CONCATENATE(M6," ",VLOOKUP(M6,'heading tables'!$A:$C,2,FALSE)) -> 1 Current Assets | Q6: =CONCATENATE(N6," ",VLOOKUP(N6,'heading tables'!$A:$C,2,FALSE)) -> 12 Cash in Bank | R6: Not include | S6: =N6 -> 12 | T6: =O6 -> Not include | U6: =CONCATENATE(S6," ",VLOOKUP(S6,'heading tables'!$A:$C,2,FALSE)) -> 12 Cash in Bank | V6: Not Include | W6: =IF(LEFT($A6,W$1)=O6,$AZ$1,LEFT($A6,W$1)) -> 1200 | X6: =IF(OR(LEFT($A6,X$1)=W6,W6=$AZ$1),$AZ$1,LEFT($A6,X$1)) -> " " | Y6: =IF(OR(LEFT($A6,Y$1)=X6,X6=$AZ$1),$AZ$1,LEFT($A6,Y$1)) -> " " | Z6: =IF(OR(LEFT($A6,Z$1)=Y6,Y6=$AZ$1),$AZ$1,LEFT($A6,Z$1)) -> " " | AA6: =IF(OR(LEFT($A6,AA$1)=Z6,Z6=$AZ$1),$AZ$1,LEFT($A6,AA$1)) -> " " | AB6: =IFERROR(VLOOKUP(ABS(W6),$A:$C,3,FALSE),$AZ$1) -> 1200 Cash in Bank | AC6: =IFERROR(VLOOKUP(ABS(X6),$A:$C,3,FALSE),$AZ$1) -> " " | AD6: =IFERROR(VLOOKUP(ABS(Y6),$A:$C,3,FALSE),$AZ$1) -> " " | AE6: =IFERROR(VLOOKUP(ABS(Z6),$A:$C,3,FALSE),$AZ$1) -> " " | AF6: =IFERROR(VLOOKUP(ABS(AA6),$A:$C,3,FALSE),$AZ$1) -> " " | AI6: Cash in Bank | AJ6: Main | AV6: Cash in Bank | AW6: =LEN(AV6) -> 12
A7: 1210 | B7: Bank - national currency (resident banks) | C7: =CONCATENATE(A7," ",B7) -> 1210 Bank - national currency (resident banks) | D7: General | E7: 02 Cash in Bank | F7: 1210 Bank - national currency (resident banks) | G7: Heading & Entry Account | H7: =VLOOKUP(I7,'heading tables'!$G$3:$H$9,2,FALSE) -> M | I7: =LEN(A7) -> 4 | J7: =IF(ABS(M7)>5,"Income statement","Balance Sheet") -> Balance Sheet | K7: =COUNTIF(O:O,O7) -> 1 | L7: =RIGHT(A7,2) -> 10 | M7: =LEFT($A7,1) -> 1 | N7: =LEFT($A7,2) -> 12 | O7: =LEFT($A7,4) -> 1210 | P7: =CONCATENATE(M7," ",VLOOKUP(M7,'heading tables'!$A:$C,2,FALSE)) -> 1 Current Assets | Q7: =CONCATENATE(N7," ",VLOOKUP(N7,'heading tables'!$A:$C,2,FALSE)) -> 12 Cash in Bank | R7: =CONCATENATE(O7," ",VLOOKUP(ABS(O7),'heading tables'!$A:$C,2,FALSE)) -> 1210 Bank - national currency (resident banks) | S7: =N7 -> 12 | T7: =O7 -> 1210 | U7: =CONCATENATE(S7," ",VLOOKUP(S7,'heading tables'!$A:$C,2,FALSE)) -> 12 Cash in Bank | V7: =CONCATENATE(T7," ",VLOOKUP(ABS(T7),'heading tables'!$A:$C,2,FALSE)) -> 1210 Bank - national currency (resident banks) | W7: =IF(LEFT($A7,W$1)=O7,$AZ$1,LEFT($A7,W$1)) -> " " | X7: =IF(OR(LEFT($A7,X$1)=W7,W7=$AZ$1),$AZ$1,LEFT($A7,X$1)) -> " " | Y7: =IF(OR(LEFT($A7,Y$1)=X7,X7=$AZ$1),$AZ$1,LEFT($A7,Y$1)) -> " " | Z7: =IF(OR(LEFT($A7,Z$1)=Y7,Y7=$AZ$1),$AZ$1,LEFT($A7,Z$1)) -> " " | AA7: =IF(OR(LEFT($A7,AA$1)=Z7,Z7=$AZ$1),$AZ$1,LEFT($A7,AA$1)) -> " " | AB7: =IFERROR(VLOOKUP(ABS(W7),$A:$C,3,FALSE),$AZ$1) -> " " | AC7: =IFERROR(VLOOKUP(ABS(X7),$A:$C,3,FALSE),$AZ$1) -> " " | AD7: =IFERROR(VLOOKUP(ABS(Y7),$A:$C,3,FALSE),$AZ$1) -> " " | AE7: =IFERROR(VLOOKUP(ABS(Z7),$A:$C,3,FALSE),$AZ$1) -> " " | AF7: =IFERROR(VLOOKUP(ABS(AA7),$A:$C,3,FALSE),$AZ$1) -> " " | AI7: Bank - national currency (resident banks) | AJ7: entry account | AV7: Bank - national currency (resident banks) | AW7: =LEN(AV7) -> 41
A8: 1220 | B8: Bank - foreign currency (resident banks) | C8: =CONCATENATE(A8," ",B8) -> 1220 Bank - foreign currency (resident banks) | D8: General | E8: 02 Cash in Bank | F8: 1220 Bank - foreign currency (resident banks) | G8: Heading & Entry Account | H8: =VLOOKUP(I8,'heading tables'!$G$3:$H$9,2,FALSE) -> M | I8: =LEN(A8) -> 4 | J8: =IF(ABS(M8)>5,"Income statement","Balance Sheet") -> Balance Sheet | K8: =COUNTIF(O:O,O8) -> 1 | L8: =RIGHT(A8,2) -> 20 | M8: =LEFT($A8,1) -> 1 | N8: =LEFT($A8,2) -> 12 | O8: =LEFT($A8,4) -> 1220 | P8: =CONCATENATE(M8," ",VLOOKUP(M8,'heading tables'!$A:$C,2,FALSE)) -> 1 Current Assets | Q8: =CONCATENATE(N8," ",VLOOKUP(N8,'heading tables'!$A:$C,2,FALSE)) -> 12 Cash in Bank | R8: =CONCATENATE(O8," ",VLOOKUP(ABS(O8),'heading tables'!$A:$C,2,FALSE)) -> 1220 Bank - foreign currency (resident banks) | S8: =N8 -> 12 | T8: =O8 -> 1220 | U8: =CONCATENATE(S8," ",VLOOKUP(S8,'heading tables'!$A:$C,2,FALSE)) -> 12 Cash in Bank | V8: =CONCATENATE(T8," ",VLOOKUP(ABS(T8),'heading tables'!$A:$C,2,FALSE)) -> 1220 Bank - foreign currency (resident banks) | W8: =IF(LEFT($A8,W$1)=O8,$AZ$1,LEFT($A8,W$1)) -> " " | X8: =IF(OR(LEFT($A8,X$1)=W8,W8=$AZ$1),$AZ$1,LEFT($A8,X$1)) -> " " | Y8: =IF(OR(LEFT($A8,Y$1)=X8,X8=$AZ$1),$AZ$1,LEFT($A8,Y$1)) -> " " | Z8: =IF(OR(LEFT($A8,Z$1)=Y8,Y8=$AZ$1),$AZ$1,LEFT($A8,Z$1)) -> " " | AA8: =IF(OR(LEFT($A8,AA$1)=Z8,Z8=$AZ$1),$AZ$1,LEFT($A8,AA$1)) -> " " | AB8: =IFERROR(VLOOKUP(ABS(W8),$A:$C,3,FALSE),$AZ$1) -> " " | AC8: =IFERROR(VLOOKUP(ABS(X8),$A:$C,3,FALSE),$AZ$1) -> " " | AD8: =IFERROR(VLOOKUP(ABS(Y8),$A:$C,3,FALSE),$AZ$1) -> " " | AE8: =IFERROR(VLOOKUP(ABS(Z8),$A:$C,3,FALSE),$AZ$1) -> " " | AF8: =IFERROR(VLOOKUP(ABS(AA8),$A:$C,3,FALSE),$AZ$1) -> " " | AI8: Bank - foreign currency (resident banks) | AJ8: entry account | AV8: Bank - foreign currency (resident banks) | AW8: =LEN(AV8) -> 40
A9: 1230 | B9: International Bank-foreign currency | C9: =CONCATENATE(A9," ",B9) -> 1230 International Bank-foreign currency | D9: General | E9: 02 Cash in Bank | F9: 1230 International Bank-foreign currency | G9: Heading & Entry Account | H9: =VLOOKUP(I9,'heading tables'!$G$3:$H$9,2,FALSE) -> M | I9: =LEN(A9) -> 4 | J9: =IF(ABS(M9)>5,"Income statement","Balance Sheet") -> Balance Sheet | K9: =COUNTIF(O:O,O9) -> 1 | L9: =RIGHT(A9,2) -> 30 | M9: =LEFT($A9,1) -> 1 | N9: =LEFT($A9,2) -> 12 | O9: =LEFT($A9,4) -> 1230 | P9: =CONCATENATE(M9," ",VLOOKUP(M9,'heading tables'!$A:$C,2,FALSE)) -> 1 Current Assets | Q9: =CONCATENATE(N9," ",VLOOKUP(N9,'heading tables'!$A:$C,2,FALSE)) -> 12 Cash in Bank | R9: =CONCATENATE(O9," ",VLOOKUP(ABS(O9),'heading tables'!$A:$C,2,FALSE)) -> 1230 International Bank-foreign currency | S9: =N9 -> 12 | T9: =O9 -> 1230 | U9: =CONCATENATE(S9," ",VLOOKUP(S9,'heading tables'!$A:$C,2,FALSE)) -> 12 Cash in Bank | V9: =CONCATENATE(T9," ",VLOOKUP(ABS(T9),'heading tables'!$A:$C,2,FALSE)) -> 1230 International Bank-foreign currency | W9: =IF(LEFT($A9,W$1)=O9,$AZ$1,LEFT($A9,W$1)) -> " " | X9: =IF(OR(LEFT($A9,X$1)=W9,W9=$AZ$1),$AZ$1,LEFT($A9,X$1)) -> " " | Y9: =IF(OR(LEFT($A9,Y$1)=X9,X9=$AZ$1),$AZ$1,LEFT($A9,Y$1)) -> " " | Z9: =IF(OR(LEFT($A9,Z$1)=Y9,Y9=$AZ$1),$AZ$1,LEFT($A9,Z$1)) -> " " | AA9: =IF(OR(LEFT($A9,AA$1)=Z9,Z9=$AZ$1),$AZ$1,LEFT($A9,AA$1)) -> " " | AB9: =IFERROR(VLOOKUP(ABS(W9),$A:$C,3,FALSE),$AZ$1) -> " " | AC9: =IFERROR(VLOOKUP(ABS(X9),$A:$C,3,FALSE),$AZ$1) -> " " | AD9: =IFERROR(VLOOKUP(ABS(Y9),$A:$C,3,FALSE),$AZ$1) -> " " | AE9: =IFERROR(VLOOKUP(ABS(Z9),$A:$C,3,FALSE),$AZ$1) -> " " | AF9: =IFERROR(VLOOKUP(ABS(AA9),$A:$C,3,FALSE),$AZ$1) -> " " | AI9: International Bank-foreign currency | AJ9: entry account | AV9: International Bank-foreign currency | AW9: =LEN(AV9) -> 35
A10: 1290 | B10: Cash on other bank account | C10: =CONCATENATE(A10," ",B10) -> 1290 Cash on other bank account | D10: General | E10: 02 Cash in Bank | F10: 1290 Cash on other bank account | G10: Heading & Entry Account | H10: =VLOOKUP(I10,'heading tables'!$G$3:$H$9,2,FALSE) -> M | I10: =LEN(A10) -> 4 | J10: =IF(ABS(M10)>5,"Income statement","Balance Sheet") -> Balance Sheet | K10: =COUNTIF(O:O,O10) -> 1 | L10: =RIGHT(A10,2) -> 90 | M10: =LEFT($A10,1) -> 1 | N10: =LEFT($A10,2) -> 12 | O10: =LEFT($A10,4) -> 1290 | P10: =CONCATENATE(M10," ",VLOOKUP(M10,'heading tables'!$A:$C,2,FALSE)) -> 1 Current Assets | Q10: =CONCATENATE(N10," ",VLOOKUP(N10,'heading tables'!$A:$C,2,FALSE)) -> 12 Cash in Bank | R10: =CONCATENATE(O10," ",VLOOKUP(ABS(O10),'heading tables'!$A:$C,2,FALSE)) -> 1290 Cash on other bank account | S10: =N10 -> 12 | T10: =O10 -> 1290 | U10: =CONCATENATE(S10," ",VLOOKUP(S10,'heading tables'!$A:$C,2,FALSE)) -> 12 Cash in Bank | V10: =CONCATENATE(T10," ",VLOOKUP(ABS(T10),'heading tables'!$A:$C,2,FALSE)) -> 1290 Cash on other bank account | W10: =IF(LEFT($A10,W$1)=O10,$AZ$1,LEFT($A10,W$1)) -> " " | X10: =IF(OR(LEFT($A10,X$1)=W10,W10=$AZ$1),$AZ$1,LEFT($A10,X$1)) -> " " | Y10: =IF(OR(LEFT($A10,Y$1)=X10,X10=$AZ$1),$AZ$1,LEFT($A10,Y$1)) -> " " | Z10: =IF(OR(LEFT($A10,Z$1)=Y10,Y10=$AZ$1),$AZ$1,LEFT($A10,Z$1)) -> " " | AA10: =IF(OR(LEFT($A10,AA$1)=Z10,Z10=$AZ$1),$AZ$1,LEFT($A10,AA$1)) -> " " | AB10: =IFERROR(VLOOKUP(ABS(W10),$A:$C,3,FALSE),$AZ$1) -> " " | AC10: =IFERROR(VLOOKUP(ABS(X10),$A:$C,3,FALSE),$AZ$1) -> " " | AD10: =IFERROR(VLOOKUP(ABS(Y10),$A:$C,3,FALSE),$AZ$1) -> " " | AE10: =IFERROR(VLOOKUP(ABS(Z10),$A:$C,3,FALSE),$AZ$1) -> " " | AF10: =IFERROR(VLOOKUP(ABS(AA10),$A:$C,3,FALSE),$AZ$1) -> " " | AI10: Cash on other bank account | AJ10: entry account | AV10: Cash on other bank account | AW10: =LEN(AV10) -> 26
A11: 1300 | B11: ST Investments | C11: =CONCATENATE(A11," ",B11) -> 1300 ST Investments | D11: General | E11: 03 Short - term Investments | F11: 0 | G11: 2Headings | H11: =VLOOKUP(I11,'heading tables'!$G$3:$H$9,2,FALSE) -> M | I11: =LEN(A11) -> 4 | J11: =IF(ABS(M11)>5,"Income statement","Balance Sheet") -> Balance Sheet | K11: =COUNTIF(O:O,O11) -> 42 | L11: =RIGHT(A11,2) -> 00 | M11: =LEFT($A11,1) -> 1 | N11: =LEFT($A11,2) -> 13 | O11: Not include | P11: =CONCATENATE(M11," ",VLOOKUP(M11,'heading tables'!$A:$C,2,FALSE)) -> 1 Current Assets | Q11: =CONCATENATE(N11," ",VLOOKUP(N11,'heading tables'!$A:$C,2,FALSE)) -> 13 ST Investments | R11: Not include | S11: =N11 -> 13 | T11: =O11 -> Not include | U11: =CONCATENATE(S11," ",VLOOKUP(S11,'heading tables'!$A:$C,2,FALSE)) -> 13 ST Investments | V11: Not Include | W11: =IF(LEFT($A11,W$1)=O11,$AZ$1,LEFT($A11,W$1)) -> 1300 | X11: =IF(OR(LEFT($A11,X$1)=W11,W11=$AZ$1),$AZ$1,LEFT($A11,X$1)) -> " " | Y11: =IF(OR(LEFT($A11,Y$1)=X11,X11=$AZ$1),$AZ$1,LEFT($A11,Y$1)) -> " " | Z11: =IF(OR(LEFT($A11,Z$1)=Y11,Y11=$AZ$1),$AZ$1,LEFT($A11,Z$1)) -> " " | AA11: =IF(OR(LEFT($A11,AA$1)=Z11,Z11=$AZ$1),$AZ$1,LEFT($A11,AA$1)) -> " " | AB11: =IFERROR(VLOOKUP(ABS(W11),$A:$C,3,FALSE),$AZ$1) -> 1300 ST Investments | AC11: =IFERROR(VLOOKUP(ABS(X11),$A:$C,3,FALSE),$AZ$1) -> " " | AD11: =IFERROR(VLOOKUP(ABS(Y11),$A:$C,3,FALSE),$AZ$1) -> " " | AE11: =IFERROR(VLOOKUP(ABS(Z11),$A:$C,3,FALSE),$AZ$1) -> " " | AF11: =IFERROR(VLOOKUP(ABS(AA11),$A:$C,3,FALSE),$AZ$1) -> " " | AI11: ST Investments | AJ11: Main | AV11: ST Investments | AW11: =LEN(AV11) -> 14
A12: 1310 | B12: Marketable securities | C12: =CONCATENATE(A12," ",B12) -> 1310 Marketable securities | D12: General | E12: 03 Short - term Investments | F12: 1310 Marketable securities | G12: Heading & Entry Account | H12: =VLOOKUP(I12,'heading tables'!$G$3:$H$9,2,FALSE) -> M | I12: =LEN(A12) -> 4 | J12: =IF(ABS(M12)>5,"Income statement","Balance Sheet") -> Balance Sheet | K12: =COUNTIF(O:O,O12) -> 1 | L12: =RIGHT(A12,2) -> 10 | M12: =LEFT($A12,1) -> 1 | N12: =LEFT($A12,2) -> 13 | O12: =LEFT($A12,4) -> 1310 | P12: =CONCATENATE(M12," ",VLOOKUP(M12,'heading tables'!$A:$C,2,FALSE)) -> 1 Current Assets | Q12: =CONCATENATE(N12," ",VLOOKUP(N12,'heading tables'!$A:$C,2,FALSE)) -> 13 ST Investments | R12: =CONCATENATE(O12," ",VLOOKUP(ABS(O12),'heading tables'!$A:$C,2,FALSE)) -> 1310 Marketable securities | S12: =N12 -> 13 | T12: =O12 -> 1310 | U12: =CONCATENATE(S12," ",VLOOKUP(S12,'heading tables'!$A:$C,2,FALSE)) -> 13 ST Investments | V12: =CONCATENATE(T12," ",VLOOKUP(ABS(T12),'heading tables'!$A:$C,2,FALSE)) -> 1310 Marketable securities | W12: =IF(LEFT($A12,W$1)=O12,$AZ$1,LEFT($A12,W$1)) -> " " | X12: =IF(OR(LEFT($A12,X$1)=W12,W12=$AZ$1),$AZ$1,LEFT($A12,X$1)) -> " " | Y12: =IF(OR(LEFT($A12,Y$1)=X12,X12=$AZ$1),$AZ$1,LEFT($A12,Y$1)) -> " " | Z12: =IF(OR(LEFT($A12,Z$1)=Y12,Y12=$AZ$1),$AZ$1,LEFT($A12,Z$1)) -> " " | AA12: =IF(OR(LEFT($A12,AA$1)=Z12,Z12=$AZ$1),$AZ$1,LEFT($A12,AA$1)) -> " " | AB12: =IFERROR(VLOOKUP(ABS(W12),$A:$C,3,FALSE),$AZ$1) -> " " | AC12: =IFERROR(VLOOKUP(ABS(X12),$A:$C,3,FALSE),$AZ$1) -> " " | AD12: =IFERROR(VLOOKUP(ABS(Y12),$A:$C,3,FALSE),$AZ$1) -> " " | AE12: =IFERROR(VLOOKUP(ABS(Z12),$A:$C,3,FALSE),$AZ$1) -> " " | AF12: =IFERROR(VLOOKUP(ABS(AA12),$A:$C,3,FALSE),$AZ$1) -> " " | AI12: Marketable securities | AJ12: entry account | AV12: Marketable securities | AW12: =LEN(AV12) -> 21
A13: 1320 | B13: Government securities | C13: =CONCATENATE(A13," ",B13) -> 1320 Government securities | D13: General | E13: 03 Short - term Investments | F13: 1320 Government securities | G13: Heading & Entry Account | H13: =VLOOKUP(I13,'heading tables'!$G$3:$H$9,2,FALSE) -> M | I13: =LEN(A13) -> 4 | J13: =IF(ABS(M13)>5,"Income statement","Balance Sheet") -> Balance Sheet | K13: =COUNTIF(O:O,O13) -> 1 | L13: =RIGHT(A13,2) -> 20 | M13: =LEFT($A13,1) -> 1 | N13: =LEFT($A13,2) -> 13 | O13: =LEFT($A13,4) -> 1320 | P13: =CONCATENATE(M13," ",VLOOKUP(M13,'heading tables'!$A:$C,2,FALSE)) -> 1 Current Assets | Q13: =CONCATENATE(N13," ",VLOOKUP(N13,'heading tables'!$A:$C,2,FALSE)) -> 13 ST Investments | R13: =CONCATENATE(O13," ",VLOOKUP(ABS(O13),'heading tables'!$A:$C,2,FALSE)) -> 1320 Government securities | S13: =N13 -> 13 | T13: =O13 -> 1320 | U13: =CONCATENATE(S13," ",VLOOKUP(S13,'heading tables'!$A:$C,2,FALSE)) -> 13 ST Investments | V13: =CONCATENATE(T13," ",VLOOKUP(ABS(T13),'heading tables'!$A:$C,2,FALSE)) -> 1320 Government securities | W13: =IF(LEFT($A13,W$1)=O13,$AZ$1,LEFT($A13,W$1)) -> " " | X13: =IF(OR(LEFT($A13,X$1)=W13,W13=$AZ$1),$AZ$1,LEFT($A13,X$1)) -> " " | Y13: =IF(OR(LEFT($A13,Y$1)=X13,X13=$AZ$1),$AZ$1,LEFT($A13,Y$1)) -> " " | Z13: =IF(OR(LEFT($A13,Z$1)=Y13,Y13=$AZ$1),$AZ$1,LEFT($A13,Z$1)) -> " " | AA13: =IF(OR(LEFT($A13,AA$1)=Z13,Z13=$AZ$1),$AZ$1,LEFT($A13,AA$1)) -> " " | AB13: =IFERROR(VLOOKUP(ABS(W13),$A:$C,3,FALSE),$AZ$1) -> " " | AC13: =IFERROR(VLOOKUP(ABS(X13),$A:$C,3,FALSE),$AZ$1) -> " " | AD13: =IFERROR(VLOOKUP(ABS(Y13),$A:$C,3,FALSE),$AZ$1) -> " " | AE13: =IFERROR(VLOOKUP(ABS(Z13),$A:$C,3,FALSE),$AZ$1) -> " " | AF13: =IFERROR(VLOOKUP(ABS(AA13),$A:$C,3,FALSE),$AZ$1) -> " " | AI13: Government securities | AJ13: entry account | AV13: Government securities | AW13: =LEN(AV13) -> 21
A14: 1330 | B14: Current portion of long-term investments | C14: =CONCATENATE(A14," ",B14) -> 1330 Current portion of long-term investments | D14: General | E14: 03 Short - term Investments | F14: 1330 Current portion of long-term investments | G14: Heading & Entry Account | H14: =VLOOKUP(I14,'heading tables'!$G$3:$H$9,2,FALSE) -> M | I14: =LEN(A14) -> 4 | J14: =IF(ABS(M14)>5,"Income statement","Balance Sheet") -> Balance Sheet | K14: =COUNTIF(O:O,O14) -> 1 | L14: =RIGHT(A14,2) -> 30 | M14: =LEFT($A14,1) -> 1 | N14: =LEFT($A14,2) -> 13 | O14: =LEFT($A14,4) -> 1330 | P14: =CONCATENATE(M14," ",VLOOKUP(M14,'heading tables'!$A:$C,2,FALSE)) -> 1 Current Assets | Q14: =CONCATENATE(N14," ",VLOOKUP(N14,'heading tables'!$A:$C,2,FALSE)) -> 13 ST Investments | R14: =CONCATENATE(O14," ",VLOOKUP(ABS(O14),'heading tables'!$A:$C,2,FALSE)) -> 1330 Current portion of long-term investments | S14: =N14 -> 13 | T14: =O14 -> 1330 | U14: =CONCATENATE(S14," ",VLOOKUP(S14,'heading tables'!$A:$C,2,FALSE)) -> 13 ST Investments | V14: =CONCATENATE(T14," ",VLOOKUP(ABS(T14),'heading tables'!$A:$C,2,FALSE)) -> 1330 Current portion of long-term investments | W14: =IF(LEFT($A14,W$1)=O14,$AZ$1,LEFT($A14,W$1)) -> " " | X14: =IF(OR(LEFT($A14,X$1)=W14,W14=$AZ$1),$AZ$1,LEFT($A14,X$1)) -> " " | Y14: =IF(OR(LEFT($A14,Y$1)=X14,X14=$AZ$1),$AZ$1,LEFT($A14,Y$1)) -> " " | Z14: =IF(OR(LEFT($A14,Z$1)=Y14,Y14=$AZ$1),$AZ$1,LEFT($A14,Z$1)) -> " " | AA14: =IF(OR(LEFT($A14,AA$1)=Z14,Z14=$AZ$1),$AZ$1,LEFT($A14,AA$1)) -> " " | AB14: =IFERROR(VLOOKUP(ABS(W14),$A:$C,3,FALSE),$AZ$1) -> " " | AC14: =IFERROR(VLOOKUP(ABS(X14),$A:$C,3,FALSE),$AZ$1) -> " " | AD14: =IFERROR(VLOOKUP(ABS(Y14),$A:$C,3,FALSE),$AZ$1) -> " " | AE14: =IFERROR(VLOOKUP(ABS(Z14),$A:$C,3,FALSE),$AZ$1) -> " " | AF14: =IFERROR(VLOOKUP(ABS(AA14),$A:$C,3,FALSE),$AZ$1) -> " " | AI14: Current portion of long-term investments | AJ14: entry account | AV14: Current portion of long-term investments | AW14: =LEN(AV14) -> 40
A15: 1390 | B15: Other short-term investments | C15: =CONCATENATE(A15," ",B15) -> 1390 Other short-term investments | D15: General | E15: 03 Short - term Investments | F15: 1340 Other short-term investments | G15: Heading & Entry Account | H15: =VLOOKUP(I15,'heading tables'!$G$3:$H$9,2,FALSE) -> M | I15: =LEN(A15) -> 4 | J15: =IF(ABS(M15)>5,"Income statement","Balance Sheet") -> Balance Sheet | K15: =COUNTIF(O:O,O15) -> 1 | L15: =RIGHT(A15,2) -> 90 | M15: =LEFT($A15,1) -> 1 | N15: =LEFT($A15,2) -> 13 | O15: =LEFT($A15,4) -> 1390 | P15: =CONCATENATE(M15," ",VLOOKUP(M15,'heading tables'!$A:$C,2,FALSE)) -> 1 Current Assets | Q15: =CONCATENATE(N15," ",VLOOKUP(N15,'heading tables'!$A:$C,2,FALSE)) -> 13 ST Investments | R15: =CONCATENATE(O15," ",VLOOKUP(ABS(O15),'heading tables'!$A:$C,2,FALSE)) -> 1390 Other short-term investments | S15: =N15 -> 13 | T15: =O15 -> 1390 | U15: =CONCATENATE(S15," ",VLOOKUP(S15,'heading tables'!$A:$C,2,FALSE)) -> 13 ST Investments | V15: =CONCATENATE(T15," ",VLOOKUP(ABS(T15),'heading tables'!$A:$C,2,FALSE)) -> 1390 Other short-term investments | W15: =IF(LEFT($A15,W$1)=O15,$AZ$1,LEFT($A15,W$1)) -> " " | X15: =IF(OR(LEFT($A15,X$1)=W15,W15=$AZ$1),$AZ$1,LEFT($A15,X$1)) -> " " | Y15: =IF(OR(LEFT($A15,Y$1)=X15,X15=$AZ$1),$AZ$1,LEFT($A15,Y$1)) -> " " | Z15: =IF(OR(LEFT($A15,Z$1)=Y15,Y15=$AZ$1),$AZ$1,LEFT($A15,Z$1)) -> " " | AA15: =IF(OR(LEFT($A15,AA$1)=Z15,Z15=$AZ$1),$AZ$1,LEFT($A15,AA$1)) -> " " | AB15: =IFERROR(VLOOKUP(ABS(W15),$A:$C,3,FALSE),$AZ$1) -> " " | AC15: =IFERROR(VLOOKUP(ABS(X15),$A:$C,3,FALSE),$AZ$1) -> " " | AD15: =IFERROR(VLOOKUP(ABS(Y15),$A:$C,3,FALSE),$AZ$1) -> " " | AE15: =IFERROR(VLOOKUP(ABS(Z15),$A:$C,3,FALSE),$AZ$1) -> " " | AF15: =IFERROR(VLOOKUP(ABS(AA15),$A:$C,3,FALSE),$AZ$1) -> " " | AI15: Other short-term investments | AJ15: entry account | AV15: Other short-term investments | AW15: =LEN(AV15) -> 28
A16: 1400 | B16: ST Receivables | C16: =CONCATENATE(A16," ",B16) -> 1400 ST Receivables | D16: General | E16: 04 Receivables | F16: 0 | G16: 2Headings | H16: =VLOOKUP(I16,'heading tables'!$G$3:$H$9,2,FALSE) -> M | I16: =LEN(A16) -> 4 | J16: =IF(ABS(M16)>5,"Income statement","Balance Sheet") -> Balance Sheet | K16: =COUNTIF(O:O,O16) -> 42 | L16: =RIGHT(A16,2) -> 00 | M16: =LEFT($A16,1) -> 1 | N16: =LEFT($A16,2) -> 14 | O16: Not include | P16: =CONCATENATE(M16," ",VLOOKUP(M16,'heading tables'!$A:$C,2,FALSE)) -> 1 Current Assets | Q16: =CONCATENATE(N16," ",VLOOKUP(N16,'heading tables'!$A:$C,2,FALSE)) -> 14 ST Receivables | R16: Not include | S16: =N16 -> 14 | T16: =O16 -> Not include | U16: =CONCATENATE(S16," ",VLOOKUP(S16,'heading tables'!$A:$C,2,FALSE)) -> 14 ST Receivables | V16: Not Include | W16: =IF(LEFT($A16,W$1)=O16,$AZ$1,LEFT($A16,W$1)) -> 1400 | X16: =IF(OR(LEFT($A16,X$1)=W16,W16=$AZ$1),$AZ$1,LEFT($A16,X$1)) -> " " | Y16: =IF(OR(LEFT($A16,Y$1)=X16,X16=$AZ$1),$AZ$1,LEFT($A16,Y$1)) -> " " | Z16: =IF(OR(LEFT($A16,Z$1)=Y16,Y16=$AZ$1),$AZ$1,LEFT($A16,Z$1)) -> " " | AA16: =IF(OR(LEFT($A16,AA$1)=Z16,Z16=$AZ$1),$AZ$1,LEFT($A16,AA$1)) -> " " | AB16: =IFERROR(VLOOKUP(ABS(W16),$A:$C,3,FALSE),$AZ$1) -> 1400 ST Receivables | AC16: =IFERROR(VLOOKUP(ABS(X16),$A:$C,3,FALSE),$AZ$1) -> " " | AD16: =IFERROR(VLOOKUP(ABS(Y16),$A:$C,3,FALSE),$AZ$1) -> " " | AE16: =IFERROR(VLOOKUP(ABS(Z16),$A:$C,3,FALSE),$AZ$1) -> " " | AF16: =IFERROR(VLOOKUP(ABS(AA16),$A:$C,3,FALSE),$AZ$1) -> " " | AI16: ST Receivables | AJ16: Main | AV16: ST Receivables | AW16: =LEN(AV16) -> 14
A17: 1410 | B17: Accounts receivable - trade | C17: =CONCATENATE(A17," ",B17) -> 1410 Accounts receivable - trade | D17: General | E17: 04 Receivables | F17: 0 | G17: Head accounts | H17: =VLOOKUP(I17,'heading tables'!$G$3:$H$9,2,FALSE) -> M | I17: =LEN(A17) -> 4 | J17: =IF(ABS(M17)>5,"Income statement","Balance Sheet") -> Balance Sheet | K17: =COUNTIF(O:O,O17) -> 9 | L17: =RIGHT(A17,2) -> 10 | M17: =LEFT($A17,1) -> 1 | N17: =LEFT($A17,2) -> 14 | O17: =LEFT($A17,4) -> 1410 | P17: =CONCATENATE(M17," ",VLOOKUP(M17,'heading tables'!$A:$C,2,FALSE)) -> 1 Current Assets | Q17: =CONCATENATE(N17," ",VLOOKUP(N17,'heading tables'!$A:$C,2,FALSE)) -> 14 ST Receivables | R17: =CONCATENATE(O17," ",VLOOKUP(ABS(O17),'heading tables'!$A:$C,2,FALSE)) -> 1410 Accounts receivable - trade | S17: =N17 -> 14 | T17: =O17 -> 1410 | U17: =CONCATENATE(S17," ",VLOOKUP(S17,'heading tables'!$A:$C,2,FALSE)) -> 14 ST Receivables | V17: =CONCATENATE(T17," ",VLOOKUP(ABS(T17),'heading tables'!$A:$C,2,FALSE)) -> 1410 Accounts receivable - trade | W17: =IF(LEFT($A17,W$1)=O17,$AZ$1,LEFT($A17,W$1)) -> " " | X17: =IF(OR(LEFT($A17,X$1)=W17,W17=$AZ$1),$AZ$1,LEFT($A17,X$1)) -> " " | Y17: =IF(OR(LEFT($A17,Y$1)=X17,X17=$AZ$1),$AZ$1,LEFT($A17,Y$1)) -> " " | Z17: =IF(OR(LEFT($A17,Z$1)=Y17,Y17=$AZ$1),$AZ$1,LEFT($A17,Z$1)) -> " " | AA17: =IF(OR(LEFT($A17,AA$1)=Z17,Z17=$AZ$1),$AZ$1,LEFT($A17,AA$1)) -> " " | AB17: =IFERROR(VLOOKUP(ABS(W17),$A:$C,3,FALSE),$AZ$1) -> " " | AC17: =IFERROR(VLOOKUP(ABS(X17),$A:$C,3,FALSE),$AZ$1) -> " " | AD17: =IFERROR(VLOOKUP(ABS(Y17),$A:$C,3,FALSE),$AZ$1) -> " " | AE17: =IFERROR(VLOOKUP(ABS(Z17),$A:$C,3,FALSE),$AZ$1) -> " " | AF17: =IFERROR(VLOOKUP(ABS(AA17),$A:$C,3,FALSE),$AZ$1) -> " " | AI17: Accounts receivable - trade | AJ17: cumulative | AV17: Accounts receivable - trade | AW17: =LEN(AV17) -> 27
A18: 1410.1 | B18: Receivables for Regulated Activity | C18: =CONCATENATE(A18," ",B18) -> 1410.1 Receivables for Regulated Activity | D18: R.A. | E18: 04 Receivables | F18: 0 | G18: L1 cap account | H18: =VLOOKUP(I18,'heading tables'!$G$3:$H$9,2,FALSE) -> L1 | I18: =LEN(A18) -> 6 | J18: =IF(ABS(M18)>5,"Income statement","Balance Sheet") -> Balance Sheet | K18: =COUNTIF(O:O,O18) -> 9 | L18: =RIGHT(A18,2) -> .1 | M18: =LEFT($A18,1) -> 1 | N18: =LEFT($A18,2) -> 14 | O18: =LEFT($A18,4) -> 1410 | P18: =CONCATENATE(M18," ",VLOOKUP(M18,'heading tables'!$A:$C,2,FALSE)) -> 1 Current Assets | Q18: =CONCATENATE(N18," ",VLOOKUP(N18,'heading tables'!$A:$C,2,FALSE)) -> 14 ST Receivables | R18: =CONCATENATE(O18," ",VLOOKUP(ABS(O18),'heading tables'!$A:$C,2,FALSE)) -> 1410 Accounts receivable - trade | S18: =N18 -> 14 | T18: =O18 -> 1410 | U18: =CONCATENATE(S18," ",VLOOKUP(S18,'heading tables'!$A:$C,2,FALSE)) -> 14 ST Receivables | V18: =CONCATENATE(T18," ",VLOOKUP(ABS(T18),'heading tables'!$A:$C,2,FALSE)) -> 1410 Accounts receivable - trade | W18: =IF(LEFT($A18,W$1)=O18,$AZ$1,LEFT($A18,W$1)) -> 1410.1 | X18: =IF(OR(LEFT($A18,X$1)=W18,W18=$AZ$1),$AZ$1,LEFT($A18,X$1)) -> " " | Y18: =IF(OR(LEFT($A18,Y$1)=X18,X18=$AZ$1),$AZ$1,LEFT($A18,Y$1)) -> " " | Z18: =IF(OR(LEFT($A18,Z$1)=Y18,Y18=$AZ$1),$AZ$1,LEFT($A18,Z$1)) -> " " | AA18: =IF(OR(LEFT($A18,AA$1)=Z18,Z18=$AZ$1),$AZ$1,LEFT($A18,AA$1)) -> " " | AB18: =IFERROR(VLOOKUP(ABS(W18),$A:$C,3,FALSE),$AZ$1) -> 1410.1 Receivables for Regulated Activity | AC18: =IFERROR(VLOOKUP(ABS(X18),$A:$C,3,FALSE),$AZ$1) -> " " | AD18: =IFERROR(VLOOKUP(ABS(Y18),$A:$C,3,FALSE),$AZ$1) -> " " | AE18: =IFERROR(VLOOKUP(ABS(Z18),$A:$C,3,FALSE),$AZ$1) -> " " | AF18: =IFERROR(VLOOKUP(ABS(AA18),$A:$C,3,FALSE),$AZ$1) -> " " | AI18: Receivables for Regulated Activity | AJ18: cumulative | AV18: Receivables for Regulated Activity | AW18: =LEN(AV18) -> 34
A19: 1410.11 | B19: Receivables for Regulated Dispatch Services | C19: =CONCATENATE(A19," ",B19) -> 1410.11 Receivables for Regulated Dispatch Services | D19: Dispatch | E19: 04 Receivables | F19: 1410 Accounts receivable - trade | G19: entry account l2 | H19: =VLOOKUP(I19,'heading tables'!$G$3:$H$9,2,FALSE) -> L2 | I19: =LEN(A19) -> 7 | J19: =IF(ABS(M19)>5,"Income statement","Balance Sheet") -> Balance Sheet | K19: =COUNTIF(O:O,O19) -> 9 | L19: =RIGHT(A19,2) -> 11 | M19: =LEFT($A19,1) -> 1 | N19: =LEFT($A19,2) -> 14 | O19: =LEFT($A19,4) -> 1410 | P19: =CONCATENATE(M19," ",VLOOKUP(M19,'heading tables'!$A:$C,2,FALSE)) -> 1 Current Assets | Q19: =CONCATENATE(N19," ",VLOOKUP(N19,'heading tables'!$A:$C,2,FALSE)) -> 14 ST Receivables | R19: =CONCATENATE(O19," ",VLOOKUP(ABS(O19),'heading tables'!$A:$C,2,FALSE)) -> 1410 Accounts receivable - trade | S19: =N19 -> 14 | T19: =O19 -> 1410 | U19: =CONCATENATE(S19," ",VLOOKUP(S19,'heading tables'!$A:$C,2,FALSE)) -> 14 ST Receivables | V19: =CONCATENATE(T19," ",VLOOKUP(ABS(T19),'heading tables'!$A:$C,2,FALSE)) -> 1410 Accounts receivable - trade | W19: =IF(LEFT($A19,W$1)=O19,$AZ$1,LEFT($A19,W$1)) -> 1410.1 | X19: =IF(OR(LEFT($A19,X$1)=W19,W19=$AZ$1),$AZ$1,LEFT($A19,X$1)) -> 1410.11 | Y19: =IF(OR(LEFT($A19,Y$1)=X19,X19=$AZ$1),$AZ$1,LEFT($A19,Y$1)) -> " " | Z19: =IF(OR(LEFT($A19,Z$1)=Y19,Y19=$AZ$1),$AZ$1,LEFT($A19,Z$1)) -> " " | AA19: =IF(OR(LEFT($A19,AA$1)=Z19,Z19=$AZ$1),$AZ$1,LEFT($A19,AA$1)) -> " " | AB19: =IFERROR(VLOOKUP(ABS(W19),$A:$C,3,FALSE),$AZ$1) -> 1410.1 Receivables for Regulated Activity | AC19: =IFERROR(VLOOKUP(ABS(X19),$A:$C,3,FALSE),$AZ$1) -> 1410.11 Receivables for Regulated Dispatch Services | AD19: =IFERROR(VLOOKUP(ABS(Y19),$A:$C,3,FALSE),$AZ$1) -> " " | AE19: =IFERROR(VLOOKUP(ABS(Z19),$A:$C,3,FALSE),$AZ$1) -> " " | AF19: =IFERROR(VLOOKUP(ABS(AA19),$A:$C,3,FALSE),$AZ$1) -> " " | AI19: Receivables for Regulated Dispatch Services | AJ19: entry account | AV19: Receivables for Regulated Dispatch Services | AW19: =LEN(AV19) -> 43
A20: 1410.12 | B20: Receivables for Regulated Transmission Services | C20: =CONCATENATE(A20," ",B20) -> 1410.12 Receivables for Regulated Transmission Services | D20: TR. | E20: 04 Receivables | F20: 1410 Accounts receivable - trade | G20: entry account l2 | H20: =VLOOKUP(I20,'heading tables'!$G$3:$H$9,2,FALSE) -> L2 | I20: =LEN(A20) -> 7 | J20: =IF(ABS(M20)>5,"Income statement","Balance Sheet") -> Balance Sheet | K20: =COUNTIF(O:O,O20) -> 9 | L20: =RIGHT(A20,2) -> 12 | M20: =LEFT($A20,1) -> 1 | N20: =LEFT($A20,2) -> 14 | O20: =LEFT($A20,4) -> 1410 | P20: =CONCATENATE(M20," ",VLOOKUP(M20,'heading tables'!$A:$C,2,FALSE)) -> 1 Current Assets | Q20: =CONCATENATE(N20," ",VLOOKUP(N20,'heading tables'!$A:$C,2,FALSE)) -> 14 ST Receivables | R20: =CONCATENATE(O20," ",VLOOKUP(ABS(O20),'heading tables'!$A:$C,2,FALSE)) -> 1410 Accounts receivable - trade | S20: =N20 -> 14 | T20: =O20 -> 1410 | U20: =CONCATENATE(S20," ",VLOOKUP(S20,'heading tables'!$A:$C,2,FALSE)) -> 14 ST Receivables | V20: =CONCATENATE(T20," ",VLOOKUP(ABS(T20),'heading tables'!$A:$C,2,FALSE)) -> 1410 Accounts receivable - trade | W20: =IF(LEFT($A20,W$1)=O20,$AZ$1,LEFT($A20,W$1)) -> 1410.1 | X20: =IF(OR(LEFT($A20,X$1)=W20,W20=$AZ$1),$AZ$1,LEFT($A20,X$1)) -> 1410.12 | Y20: =IF(OR(LEFT($A20,Y$1)=X20,X20=$AZ$1),$AZ$1,LEFT($A20,Y$1)) -> " " | Z20: =IF(OR(LEFT($A20,Z$1)=Y20,Y20=$AZ$1),$AZ$1,LEFT($A20,Z$1)) -> " " | AA20: =IF(OR(LEFT($A20,AA$1)=Z20,Z20=$AZ$1),$AZ$1,LEFT($A20,AA$1)) -> " " | AB20: =IFERROR(VLOOKUP(ABS(W20),$A:$C,3,FALSE),$AZ$1) -> 1410.1 Receivables for Regulated Activity | AC20: =IFERROR(VLOOKUP(ABS(X20),$A:$C,3,FALSE),$AZ$1) -> 1410.12 Receivables for Regulated Transmission Services | AD20: =IFERROR(VLOOKUP(ABS(Y20),$A:$C,3,FALSE),$AZ$1) -> " " | AE20: =IFERROR(VLOOKUP(ABS(Z20),$A:$C,3,FALSE),$AZ$1) -> " " | AF20: =IFERROR(VLOOKUP(ABS(AA20),$A:$C,3,FALSE),$AZ$1) -> " " | AI20: Receivables for Regulated Transmission Services | AJ20: entry account | AV20: Receivables for Regulated Transmission Services | AW20: =LEN(AV20) -> 47
A21: 1410.13 | B21: Receivables for Regulated Distribution (Network) Services | C21: =CONCATENATE(A21," ",B21) -> 1410.13 Receivables for Regulated Distribution (Network) Services | D21: DIS. Network | E21: 04 Receivables | F21: 1410 Accounts receivable - trade | G21: entry account l2 | H21: =VLOOKUP(I21,'heading tables'!$G$3:$H$9,2,FALSE) -> L2 | I21: =LEN(A21) -> 7 | J21: =IF(ABS(M21)>5,"Income statement","Balance Sheet") -> Balance Sheet | K21: =COUNTIF(O:O,O21) -> 9 | L21: =RIGHT(A21,2) -> 13 | M21: =LEFT($A21,1) -> 1 | N21: =LEFT($A21,2) -> 14 | O21: =LEFT($A21,4) -> 1410 | P21: =CONCATENATE(M21," ",VLOOKUP(M21,'heading tables'!$A:$C,2,FALSE)) -> 1 Current Assets | Q21: =CONCATENATE(N21," ",VLOOKUP(N21,'heading tables'!$A:$C,2,FALSE)) -> 14 ST Receivables | R21: =CONCATENATE(O21," ",VLOOKUP(ABS(O21),'heading tables'!$A:$C,2,FALSE)) -> 1410 Accounts receivable - trade | S21: =N21 -> 14 | T21: =O21 -> 1410 | U21: =CONCATENATE(S21," ",VLOOKUP(S21,'heading tables'!$A:$C,2,FALSE)) -> 14 ST Receivables | V21: =CONCATENATE(T21," ",VLOOKUP(ABS(T21),'heading tables'!$A:$C,2,FALSE)) -> 1410 Accounts receivable - trade | W21: =IF(LEFT($A21,W$1)=O21,$AZ$1,LEFT($A21,W$1)) -> 1410.1 | X21: =IF(OR(LEFT($A21,X$1)=W21,W21=$AZ$1),$AZ$1,LEFT($A21,X$1)) -> 1410.13 | Y21: =IF(OR(LEFT($A21,Y$1)=X21,X21=$AZ$1),$AZ$1,LEFT($A21,Y$1)) -> " " | Z21: =IF(OR(LEFT($A21,Z$1)=Y21,Y21=$AZ$1),$AZ$1,LEFT($A21,Z$1)) -> " " | AA21: =IF(OR(LEFT($A21,AA$1)=Z21,Z21=$AZ$1),$AZ$1,LEFT($A21,AA$1)) -> " " | AB21: =IFERROR(VLOOKUP(ABS(W21),$A:$C,3,FALSE),$AZ$1) -> 1410.1 Receivables for Regulated Activity | AC21: =IFERROR(VLOOKUP(ABS(X21),$A:$C,3,FALSE),$AZ$1) -> 1410.13 Receivables for Regulated Distribution (Network) Services | AD21: =IFERROR(VLOOKUP(ABS(Y21),$A:$C,3,FALSE),$AZ$1) -> " " | AE21: =IFERROR(VLOOKUP(ABS(Z21),$A:$C,3,FALSE),$AZ$1) -> " " | AF21: =IFERROR(VLOOKUP(ABS(AA21),$A:$C,3,FALSE),$AZ$1) -> " " | AI21: Receivables for Regulated Distribution (Network) Services | AJ21: entry account | AV21: Receivables for Regulated Distribution (Network) Services | AW21: =LEN(AV21) -> 57
A22: 1410.14 | B22: Receivables for Regulated Distribution (Supply) Services | C22: =CONCATENATE(A22," ",B22) -> 1410.14 Receivables for Regulated Distribution (Supply) Services | D22: DIS. (supply) | E22: 04 Receivables | F22: 1410 Accounts receivable - trade | G22: entry account l2 | H22: =VLOOKUP(I22,'heading tables'!$G$3:$H$9,2,FALSE) -> L2 | I22: =LEN(A22) -> 7 | J22: =IF(ABS(M22)>5,"Income statement","Balance Sheet") -> Balance Sheet | K22: =COUNTIF(O:O,O22) -> 9 | L22: =RIGHT(A22,2) -> 14 | M22: =LEFT($A22,1) -> 1 | N22: =LEFT($A22,2) -> 14 | O22: =LEFT($A22,4) -> 1410 | P22: =CONCATENATE(M22," ",VLOOKUP(M22,'heading tables'!$A:$C,2,FALSE)) -> 1 Current Assets | Q22: =CONCATENATE(N22," ",VLOOKUP(N22,'heading tables'!$A:$C,2,FALSE)) -> 14 ST Receivables | R22: =CONCATENATE(O22," ",VLOOKUP(ABS(O22),'heading tables'!$A:$C,2,FALSE)) -> 1410 Accounts receivable - trade | S22: =N22 -> 14 | T22: =O22 -> 1410 | U22: =CONCATENATE(S22," ",VLOOKUP(S22,'heading tables'!$A:$C,2,FALSE)) -> 14 ST Receivables | V22: =CONCATENATE(T22," ",VLOOKUP(ABS(T22),'heading tables'!$A:$C,2,FALSE)) -> 1410 Accounts receivable - trade | W22: =IF(LEFT($A22,W$1)=O22,$AZ$1,LEFT($A22,W$1)) -> 1410.1 | X22: =IF(OR(LEFT($A22,X$1)=W22,W22=$AZ$1),$AZ$1,LEFT($A22,X$1)) -> 1410.14 | Y22: =IF(OR(LEFT($A22,Y$1)=X22,X22=$AZ$1),$AZ$1,LEFT($A22,Y$1)) -> " " | Z22: =IF(OR(LEFT($A22,Z$1)=Y22,Y22=$AZ$1),$AZ$1,LEFT($A22,Z$1)) -> " " | AA22: =IF(OR(LEFT($A22,AA$1)=Z22,Z22=$AZ$1),$AZ$1,LEFT($A22,AA$1)) -> " " | AB22: =IFERROR(VLOOKUP(ABS(W22),$A:$C,3,FALSE),$AZ$1) -> 1410.1 Receivables for Regulated Activity | AC22: =IFERROR(VLOOKUP(ABS(X22),$A:$C,3,FALSE),$AZ$1) -> 1410.14 Receivables for Regulated Distribution (Supply) Services | AD22: =IFERROR(VLOOKUP(ABS(Y22),$A:$C,3,FALSE),$AZ$1) -> " " | AE22: =IFERROR(VLOOKUP(ABS(Z22),$A:$C,3,FALSE),$AZ$1) -> " " | AF22: =IFERROR(VLOOKUP(ABS(AA22),$A:$C,3,FALSE),$AZ$1) -> " " | AI22: Receivables for Regulated Distribution (Supply) Services | AJ22: entry account | AV22: Receivables for Regulated Distribution (Supply) Services | AW22: =LEN(AV22) -> 56
