Workbook

Sheet ვალდებულებათა შესრულების დაზღვ.
A1: ფორმა N 15
A2: ინფორმაცია ვალდებულებათა შესრულების დაზღვევის პოლისების შესახებ
A4: კომპანიის დასახელება: ________________
A5: საანგარიშო თვე __________________
A7: № | B7: პოლისის ნომერი | C7: პოლისის გაფორმების/გაცემის თარიღი (დღე, თვე, წელი) | D7: პოლისის მოქმედების პერიოდი | F7: დაზღვევა | G7: დამზღვევი/დაზღვეული (გვარი, სახელი ან იურიდიული პირის დასახელება) | H7: ორგანიზაციულ - სამართლებრივი ფორმა | I7: ვალდებულებათა შესრულების დაზღვევის ქვესახეობა | J7: მოსარგებლე (გვარი, სახელი ან იურიდიული პირის დასახელება) | K7: მოსარგებლის კატეგორია (სახელმწიფო,სხვა) | L7: მზღვეველისათვის მიბარებული ფულადი სახსრები | N7: სადაზღვევო თანხა/ანაზღაურების ლიმიტი | R7: სადაზღვევო პრემია | V7: ნეტო ვალდებულებები | W7: სადაზღვევო თანხა/ ანაზღაურების ლიმიტი, ნეტო (თანხობრივად, ლარი) | X7: სადაზღვევო თანხა/ ანაზღაურების ლიმიტი, ნეტო; გადამზღვევლის მიმართ გამოყენებული შეზღუდვების გათვალისწინებით(თანხობრივად, ლარი) | Y7: გადაზღვევა (ჯამური) | Z7: გადამზღვევლის მონაწილეობა სადაზღვევო თანხაში/ანაზღაურების ლიმიტში თანხობრივად, (ლარი) | AA7: გადაზღვევის პრემიის ოდენობა (ლარი) | AB7: გადამზღვევლი N1 | AC7: გადამზღვევლის სრულყოფილი სახელწოდება | AD7: გადაზღვევის ხელშეკრულების ნომერი | AE7: გადაზღვევის ტიპი | AF7: გადამზღვევლის მონაწილეობა სადაზღვევო თანხაში/ანაზღაურების ლიმიტში თანხობრივად | AJ7: გადამზღვევლის რეგისტრაციის ადგილი (ქვეყანა) | AK7: გადამზღვევლის რეიტინგი | AL7: რეიტინგის მიმნიჭებელი სააგენტო | AM7: გადაზღვევის პრემიის ოდენობა | AQ7: გადამზღვევლი N2 | AR7: გადამზღვევლის სრულყოფილი სახელწოდება | AS7: გადაზღვევის ხელშეკრულების ნომერი | AT7: გადაზღვევის ტიპი | AU7: გადამზღვევლის მონაწილეობა სადაზღვევო თანხაში/ანაზღაურების ლიმიტში თანხობრივად | AY7: გადამზღვევლის რეგისტრაციის ადგილი (ქვეყანა) | AZ7: გადამზღვევლის რეიტინგი | BA7: რეიტინგის მიმნიჭებელი სააგენტო | BB7: გადაზღვევის პრემიის ოდენობა | BF7: გადამზღვევლი N3 | BG7: გადამზღვევლის სრულყოფილი სახელწოდება | BH7: გადაზღვევის ხელშეკრულების ნომერი | BI7: გადაზღვევის ტიპი | BJ7: გადამზღვევლის მონაწილეობა სადაზღვევო თანხაში/ანაზღაურების ლიმიტში თანხობრივად | BN7: გადამზღვევლის რეგისტრაციის ადგილი (ქვეყანა) | BO7: გადამზღვევლის რეიტინგი | BP7: რეიტინგის მიმნიჭებელი სააგენტო | BQ7: გადაზღვევის პრემიის ოდენობა | BU7: გადამზღვევლი N4 | BV7: გადამზღვევლის სრულყოფილი სახელწოდება | BW7: გადაზღვევის ხელშეკრულების ნომერი | BX7: გადაზღვევის ტიპი | BY7: გადამზღვევლის მონაწილეობა სადაზღვევო თანხაში/ანაზღაურების ლიმიტში თანხობრივად | CC7: გადამზღვევლის რეგისტრაციის ადგილი (ქვეყანა) | CD7: გადამზღვევლის რეიტინგი | CE7: რეიტინგის მიმნიჭებელი სააგენტო | CF7: გადაზღვევის პრემიის ოდენობა | CJ7: გადამზღვევლი N5 | CK7: გადამზღვევლის სრულყოფილი სახელწოდება | CL7: გადაზღვევის ხელშეკრულების ნომერი | CM7: გადაზღვევის ტიპი | CN7: გადამზღვევლის მონაწილეობა სადაზღვევო თანხაში/ანაზღაურების ლიმიტში თანხობრივად | CR7: გადამზღვევლის რეგისტრაციის ადგილი (ქვეყანა) | CS7: გადამზღვევლის რეიტინგი | CT7: რეიტინგის მიმნიჭებელი სააგენტო | CU7: გადაზღვევის პრემიის ოდენობა | CY7: გადამზღვევლი N6 | CZ7: გადამზღვევლის სრულყოფილი სახელწოდება | DA7: გადაზღვევის ხელშეკრულების ნომერი | DB7: გადაზღვევის ტიპი | DC7: გადამზღვევლის მონაწილეობა სადაზღვევო თანხაში/ანაზღაურების ლიმიტში თანხობრივად | DG7: გადამზღვევლის რეგისტრაციის ადგილი (ქვეყანა) | DH7: გადამზღვევლის რეიტინგი | DI7: რეიტინგის მიმნიჭებელი სააგენტო | DJ7: გადაზღვევის პრემიის ოდენობა | DN7: გადამზღვევლი N7 | DO7: გადამზღვევლის სრულყოფილი სახელწოდება | DP7: გადაზღვევის ხელშეკრულების ნომერი | DQ7: გადაზღვევის ტიპი | DR7: გადამზღვევლის მონაწილეობა სადაზღვევო თანხაში/ანაზღაურების ლიმიტში თანხობრივად | DV7: გადამზღვევლის რეგისტრაციის ადგილი (ქვეყანა) | DW7: გადამზღვევლის რეიტინგი | DX7: რეიტინგის მიმნიჭებელი სააგენტო | DY7: გადაზღვევის პრემიის ოდენობა
D8: პოლისის ძალაში შესვლის თარიღი (დღე, თვე, წელი) | E8: პოლისის დასრულების თარიღი(დღე, თვე, წელი) | L8: ფინანსური ანგარიშგების ფორმებში აღრიცხული თანხები | M8: თანხები, რომლებიც არ არის აღრიცხული ფინანსური ანგარიშგების ფორმებში | N8: სახელშეკრულებო ვალუტით | O8: ვალუტა | P8: ვალუტის კურსი | Q8: ეროვნულ ვალუტაში | R8: სახელშეკრულებო ვალუტით | S8: ვალუტა | T8: ვალუტის კურსი | U8: ეროვნულ ვალუტაში | AC8: 1 | AD8: 1 | AE8: 1 | AF8: სახელშეკრულებო ვალუტით | AG8: ვალუტა | AH8: ვალუტის კურსი | AI8: ეროვნულ ვალუტაში | AJ8: 1 | AK8: 1 | AL8: 1 | AM8: სახელშეკრულებო ვალუტა | AN8: ვალუტა | AO8: ვალუტის კურსი | AP8: ეროვნულ ვალუტაში | AR8: 1 | AS8: 1 | AT8: 1 | AU8: სახელშეკრულებო ვალუტით | AV8: ვალუტა | AW8: ვალუტის კურსი | AX8: ეროვნულ ვალუტაში | AY8: 1 | AZ8: 1 | BA8: 1 | BB8: სახელშეკრულებო ვალუტა | BC8: ვალუტა | BD8: ვალუტის კურსი | BE8: ეროვნულ ვალუტაში | BG8: 1 | BH8: 1 | BI8: 1 | BJ8: სახელშეკრულებო ვალუტით | BK8: ვალუტა | BL8: ვალუტის კურსი | BM8: ეროვნულ ვალუტაში | BN8: 1 | BO8: 1 | BP8: 1 | BQ8: სახელშეკრულებო ვალუტა | BR8: ვალუტა | BS8: ვალუტის კურსი | BT8: ეროვნულ ვალუტაში | BV8: 1 | BW8: 1 | BX8: 1 | BY8: სახელშეკრულებო ვალუტით | BZ8: ვალუტა | CA8: ვალუტის კურსი | CB8: ეროვნულ ვალუტაში | CC8: 1 | CD8: 1 | CE8: 1 | CF8: სახელშეკრულებო ვალუტა | CG8: ვალუტა | CH8: ვალუტის კურსი | CI8: ეროვნულ ვალუტაში | CK8: 1 | CL8: 1 | CM8: 1 | CN8: სახელშეკრულებო ვალუტით | CO8: ვალუტა | CP8: ვალუტის კურსი | CQ8: ეროვნულ ვალუტაში | CR8: 1 | CS8: 1 | CT8: 1 | CU8: სახელშეკრულებო ვალუტა | CV8: ვალუტა | CW8: ვალუტის კურსი | CX8: ეროვნულ ვალუტაში | CZ8: 1 | DA8: 1 | DB8: 1 | DC8: სახელშეკრულებო ვალუტით | DD8: ვალუტა | DE8: ვალუტის კურსი | DF8: ეროვნულ ვალუტაში | DG8: 1 | DH8: 1 | DI8: 1 | DJ8: სახელშეკრულებო ვალუტა | DK8: ვალუტა | DL8: ვალუტის კურსი | DM8: ეროვნულ ვალუტაში | DO8: 1 | DP8: 1 | DQ8: 1 | DR8: სახელშეკრულებო ვალუტით | DS8: ვალუტა | DT8: ვალუტის კურსი | DU8: ეროვნულ ვალუტაში | DV8: 1 | DW8: 1 | DX8: 1 | DY8: სახელშეკრულებო ვალუტა | DZ8: ვალუტა | EA8: ვალუტის კურსი | EB8: ეროვნულ ვალუტაში
B9: 1 | C9: 2 | D9: 3 | E9: 4 | G9: 5 | H9: 6 | I9: 7 | J9: 8 | K9: 9 | L9: 10 | M9: 11 | N9: 12 | O9: 13 | P9: 14 | Q9: 15 | R9: 16 | S9: 17 | T9: 18 | U9: 19 | W9: 20 | X9: 21 | Z9: 22 | AA9: 23 | AC9: 24 | AD9: 25 | AE9: 26 | AF9: 27 | AG9: 28 | AH9: 29 | AI9: 30 | AJ9: 31 | AK9: 32 | AL9: 33 | AM9: 34 | AN9: 35 | AO9: 36 | AP9: 37 | AR9: 38 | AS9: 39 | AT9: 40 | AU9: 41 | AV9: 42 | AW9: 43 | AX9: 44 | AY9: 45 | AZ9: 46 | BA9: 47 | BB9: 48 | BC9: 49 | BD9: 50 | BE9: 51 | BG9: 52 | BH9: 53 | BI9: 54 | BJ9: 55 | BK9: 56 | BL9: 57 | BM9: 58 | BN9: 59 | BO9: 60 | BP9: 61 | BQ9: 62 | BR9: 63 | BS9: 64 | BT9: 65 | BV9: 66 | BW9: 67 | BX9: 68 | BY9: 69 | BZ9: 70 | CA9: 71 | CB9: 72 | CC9: 73 | CD9: 74 | CE9: 75 | CF9: 76 | CG9: 77 | CH9: 78 | CI9: 79 | CK9: 80 | CL9: 81 | CM9: 82 | CN9: 83 | CO9: 84 | CP9: 85 | CQ9: 86 | CR9: 87 | CS9: 88 | CT9: 89 | CU9: 90 | CV9: 91 | CW9: 92 | CX9: 93 | CZ9: 94 | DA9: 95 | DB9: 96 | DC9: 97 | DD9: 98 | DE9: 99 | DF9: 100 | DG9: 101 | DH9: 102 | DI9: 103 | DJ9: 104 | DK9: 105 | DL9: 106 | DM9: 107 | DO9: 108 | DP9: 109 | DQ9: 110 | DR9: 111 | DS9: 112 | DT9: 113 | DU9: 114 | DV9: 115 | DW9: 116 | DX9: 117 | DY9: 118 | DZ9: 119 | EA9: 120 | EB9: 121
A10: 1 | Q10: =N10*P10 -> 0 | U10: =R10*T10 -> 0 | W10: =IF(Q10-Z10<0,0,Q10-Z10) -> 0 | X10: =IF(Q10-(AI10*IF(OR(AK10="N/R",AL10="სხვა",AL10="",COUNTIF(რეიტინგი!$D$27:$D$63,AK10&AL10)=1),0,1)+AX10*IF(OR(AZ10="N/R",BA10="სხვა",BA10="",COUNTIF(რეიტინგი!$D$27:$D$63,AZ10&BA10)=1),0,1)+BM10*IF(OR(BO10="N/R",BP10="სხვა",BP10="",COUNTIF(რეიტინგი!$D$27:$D$63,BO10&BP10)=1),0,1)+CB10*IF(OR(CD10="N/R",CE10="სხვა",CE10="",COUNTIF(რეიტინგი!$D$27:$D$63,CD10&CE10)=1),0,1)+CQ10*IF(OR(CS10="N/R",CT10="სხვა",CT10="",COUNTIF(რეიტინგი!$D$27:$D$63,CS10&CT10)=1),0,1)+DF10*IF(OR(DH10="N/R",DI10="სხვა",DI10="",COUNTIF(რეიტინგი!$D$27:$D$63,DH10&DI10)=1),0,1)+DU10*IF(OR(DW10="N/R",DX10="სხვა",DX10="",COUNTIF(რეიტინგი!$D$27:$D$63,DW10&DX10)=1),0,1))<0,0,Q10-(AI10*IF(OR(AK10="N/R",AL10="სხვა",AL10="",COUNTIF(რეიტინგი!$D$27:$D$63,AK10&AL10)=1),0,1)+AX10*IF(OR(AZ10="N/R",BA10="სხვა",BA10="",COUNTIF(რეიტინგი!$D$27:$D$63,AZ10&BA10)=1),0,1)+BM10*IF(OR(BO10="N/R",BP10="სხვა",BP10="",COUNTIF(რეიტინგი!$D$27:$D$63,BO10&BP10)=1),0,1)+CB10*IF(OR(CD10="N/R",CE10="სხვა",CE10="",COUNTIF(რეიტინგი!$D$27:$D$63,CD10&CE10)=1),0,1)+CQ10*IF(OR(CS10="N/R",CT10="სხვა",CT10="",COUNTIF(რეიტინგი!$D$27:$D$63,CS10&CT10)=1),0,1)+DF10*IF(OR(DH10="N/R",DI10="სხვა",DI10="",COUNTIF(რეიტინგი!$D$27:$D$63,DH10&DI10)=1),0,1)+DU10*IF(OR(DW10="N/R",DX10="სხვა",DX10="",COUNTIF(რეიტინგი!$D$27:$D$63,DW10&DX10)=1),0,1))) -> 0 | Z10: =AI10+AX10+BM10+CB10+CQ10+DF10+DU10 -> 0 | AA10: =AP10+BE10+BT10+CI10+CX10+DM10+EB10 -> 0 | AI10: =AF10*AH10 -> 0 | AK10: =IF(OR(AL10="სხვა",AND(AC10<>"",AL10="")),"N/R"," ") | AP10: =AM10*AO10 -> 0 | AX10: =AU10*AW10 -> 0 | AZ10: =IF(OR(BA10="სხვა",AND(AR10<>"",BA10="")),"N/R"," ") | BE10: =BB10*BD10 -> 0 | BM10: =BJ10*BL10 -> 0 | BO10: =IF(OR(BP10="სხვა",AND(BG10<>"",BP10="")),"N/R"," ") | BT10: =BQ10*BS10 -> 0 | CB10: =BY10*CA10 -> 0 | CD10: =IF(OR(CE10="სხვა",AND(BV10<>"",CE10="")),"N/R"," ") | CI10: =CF10*CH10 -> 0 | CQ10: =CN10*CP10 -> 0 | CS10: =IF(OR(CT10="სხვა",AND(CK10<>"",CT10="")),"N/R"," ") | CX10: =CU10*CW10 -> 0 | DF10: =DC10*DE10 -> 0 | DH10: =IF(OR(DI10="სხვა",AND(CZ10<>"",DI10="")),"N/R"," ") | DM10: =DJ10*DL10 -> 0 | DU10: =DR10*DT10 -> 0 | DW10: =IF(OR(DX10="სხვა",AND(DO10<>"",DX10="")),"N/R"," ") | EB10: =DY10*EA10 -> 0
A11: 2 | Q11: =N11*P11 -> 0 | U11: =R11*T11 -> 0 | W11: =IF(Q11-Z11<0,0,Q11-Z11) -> 0 | X11: =IF(Q11-(AI11*IF(OR(AK11="N/R",AL11="სხვა",AL11="",COUNTIF(რეიტინგი!$D$27:$D$63,AK11&AL11)=1),0,1)+AX11*IF(OR(AZ11="N/R",BA11="სხვა",BA11="",COUNTIF(რეიტინგი!$D$27:$D$63,AZ11&BA11)=1),0,1)+BM11*IF(OR(BO11="N/R",BP11="სხვა",BP11="",COUNTIF(რეიტინგი!$D$27:$D$63,BO11&BP11)=1),0,1)+CB11*IF(OR(CD11="N/R",CE11="სხვა",CE11="",COUNTIF(რეიტინგი!$D$27:$D$63,CD11&CE11)=1),0,1)+CQ11*IF(OR(CS11="N/R",CT11="სხვა",CT11="",COUNTIF(რეიტინგი!$D$27:$D$63,CS11&CT11)=1),0,1)+DF11*IF(OR(DH11="N/R",DI11="სხვა",DI11="",COUNTIF(რეიტინგი!$D$27:$D$63,DH11&DI11)=1),0,1)+DU11*IF(OR(DW11="N/R",DX11="სხვა",DX11="",COUNTIF(რეიტინგი!$D$27:$D$63,DW11&DX11)=1),0,1))<0,0,Q11-(AI11*IF(OR(AK11="N/R",AL11="სხვა",AL11="",COUNTIF(რეიტინგი!$D$27:$D$63,AK11&AL11)=1),0,1)+AX11*IF(OR(AZ11="N/R",BA11="სხვა",BA11="",COUNTIF(რეიტინგი!$D$27:$D$63,AZ11&BA11)=1),0,1)+BM11*IF(OR(BO11="N/R",BP11="სხვა",BP11="",COUNTIF(რეიტინგი!$D$27:$D$63,BO11&BP11)=1),0,1)+CB11*IF(OR(CD11="N/R",CE11="სხვა",CE11="",COUNTIF(რეიტინგი!$D$27:$D$63,CD11&CE11)=1),0,1)+CQ11*IF(OR(CS11="N/R",CT11="სხვა",CT11="",COUNTIF(რეიტინგი!$D$27:$D$63,CS11&CT11)=1),0,1)+DF11*IF(OR(DH11="N/R",DI11="სხვა",DI11="",COUNTIF(რეიტინგი!$D$27:$D$63,DH11&DI11)=1),0,1)+DU11*IF(OR(DW11="N/R",DX11="სხვა",DX11="",COUNTIF(რეიტინგი!$D$27:$D$63,DW11&DX11)=1),0,1))) -> 0 | Z11: =AI11+AX11+BM11+CB11+CQ11+DF11+DU11 -> 0 | AA11: =AP11+BE11+BT11+CI11+CX11+DM11+EB11 -> 0 | AI11: =AF11*AH11 -> 0 | AK11: =IF(OR(AL11="სხვა",AND(AC11<>"",AL11="")),"N/R"," ") | AP11: =AM11*AO11 -> 0 | AX11: =AU11*AW11 -> 0 | AZ11: =IF(OR(BA11="სხვა",AND(AR11<>"",BA11="")),"N/R"," ") | BE11: =BB11*BD11 -> 0 | BM11: =BJ11*BL11 -> 0 | BO11: =IF(OR(BP11="სხვა",AND(BG11<>"",BP11="")),"N/R"," ") | BT11: =BQ11*BS11 -> 0 | CB11: =BY11*CA11 -> 0 | CD11: =IF(OR(CE11="სხვა",AND(BV11<>"",CE11="")),"N/R"," ") | CI11: =CF11*CH11 -> 0 | CQ11: =CN11*CP11 -> 0 | CS11: =IF(OR(CT11="სხვა",AND(CK11<>"",CT11="")),"N/R"," ") | CX11: =CU11*CW11 -> 0 | DF11: =DC11*DE11 -> 0 | DH11: =IF(OR(DI11="სხვა",AND(CZ11<>"",DI11="")),"N/R"," ") | DM11: =DJ11*DL11 -> 0 | DU11: =DR11*DT11 -> 0 | DW11: =IF(OR(DX11="სხვა",AND(DO11<>"",DX11="")),"N/R"," ") | EB11: =DY11*EA11 -> 0
A12: 3 | Q12: =N12*P12 -> 0 | U12: =R12*T12 -> 0 | W12: =IF(Q12-Z12<0,0,Q12-Z12) -> 0 | X12: =IF(Q12-(AI12*IF(OR(AK12="N/R",AL12="სხვა",AL12="",COUNTIF(რეიტინგი!$D$27:$D$63,AK12&AL12)=1),0,1)+AX12*IF(OR(AZ12="N/R",BA12="სხვა",BA12="",COUNTIF(რეიტინგი!$D$27:$D$63,AZ12&BA12)=1),0,1)+BM12*IF(OR(BO12="N/R",BP12="სხვა",BP12="",COUNTIF(რეიტინგი!$D$27:$D$63,BO12&BP12)=1),0,1)+CB12*IF(OR(CD12="N/R",CE12="სხვა",CE12="",COUNTIF(რეიტინგი!$D$27:$D$63,CD12&CE12)=1),0,1)+CQ12*IF(OR(CS12="N/R",CT12="სხვა",CT12="",COUNTIF(რეიტინგი!$D$27:$D$63,CS12&CT12)=1),0,1)+DF12*IF(OR(DH12="N/R",DI12="სხვა",DI12="",COUNTIF(რეიტინგი!$D$27:$D$63,DH12&DI12)=1),0,1)+DU12*IF(OR(DW12="N/R",DX12="სხვა",DX12="",COUNTIF(რეიტინგი!$D$27:$D$63,DW12&DX12)=1),0,1))<0,0,Q12-(AI12*IF(OR(AK12="N/R",AL12="სხვა",AL12="",COUNTIF(რეიტინგი!$D$27:$D$63,AK12&AL12)=1),0,1)+AX12*IF(OR(AZ12="N/R",BA12="სხვა",BA12="",COUNTIF(რეიტინგი!$D$27:$D$63,AZ12&BA12)=1),0,1)+BM12*IF(OR(BO12="N/R",BP12="სხვა",BP12="",COUNTIF(რეიტინგი!$D$27:$D$63,BO12&BP12)=1),0,1)+CB12*IF(OR(CD12="N/R",CE12="სხვა",CE12="",COUNTIF(რეიტინგი!$D$27:$D$63,CD12&CE12)=1),0,1)+CQ12*IF(OR(CS12="N/R",CT12="სხვა",CT12="",COUNTIF(რეიტინგი!$D$27:$D$63,CS12&CT12)=1),0,1)+DF12*IF(OR(DH12="N/R",DI12="სხვა",DI12="",COUNTIF(რეიტინგი!$D$27:$D$63,DH12&DI12)=1),0,1)+DU12*IF(OR(DW12="N/R",DX12="სხვა",DX12="",COUNTIF(რეიტინგი!$D$27:$D$63,DW12&DX12)=1),0,1))) -> 0 | Z12: =AI12+AX12+BM12+CB12+CQ12+DF12+DU12 -> 0 | AA12: =AP12+BE12+BT12+CI12+CX12+DM12+EB12 -> 0 | AI12: =AF12*AH12 -> 0 | AK12: =IF(OR(AL12="სხვა",AND(AC12<>"",AL12="")),"N/R"," ") | AP12: =AM12*AO12 -> 0 | AX12: =AU12*AW12 -> 0 | AZ12: =IF(OR(BA12="სხვა",AND(AR12<>"",BA12="")),"N/R"," ") | BE12: =BB12*BD12 -> 0 | BM12: =BJ12*BL12 -> 0 | BO12: =IF(OR(BP12="სხვა",AND(BG12<>"",BP12="")),"N/R"," ") | BT12: =BQ12*BS12 -> 0 | CB12: =BY12*CA12 -> 0 | CD12: =IF(OR(CE12="სხვა",AND(BV12<>"",CE12="")),"N/R"," ") | CI12: =CF12*CH12 -> 0 | CQ12: =CN12*CP12 -> 0 | CS12: =IF(OR(CT12="სხვა",AND(CK12<>"",CT12="")),"N/R"," ") | CX12: =CU12*CW12 -> 0 | DF12: =DC12*DE12 -> 0 | DH12: =IF(OR(DI12="სხვა",AND(CZ12<>"",DI12="")),"N/R"," ") | DM12: =DJ12*DL12 -> 0 | DU12: =DR12*DT12 -> 0 | DW12: =IF(OR(DX12="სხვა",AND(DO12<>"",DX12="")),"N/R"," ") | EB12: =DY12*EA12 -> 0
A13: 4 | Q13: =N13*P13 -> 0 | U13: =R13*T13 -> 0 | W13: =IF(Q13-Z13<0,0,Q13-Z13) -> 0 | X13: =IF(Q13-(AI13*IF(OR(AK13="N/R",AL13="სხვა",AL13="",COUNTIF(რეიტინგი!$D$27:$D$63,AK13&AL13)=1),0,1)+AX13*IF(OR(AZ13="N/R",BA13="სხვა",BA13="",COUNTIF(რეიტინგი!$D$27:$D$63,AZ13&BA13)=1),0,1)+BM13*IF(OR(BO13="N/R",BP13="სხვა",BP13="",COUNTIF(რეიტინგი!$D$27:$D$63,BO13&BP13)=1),0,1)+CB13*IF(OR(CD13="N/R",CE13="სხვა",CE13="",COUNTIF(რეიტინგი!$D$27:$D$63,CD13&CE13)=1),0,1)+CQ13*IF(OR(CS13="N/R",CT13="სხვა",CT13="",COUNTIF(რეიტინგი!$D$27:$D$63,CS13&CT13)=1),0,1)+DF13*IF(OR(DH13="N/R",DI13="სხვა",DI13="",COUNTIF(რეიტინგი!$D$27:$D$63,DH13&DI13)=1),0,1)+DU13*IF(OR(DW13="N/R",DX13="სხვა",DX13="",COUNTIF(რეიტინგი!$D$27:$D$63,DW13&DX13)=1),0,1))<0,0,Q13-(AI13*IF(OR(AK13="N/R",AL13="სხვა",AL13="",COUNTIF(რეიტინგი!$D$27:$D$63,AK13&AL13)=1),0,1)+AX13*IF(OR(AZ13="N/R",BA13="სხვა",BA13="",COUNTIF(რეიტინგი!$D$27:$D$63,AZ13&BA13)=1),0,1)+BM13*IF(OR(BO13="N/R",BP13="სხვა",BP13="",COUNTIF(რეიტინგი!$D$27:$D$63,BO13&BP13)=1),0,1)+CB13*IF(OR(CD13="N/R",CE13="სხვა",CE13="",COUNTIF(რეიტინგი!$D$27:$D$63,CD13&CE13)=1),0,1)+CQ13*IF(OR(CS13="N/R",CT13="სხვა",CT13="",COUNTIF(რეიტინგი!$D$27:$D$63,CS13&CT13)=1),0,1)+DF13*IF(OR(DH13="N/R",DI13="სხვა",DI13="",COUNTIF(რეიტინგი!$D$27:$D$63,DH13&DI13)=1),0,1)+DU13*IF(OR(DW13="N/R",DX13="სხვა",DX13="",COUNTIF(რეიტინგი!$D$27:$D$63,DW13&DX13)=1),0,1))) -> 0 | Z13: =AI13+AX13+BM13+CB13+CQ13+DF13+DU13 -> 0 | AA13: =AP13+BE13+BT13+CI13+CX13+DM13+EB13 -> 0 | AI13: =AF13*AH13 -> 0 | AK13: =IF(OR(AL13="სხვა",AND(AC13<>"",AL13="")),"N/R"," ") | AP13: =AM13*AO13 -> 0 | AX13: =AU13*AW13 -> 0 | AZ13: =IF(OR(BA13="სხვა",AND(AR13<>"",BA13="")),"N/R"," ") | BE13: =BB13*BD13 -> 0 | BM13: =BJ13*BL13 -> 0 | BO13: =IF(OR(BP13="სხვა",AND(BG13<>"",BP13="")),"N/R"," ") | BT13: =BQ13*BS13 -> 0 | CB13: =BY13*CA13 -> 0 | CD13: =IF(OR(CE13="სხვა",AND(BV13<>"",CE13="")),"N/R"," ") | CI13: =CF13*CH13 -> 0 | CQ13: =CN13*CP13 -> 0 | CS13: =IF(OR(CT13="სხვა",AND(CK13<>"",CT13="")),"N/R"," ") | CX13: =CU13*CW13 -> 0 | DF13: =DC13*DE13 -> 0 | DH13: =IF(OR(DI13="სხვა",AND(CZ13<>"",DI13="")),"N/R"," ") | DM13: =DJ13*DL13 -> 0 | DU13: =DR13*DT13 -> 0 | DW13: =IF(OR(DX13="სხვა",AND(DO13<>"",DX13="")),"N/R"," ") | EB13: =DY13*EA13 -> 0
A14: 5 | Q14: =N14*P14 -> 0 | U14: =R14*T14 -> 0 | W14: =IF(Q14-Z14<0,0,Q14-Z14) -> 0 | X14: =IF(Q14-(AI14*IF(OR(AK14="N/R",AL14="სხვა",AL14="",COUNTIF(რეიტინგი!$D$27:$D$63,AK14&AL14)=1),0,1)+AX14*IF(OR(AZ14="N/R",BA14="სხვა",BA14="",COUNTIF(რეიტინგი!$D$27:$D$63,AZ14&BA14)=1),0,1)+BM14*IF(OR(BO14="N/R",BP14="სხვა",BP14="",COUNTIF(რეიტინგი!$D$27:$D$63,BO14&BP14)=1),0,1)+CB14*IF(OR(CD14="N/R",CE14="სხვა",CE14="",COUNTIF(რეიტინგი!$D$27:$D$63,CD14&CE14)=1),0,1)+CQ14*IF(OR(CS14="N/R",CT14="სხვა",CT14="",COUNTIF(რეიტინგი!$D$27:$D$63,CS14&CT14)=1),0,1)+DF14*IF(OR(DH14="N/R",DI14="სხვა",DI14="",COUNTIF(რეიტინგი!$D$27:$D$63,DH14&DI14)=1),0,1)+DU14*IF(OR(DW14="N/R",DX14="სხვა",DX14="",COUNTIF(რეიტინგი!$D$27:$D$63,DW14&DX14)=1),0,1))<0,0,Q14-(AI14*IF(OR(AK14="N/R",AL14="სხვა",AL14="",COUNTIF(რეიტინგი!$D$27:$D$63,AK14&AL14)=1),0,1)+AX14*IF(OR(AZ14="N/R",BA14="სხვა",BA14="",COUNTIF(რეიტინგი!$D$27:$D$63,AZ14&BA14)=1),0,1)+BM14*IF(OR(BO14="N/R",BP14="სხვა",BP14="",COUNTIF(რეიტინგი!$D$27:$D$63,BO14&BP14)=1),0,1)+CB14*IF(OR(CD14="N/R",CE14="სხვა",CE14="",COUNTIF(რეიტინგი!$D$27:$D$63,CD14&CE14)=1),0,1)+CQ14*IF(OR(CS14="N/R",CT14="სხვა",CT14="",COUNTIF(რეიტინგი!$D$27:$D$63,CS14&CT14)=1),0,1)+DF14*IF(OR(DH14="N/R",DI14="სხვა",DI14="",COUNTIF(რეიტინგი!$D$27:$D$63,DH14&DI14)=1),0,1)+DU14*IF(OR(DW14="N/R",DX14="სხვა",DX14="",COUNTIF(რეიტინგი!$D$27:$D$63,DW14&DX14)=1),0,1))) -> 0 | Z14: =AI14+AX14+BM14+CB14+CQ14+DF14+DU14 -> 0 | AA14: =AP14+BE14+BT14+CI14+CX14+DM14+EB14 -> 0 | AI14: =AF14*AH14 -> 0 | AK14: =IF(OR(AL14="სხვა",AND(AC14<>"",AL14="")),"N/R"," ") | AP14: =AM14*AO14 -> 0 | AX14: =AU14*AW14 -> 0 | AZ14: =IF(OR(BA14="სხვა",AND(AR14<>"",BA14="")),"N/R"," ") | BE14: =BB14*BD14 -> 0 | BM14: =BJ14*BL14 -> 0 | BO14: =IF(OR(BP14="სხვა",AND(BG14<>"",BP14="")),"N/R"," ") | BT14: =BQ14*BS14 -> 0 | CB14: =BY14*CA14 -> 0 | CD14: =IF(OR(CE14="სხვა",AND(BV14<>"",CE14="")),"N/R"," ") | CI14: =CF14*CH14 -> 0 | CQ14: =CN14*CP14 -> 0 | CS14: =IF(OR(CT14="სხვა",AND(CK14<>"",CT14="")),"N/R"," ") | CX14: =CU14*CW14 -> 0 | DF14: =DC14*DE14 -> 0 | DH14: =IF(OR(DI14="სხვა",AND(CZ14<>"",DI14="")),"N/R"," ") | DM14: =DJ14*DL14 -> 0 | DU14: =DR14*DT14 -> 0 | DW14: =IF(OR(DX14="სხვა",AND(DO14<>"",DX14="")),"N/R"," ") | EB14: =DY14*EA14 -> 0
A15: ... | Q15: =N15*P15 -> 0 | U15: =R15*T15 -> 0 | W15: =IF(Q15-Z15<0,0,Q15-Z15) -> 0 | X15: =IF(Q15-(AI15*IF(OR(AK15="N/R",AL15="სხვა",AL15="",COUNTIF(რეიტინგი!$D$27:$D$63,AK15&AL15)=1),0,1)+AX15*IF(OR(AZ15="N/R",BA15="სხვა",BA15="",COUNTIF(რეიტინგი!$D$27:$D$63,AZ15&BA15)=1),0,1)+BM15*IF(OR(BO15="N/R",BP15="სხვა",BP15="",COUNTIF(რეიტინგი!$D$27:$D$63,BO15&BP15)=1),0,1)+CB15*IF(OR(CD15="N/R",CE15="სხვა",CE15="",COUNTIF(რეიტინგი!$D$27:$D$63,CD15&CE15)=1),0,1)+CQ15*IF(OR(CS15="N/R",CT15="სხვა",CT15="",COUNTIF(რეიტინგი!$D$27:$D$63,CS15&CT15)=1),0,1)+DF15*IF(OR(DH15="N/R",DI15="სხვა",DI15="",COUNTIF(რეიტინგი!$D$27:$D$63,DH15&DI15)=1),0,1)+DU15*IF(OR(DW15="N/R",DX15="სხვა",DX15="",COUNTIF(რეიტინგი!$D$27:$D$63,DW15&DX15)=1),0,1))<0,0,Q15-(AI15*IF(OR(AK15="N/R",AL15="სხვა",AL15="",COUNTIF(რეიტინგი!$D$27:$D$63,AK15&AL15)=1),0,1)+AX15*IF(OR(AZ15="N/R",BA15="სხვა",BA15="",COUNTIF(რეიტინგი!$D$27:$D$63,AZ15&BA15)=1),0,1)+BM15*IF(OR(BO15="N/R",BP15="სხვა",BP15="",COUNTIF(რეიტინგი!$D$27:$D$63,BO15&BP15)=1),0,1)+CB15*IF(OR(CD15="N/R",CE15="სხვა",CE15="",COUNTIF(რეიტინგი!$D$27:$D$63,CD15&CE15)=1),0,1)+CQ15*IF(OR(CS15="N/R",CT15="სხვა",CT15="",COUNTIF(რეიტინგი!$D$27:$D$63,CS15&CT15)=1),0,1)+DF15*IF(OR(DH15="N/R",DI15="სხვა",DI15="",COUNTIF(რეიტინგი!$D$27:$D$63,DH15&DI15)=1),0,1)+DU15*IF(OR(DW15="N/R",DX15="სხვა",DX15="",COUNTIF(რეიტინგი!$D$27:$D$63,DW15&DX15)=1),0,1))) -> 0 | Z15: =AI15+AX15+BM15+CB15+CQ15+DF15+DU15 -> 0 | AA15: =AP15+BE15+BT15+CI15+CX15+DM15+EB15 -> 0 | AI15: =AF15*AH15 -> 0 | AK15: =IF(OR(AL15="სხვა",AND(AC15<>"",AL15="")),"N/R"," ") | AP15: =AM15*AO15 -> 0 | AX15: =AU15*AW15 -> 0 | AZ15: =IF(OR(BA15="სხვა",AND(AR15<>"",BA15="")),"N/R"," ") | BE15: =BB15*BD15 -> 0 | BM15: =BJ15*BL15 -> 0 | BO15: =IF(OR(BP15="სხვა",AND(BG15<>"",BP15="")),"N/R"," ") | BT15: =BQ15*BS15 -> 0 | CB15: =BY15*CA15 -> 0 | CD15: =IF(OR(CE15="სხვა",AND(BV15<>"",CE15="")),"N/R"," ") | CI15: =CF15*CH15 -> 0 | CQ15: =CN15*CP15 -> 0 | CS15: =IF(OR(CT15="სხვა",AND(CK15<>"",CT15="")),"N/R"," ") | CX15: =CU15*CW15 -> 0 | DF15: =DC15*DE15 -> 0 | DH15: =IF(OR(DI15="სხვა",AND(CZ15<>"",DI15="")),"N/R"," ") | DM15: =DJ15*DL15 -> 0 | DU15: =DR15*DT15 -> 0 | DW15: =IF(OR(DX15="სხვა",AND(DO15<>"",DX15="")),"N/R"," ") | EB15: =DY15*EA15 -> 0
B18: გენერალური დირექტორი (დირექტორი) _____________________________
B19: (სახელი გვარი)
B21: ანგარიშგებაზე პასუხისმგებელი პირი ________________________________________________________________
B22: (სახელი გვარი, ტელეფონის ნომერი, ელ–ფოსტის მისამართი)

Sheet რეიტინგი
A1: AM Best | B1: Standard&Poor's | C1: Moody's | D1: Fitch | E1: სხვა
A2: A++ | B2: AAA | C2: Aaa | D2: AAA | E2: N/R | H2: A++ | I2: AM Best | J2: =H2&I2 -> A++AM Best
A3: A+ | B3: AA+ | C3: Aa1 | D3: AA+ | H3: A+ | I3: AM Best | J3: =H3&I3 -> A+AM Best
A4: A | B4: AA | C4: Aa2 | D4: AA | H4: A | I4: AM Best | J4: =H4&I4 -> AAM Best
A5: A- | B5: AA- | C5: Aa3 | D5: AA- | H5: A- | I5: AM Best | J5: =H5&I5 -> A-AM Best
A6: B++ | B6: A+ | C6: A1 | D6: A+ | H6: B++ | I6: AM Best | J6: =H6&I6 -> B++AM Best
A7: B+ | B7: A | C7: A2 | D7: A | H7: B+ | I7: AM Best | J7: =H7&I7 -> B+AM Best
A8: B | B8: A- | C8: A3 | D8: A- | H8: B | I8: AM Best | J8: =H8&I8 -> BAM Best
A9: B- | B9: BBB+ | C9: Baa1 | D9: BBB+ | H9: B- | I9: AM Best | J9: =H9&I9 -> B-AM Best
A10: C++ | B10: BBB | C10: Baa2 | D10: BBB | H10: C++ | I10: AM Best | J10: =H10&I10 -> C++AM Best
A11: C+ | B11: BBB- | C11: Baa3 | D11: BBB- | H11: C+ | I11: AM Best | J11: =H11&I11 -> C+AM Best
A12: C | B12: BB+ | C12: Ba1 | D12: BB+ | H12: C | I12: AM Best | J12: =H12&I12 -> CAM Best
A13: C- | B13: BB | C13: Ba2 | D13: BB | H13: C- | I13: AM Best | J13: =H13&I13 -> C-AM Best
A14: D | B14: BB- | C14: Ba3 | D14: BB- | H14: D | I14: AM Best | J14: =H14&I14 -> DAM Best
... A17: N/R | B17: B- | C17: B3 | D17: B- | H17: N/R | I17: AM Best | J17: =H17&I17 -> N/RAM Best
B18: CCC | C18: Caa | D18: CCC+ | H18: AAA | I18: Standard&Poor's | J18: =H18&I18 -> AAAStandard&Poor's
B19: R | C19: Ca | D19: CCC | H19: AA+ | I19: Standard&Poor's | J19: =H19&I19 -> AA+Standard&Poor's
B20: N/R | C20: C | D20: CCC- | H20: AA | I20: Standard&Poor's | J20: =H20&I20 -> AAStandard&Poor's
C21: N/R | D21: DD | H21: AA- | I21: Standard&Poor's | J21: =H21&I21 -> AA-Standard&Poor's
D22: N/R | H22: A+ | I22: Standard&Poor's | J22: =H22&I22 -> A+Standard&Poor's
H23: A | I23: Standard&Poor's | J23: =H23&I23 -> AStandard&Poor's
H24: A- | I24: Standard&Poor's | J24: =H24&I24 -> A-Standard&Poor's
H25: BBB+ | I25: Standard&Poor's | J25: =H25&I25 -> BBB+Standard&Poor's
H26: BBB | I26: Standard&Poor's | J26: =H26&I26 -> BBBStandard&Poor's
B27: A | D27: B-AM Best | H27: BBB- | I27: Standard&Poor's | J27: =H27&I27 -> BBB-Standard&Poor's
B28: A- | D28: C++AM Best | H28: BB+ | I28: Standard&Poor's | J28: =H28&I28 -> BB+Standard&Poor's
B29: A+ | D29: C+AM Best | H29: BB | I29: Standard&Poor's | J29: =H29&I29 -> BBStandard&Poor's
B30: A++ | D30: CAM Best | H30: BB- | I30: Standard&Poor's | J30: =H30&I30 -> BB-Standard&Poor's
B31: A1 | D31: C-AM Best | H31: B+ | I31: Standard&Poor's | J31: =H31&I31 -> B+Standard&Poor's
B32: A2 | D32: DAM Best | H32: B | I32: Standard&Poor's | J32: =H32&I32 -> BStandard&Poor's
B33: A3 | D33: EAM Best | H33: B- | I33: Standard&Poor's | J33: =H33&I33 -> B-Standard&Poor's
B34: AA | D34: FAM Best | H34: CCC | I34: Standard&Poor's | J34: =H34&I34 -> CCCStandard&Poor's
B35: AA- | D35: N/RAM Best | H35: R | I35: Standard&Poor's | J35: =H35&I35 -> RStandard&Poor's
B36: AA+ | D36: BBStandard&Poor's | H36: N/R | I36: Standard&Poor's | J36: =H36&I36 -> N/RStandard&Poor's
B37: Aa1 | D37: BB-Standard&Poor's | H37: Aaa | I37: Moody's | J37: =H37&I37 -> AaaMoody's
B38: Aa2 | D38: B+Standard&Poor's | H38: Aa1 | I38: Moody's | J38: =H38&I38 -> Aa1Moody's
... B63: C++ | D63: N/Rსხვა | H63: A- | I63: Fitch | J63: =H63&I63 -> A-Fitch
B64: Ca | H64: BBB+ | I64: Fitch | J64: =H64&I64 -> BBB+Fitch
B65: Caa | H65: BBB | I65: Fitch | J65: =H65&I65 -> BBBFitch
B66: CCC | H66: BBB- | I66: Fitch | J66: =H66&I66 -> BBB-Fitch
B67: CCC- | H67: BB+ | I67: Fitch | J67: =H67&I67 -> BB+Fitch
B68: CCC+ | H68: BB | I68: Fitch | J68: =H68&I68 -> BBFitch
B69: D | H69: BB- | I69: Fitch | J69: =H69&I69 -> BB-Fitch
B70: DD | H70: B+ | I70: Fitch | J70: =H70&I70 -> B+Fitch
B71: E | H71: B | I71: Fitch | J71: =H71&I71 -> BFitch
B72: F | H72: B- | I72: Fitch | J72: =H72&I72 -> B-Fitch
B73: N/R | H73: CCC+ | I73: Fitch | J73: =H73&I73 -> CCC+Fitch
B74: R | H74: CCC | I74: Fitch | J74: =H74&I74 -> CCCFitch
H75: CCC- | I75: Fitch | J75: =H75&I75 -> CCC-Fitch
H76: DD | I76: Fitch | J76: =H76&I76 -> DDFitch
H77: N/R | I77: Fitch | J77: =H77&I77 -> N/RFitch
H78: N/R | J78: =H78&I78 -> N/R
H79: N/R | I79: სხვა | J79: =H79&I79 -> N/Rსხვა
